BEGIN:VCALENDAR
VERSION:2.0
PRODID:-//Visit Potter-Tioga Pennsylvania - ECPv6.15.12.2//NONSGML v1.0//EN
CALSCALE:GREGORIAN
METHOD:PUBLISH
X-ORIGINAL-URL:https://www.visitpottertioga.com
X-WR-CALDESC:Events for Visit Potter-Tioga Pennsylvania
REFRESH-INTERVAL;VALUE=DURATION:PT1H
X-Robots-Tag:noindex
X-PUBLISHED-TTL:PT1H
BEGIN:VTIMEZONE
TZID:America/New_York
BEGIN:DAYLIGHT
TZOFFSETFROM:-0500
TZOFFSETTO:-0400
TZNAME:EDT
DTSTART:20240310T070000
END:DAYLIGHT
BEGIN:STANDARD
TZOFFSETFROM:-0400
TZOFFSETTO:-0500
TZNAME:EST
DTSTART:20241103T060000
END:STANDARD
BEGIN:DAYLIGHT
TZOFFSETFROM:-0500
TZOFFSETTO:-0400
TZNAME:EDT
DTSTART:20250309T070000
END:DAYLIGHT
BEGIN:STANDARD
TZOFFSETFROM:-0400
TZOFFSETTO:-0500
TZNAME:EST
DTSTART:20251102T060000
END:STANDARD
BEGIN:DAYLIGHT
TZOFFSETFROM:-0500
TZOFFSETTO:-0400
TZNAME:EDT
DTSTART:20260308T070000
END:DAYLIGHT
BEGIN:STANDARD
TZOFFSETFROM:-0400
TZOFFSETTO:-0500
TZNAME:EST
DTSTART:20261101T060000
END:STANDARD
END:VTIMEZONE
BEGIN:VEVENT
DTSTART;TZID=America/New_York:20251115T110000
DTEND;TZID=America/New_York:20251115T123000
DTSTAMP:20260424T101549
CREATED:20251030T145411Z
LAST-MODIFIED:20251030T145411Z
UID:10003462-1763204400-1763209800@www.visitpottertioga.com
SUMMARY:Pollinator Class at the Potter County Artisan Center
DESCRIPTION:Master Gardener Keith Adkins will be teaching a Pollinator class on Saturday\, November 15 from 11:00 am till 12:30 pm at the Potter County Artisan Center in Coudersport. Students will be learning about how to plan their own Pollinator Plot – seeds included!  Ages 10 and up welcome. \nTo register for these classes or events\, please call the Potter County Artisan Co-op on 814-274-8165.  The co-op is located at 227 N. Main Street. Hours are open from 9:00 am to 5:00 pm Monday through Saturday. \nEvents and classes are supported in part by the Pennsylvania Council on the Arts and the Elk County Council on the Arts\, state agencies funded by the Commonwealth of Pennsylvania.
URL:https://www.visitpottertioga.com/event/pollinator-class-at-the-potter-county-artisan-center
LOCATION:Potter County Artisan Center\, 227 N Main Street\, Coudersport\, PA\, United States
CATEGORIES:General
ATTACH;FMTTYPE=image/jpeg:https://www.visitpottertioga.com/wp-content/uploads/2025/10/571754185_1552233649564772_4043214318857488136_n.jpg
END:VEVENT
END:VCALENDAR