BEGIN:VCALENDAR
VERSION:2.0
PRODID:-//Visit Potter-Tioga Pennsylvania - ECPv6.15.12.2//NONSGML v1.0//EN
CALSCALE:GREGORIAN
METHOD:PUBLISH
X-WR-CALNAME:Visit Potter-Tioga Pennsylvania
X-ORIGINAL-URL:https://www.visitpottertioga.com
X-WR-CALDESC:Events for Visit Potter-Tioga Pennsylvania
REFRESH-INTERVAL;VALUE=DURATION:PT1H
X-Robots-Tag:noindex
X-PUBLISHED-TTL:PT1H
BEGIN:VTIMEZONE
TZID:America/New_York
BEGIN:DAYLIGHT
TZOFFSETFROM:-0500
TZOFFSETTO:-0400
TZNAME:EDT
DTSTART:20240310T070000
END:DAYLIGHT
BEGIN:STANDARD
TZOFFSETFROM:-0400
TZOFFSETTO:-0500
TZNAME:EST
DTSTART:20241103T060000
END:STANDARD
BEGIN:DAYLIGHT
TZOFFSETFROM:-0500
TZOFFSETTO:-0400
TZNAME:EDT
DTSTART:20250309T070000
END:DAYLIGHT
BEGIN:STANDARD
TZOFFSETFROM:-0400
TZOFFSETTO:-0500
TZNAME:EST
DTSTART:20251102T060000
END:STANDARD
BEGIN:DAYLIGHT
TZOFFSETFROM:-0500
TZOFFSETTO:-0400
TZNAME:EDT
DTSTART:20260308T070000
END:DAYLIGHT
BEGIN:STANDARD
TZOFFSETFROM:-0400
TZOFFSETTO:-0500
TZNAME:EST
DTSTART:20261101T060000
END:STANDARD
BEGIN:DAYLIGHT
TZOFFSETFROM:-0500
TZOFFSETTO:-0400
TZNAME:EDT
DTSTART:20270314T070000
END:DAYLIGHT
BEGIN:STANDARD
TZOFFSETFROM:-0400
TZOFFSETTO:-0500
TZNAME:EST
DTSTART:20271107T060000
END:STANDARD
END:VTIMEZONE
BEGIN:VEVENT
DTSTART;TZID=America/New_York:20251122T000000
DTEND;TZID=America/New_York:20260111T180000
DTSTAMP:20260424T001128
CREATED:20251112T161305Z
LAST-MODIFIED:20251112T161305Z
UID:10003476-1763769600-1768154400@www.visitpottertioga.com
SUMMARY:Exhibit - Wrapped in Tradition - Wellsboro's Shrink-Wrapped Ornaments
DESCRIPTION:The Gmeiner Art & Cultural Center is excited to present its December Atrium Gallery exhibit\, “Wrapped in Tradition: Wellsboro’s Shrink-Wrapped Ornaments\,” featuring a dazzling array of ornaments from the Wellsboro Glass Historical Association (WGHA) collection. The exhibit celebrates the innovative history and artistry of Wellsboro’s glass ornament production\, with a special focus on the unique shrink-wrap designs that have become cherished holiday keepsakes. \nThe opening reception will take place on Saturday\, November 22nd from 2:00 to 4:00 PM\, and is free to the public. \n“Wrapped in Tradition: Wellsboro’s Shrink-Wrapped Ornaments” will be on display until Sunday\, January 11th. Don’t miss this opportunity to experience a piece of American holiday history and celebrate the artistry and creativity that continue to make Wellsboro a special part of Christmas for families nationwide. \nThe Gmeiner is open from 12-6PM Tuesdays through Sundays and is located at 134 Main Street in Wellsboro behind the Green Free Library. Admission to the gallery is free.
URL:https://www.visitpottertioga.com/event/exhibit-wrapped-in-tradition-wellsboros-shrink-wrapped-ornaments
LOCATION:Gmeiner Art & Cultural Center\, 134 Main Street\, Wellsboro\, PA\, 16901\, United States
CATEGORIES:General
ATTACH;FMTTYPE=image/jpeg:https://www.visitpottertioga.com/wp-content/uploads/2025/11/Gmeiner.jpg
END:VEVENT
BEGIN:VEVENT
DTSTART;TZID=America/New_York:20251122T000000
DTEND;TZID=America/New_York:20260111T180000
DTSTAMP:20260424T001128
CREATED:20251112T161822Z
LAST-MODIFIED:20251112T161850Z
UID:10003477-1763769600-1768154400@www.visitpottertioga.com
SUMMARY:Exhibit - 2025 Juried Art Exhibit
DESCRIPTION:The Gmeiner Art & Cultural Center proudly announces its upcoming Main Gallery exhibition for December: the 2025 Regional Juried Exhibit. This highly competitive annual show celebrates the finest two-dimensional artworks from our region. The opening reception for both the Main Gallery and Atrium Gallery exhibits will take place on Saturday\, November 22nd from 2–4 PM. The public is invited to attend\, enjoy light refreshments\, and meet the artists. Admission is free\, and awards will be announced at 3 PM. The exhibition will remain on view through Sunday\, January 11th. \nThe Gmeiner is open from 12-6PM Tuesdays through Sundays and is located at 134 Main Street in Wellsboro behind the Green Free Library. Admission to the gallery is free.
URL:https://www.visitpottertioga.com/event/exhibit
LOCATION:Gmeiner Art & Cultural Center\, 134 Main Street\, Wellsboro\, PA\, 16901\, United States
CATEGORIES:General
ATTACH;FMTTYPE=image/jpeg:https://www.visitpottertioga.com/wp-content/uploads/2025/11/Picture2.jpg
END:VEVENT
BEGIN:VEVENT
DTSTART;TZID=America/New_York:20251206T090000
DTEND;TZID=America/New_York:20251206T200000
DTSTAMP:20260424T001128
CREATED:20250429T160047Z
LAST-MODIFIED:20250429T160047Z
UID:10003092-1765011600-1765051200@www.visitpottertioga.com
SUMMARY:Dickens of a Christmas
DESCRIPTION:An annual holiday celebration returns to historic downtown Wellsboro to once again kick off the holiday season! \nJoin the celebration on Saturday\, December 6th\, 2025\, for the 41st annual Dickens of a Christmas. Wellsboro’s Main Street and the surrounding side streets will be closed to traffic and become once again transformed into an early Victorian marketplace featuring all types of delectable wares for eating and drinking\, as well as delightful gift items for wearing or enjoying. \nBeginning at 9:00 a.m.\, the food and craft vendors\, strolling musicians and singers\, dancers\, and street corner thespians will spread up and down Main Street\, extending on to Waln and Crafton Street\, and a portion of Central Avenue. Performers and vendors will be appropriately costumed and decorated to create a Victorian atmosphere that fits so well with the Wellsboro Gas Lights. With the streets closed to traffic\, you have the freedom to stroll and enjoy the festivities. \nThroughout the weekend\, local businesses\, arts organizations\, and lodging partners put together a full menu of activity to offer visitors the perfect holiday destination to kick off their season of holiday celebration.
URL:https://www.visitpottertioga.com/event/dickens-of-a-christmas
LOCATION:Downtown Wellsboro\, Wellsboro\, PA\, 16901
CATEGORIES:General
ATTACH;FMTTYPE=image/png:https://www.visitpottertioga.com/wp-content/uploads/2025/04/dickens-4a.png
END:VEVENT
BEGIN:VEVENT
DTSTART;TZID=America/New_York:20251206T100000
DTEND;TZID=America/New_York:20251206T160000
DTSTAMP:20260424T001128
CREATED:20251111T164123Z
LAST-MODIFIED:20251111T164123Z
UID:10003466-1765015200-1765036800@www.visitpottertioga.com
SUMMARY:Mainesburg Community Christmas
DESCRIPTION:The holiday spirit is coming to life across Mainesburg on Saturday\, December 6th\, at this year’s Community Christmas Celebration\, a joyful\, family-centered event filled with festive activities\, entertainment\, and delicious treats for all ages!\n\nChildren 12 and under can enjoy all activities free of charge\, while adults are invited to join in the holiday fun by donation — supporting future community events and programs.\n\nThe celebration features a full lineup of free family activities and entertainment.  Be part of the holiday celebration with family and friends!
URL:https://www.visitpottertioga.com/event/mainesburg-community-christmas
LOCATION:Mainesburg Community Center\, 103 Williams Rd\, Mainesburg\, PA\, 16932
CATEGORIES:General
ATTACH;FMTTYPE=image/png:https://www.visitpottertioga.com/wp-content/uploads/2025/11/mainesburg.png
ORGANIZER;CN="Mainesburg Hometown Happenings":MAILTO:billlilly61@gmail.com
END:VEVENT
BEGIN:VEVENT
DTSTART;TZID=America/New_York:20251206T190000
DTEND;TZID=America/New_York:20251206T200000
DTSTAMP:20260424T001128
CREATED:20251111T170738Z
LAST-MODIFIED:20251111T170738Z
UID:10003469-1765047600-1765051200@www.visitpottertioga.com
SUMMARY:Full Moon Hike or Snowshoe at Cherry Springs State Park
DESCRIPTION:Dress for the season and enjoy a Full Moon Hike or Snowshoe at Cherry Springs State Park being offered on December 6th and again on January 3rd. \nThe event commences at 7 PM – 8 PM; meet at the Astronomy Observation Field\, Kiosk by Restrooms \nTake a moonlit evening stroll along crisp\, wintery landscape. Join a park educator for a 1.5 mile walk along level ground. Snowshoes will be available as conditions and attendance allow.  Learn about winter constellations and folklore along the way with a laser-guided tour of the night sky. Telescopes available if conditions are favorable.  After the hike\, sip on warm hot chocolate or tea by a fire in the historic CCC pavilion. No dogs\, please.
URL:https://www.visitpottertioga.com/event/full-moon-hike-or-snowshoe-at-cherry-springs-state-park/2025-12-06
LOCATION:Cherry Springs State Park\, 4551 Cherry Springs Rd\, Galeton\, PA\, 16922\, United States
CATEGORIES:General
ATTACH;FMTTYPE=image/jpeg:https://www.visitpottertioga.com/wp-content/uploads/2025/03/146201603.xpGVlgv6.MilkyWayRedPine.jpg
ORGANIZER;CN="Department of Conservation and Natural Resources":MAILTO:SinnemahoningSP@pa.gov
END:VEVENT
END:VCALENDAR