BEGIN:VCALENDAR
VERSION:2.0
PRODID:-//Visit Potter-Tioga Pennsylvania - ECPv6.15.12.2//NONSGML v1.0//EN
CALSCALE:GREGORIAN
METHOD:PUBLISH
X-WR-CALNAME:Visit Potter-Tioga Pennsylvania
X-ORIGINAL-URL:https://www.visitpottertioga.com
X-WR-CALDESC:Events for Visit Potter-Tioga Pennsylvania
REFRESH-INTERVAL;VALUE=DURATION:PT1H
X-Robots-Tag:noindex
X-PUBLISHED-TTL:PT1H
BEGIN:VTIMEZONE
TZID:America/New_York
BEGIN:DAYLIGHT
TZOFFSETFROM:-0500
TZOFFSETTO:-0400
TZNAME:EDT
DTSTART:20250309T070000
END:DAYLIGHT
BEGIN:STANDARD
TZOFFSETFROM:-0400
TZOFFSETTO:-0500
TZNAME:EST
DTSTART:20251102T060000
END:STANDARD
BEGIN:DAYLIGHT
TZOFFSETFROM:-0500
TZOFFSETTO:-0400
TZNAME:EDT
DTSTART:20260308T070000
END:DAYLIGHT
BEGIN:STANDARD
TZOFFSETFROM:-0400
TZOFFSETTO:-0500
TZNAME:EST
DTSTART:20261101T060000
END:STANDARD
BEGIN:DAYLIGHT
TZOFFSETFROM:-0500
TZOFFSETTO:-0400
TZNAME:EDT
DTSTART:20270314T070000
END:DAYLIGHT
BEGIN:STANDARD
TZOFFSETFROM:-0400
TZOFFSETTO:-0500
TZNAME:EST
DTSTART:20271107T060000
END:STANDARD
END:VTIMEZONE
BEGIN:VEVENT
DTSTART;TZID=America/New_York:20260117T100000
DTEND;TZID=America/New_York:20260117T150000
DTSTAMP:20260423T205244
CREATED:20260114T154947Z
LAST-MODIFIED:20260114T154947Z
UID:10003523-1768644000-1768662000@www.visitpottertioga.com
SUMMARY:Winterfest 2026 at Hills Creek State Park
DESCRIPTION:Free Family Fun at Hills Creek State Park is the perfect cure for January Cabin Fever! \nActivities being planned include: XC skiing\, snowshoeing\, ice skating\, sledding\, kids crafts\, displays\, educational programs\, demonstrations and more! More details to be announced closer to the event. Watch stepoutdoors.org website and Facebook pages. \nEnjoy hot chocolate and hot dogs – FREE while they last! \nSkis\, snowshoes and skates provided in limited quantities or bring your own. Don’t forget your sled! There’s fun for the entire family. \n***If by chance there is limited snow or ice\, some activities may be altered ***
URL:https://www.visitpottertioga.com/event/winterfest-2026-at-hills-creek-state-park
LOCATION:Hills Creek State Park\, 111 Spillway Road\, Wellsboro\, 16901\, United States
CATEGORIES:General
ATTACH;FMTTYPE=image/jpeg:https://www.visitpottertioga.com/wp-content/uploads/2023/11/winterfest-2024.jpg
ORGANIZER;CN="Department of Conservation and Natural Resources":MAILTO:SinnemahoningSP@pa.gov
END:VEVENT
END:VCALENDAR