BEGIN:VCALENDAR
VERSION:2.0
PRODID:-//Visit Potter-Tioga Pennsylvania - ECPv6.15.12.2//NONSGML v1.0//EN
CALSCALE:GREGORIAN
METHOD:PUBLISH
X-ORIGINAL-URL:https://www.visitpottertioga.com
X-WR-CALDESC:Events for Visit Potter-Tioga Pennsylvania
REFRESH-INTERVAL;VALUE=DURATION:PT1H
X-Robots-Tag:noindex
X-PUBLISHED-TTL:PT1H
BEGIN:VTIMEZONE
TZID:America/New_York
BEGIN:DAYLIGHT
TZOFFSETFROM:-0500
TZOFFSETTO:-0400
TZNAME:EDT
DTSTART:20250309T070000
END:DAYLIGHT
BEGIN:STANDARD
TZOFFSETFROM:-0400
TZOFFSETTO:-0500
TZNAME:EST
DTSTART:20251102T060000
END:STANDARD
BEGIN:DAYLIGHT
TZOFFSETFROM:-0500
TZOFFSETTO:-0400
TZNAME:EDT
DTSTART:20260308T070000
END:DAYLIGHT
BEGIN:STANDARD
TZOFFSETFROM:-0400
TZOFFSETTO:-0500
TZNAME:EST
DTSTART:20261101T060000
END:STANDARD
BEGIN:DAYLIGHT
TZOFFSETFROM:-0500
TZOFFSETTO:-0400
TZNAME:EDT
DTSTART:20270314T070000
END:DAYLIGHT
BEGIN:STANDARD
TZOFFSETFROM:-0400
TZOFFSETTO:-0500
TZNAME:EST
DTSTART:20271107T060000
END:STANDARD
END:VTIMEZONE
BEGIN:VEVENT
DTSTART;TZID=America/New_York:20260124T100000
DTEND;TZID=America/New_York:20260124T160000
DTSTAMP:20260423T205801
CREATED:20251217T185834Z
LAST-MODIFIED:20251217T185834Z
UID:10003478-1769248800-1769270400@www.visitpottertioga.com
SUMMARY:Winter in the Lumber Camp
DESCRIPTION:Winter in the Lumber Camp at the Pennsylvania Lumber Museum is an annual event to enjoy outdoor fun in the snow with sledding\, snow men\, and snow art activities. Try your hand at cross-country skis and snowshoes with the help of equipment provided by PA DCNR and volunteer instructors. \nTour the wonderful Pennsylvania Lumber Museum and enjoy refreshments throughout the day.
URL:https://www.visitpottertioga.com/event/winter-in-the-lumber-camp
LOCATION:Pennsylvania Lumber Museum\, 5660 US 6 West\, Ulysses\, PA\, 16948\, United States
CATEGORIES:General
ATTACH;FMTTYPE=image/webp:https://www.visitpottertioga.com/wp-content/uploads/2024/11/Lumber-Camp-2023.webp
ORGANIZER;CN="Pennsylvania Lumber Museum":MAILTO:palumbermuseum@gmail.com
END:VEVENT
BEGIN:VEVENT
DTSTART;TZID=America/New_York:20260124T120000
DTEND;TZID=America/New_York:20260124T140000
DTSTAMP:20260423T205801
CREATED:20260106T144354Z
LAST-MODIFIED:20260106T144354Z
UID:10003487-1769256000-1769263200@www.visitpottertioga.com
SUMMARY:Cross Country Skiing for Beginners
DESCRIPTION:Join a park educator\, for a fun lesson on the popular sport of cross-country skiing at beautiful Sinnemahoning State Park! \nJoin a park educator\, for a fun lesson on the popular sport of cross-country skiing. Program will begin indoors with an introduction to cross country skiing equipment and styles\, followed by a guided practice instruction on level ground\, then a short excursion on the trail. \nProgram is free but registration is required. \n 
URL:https://www.visitpottertioga.com/event/cross-country-skiing-for-beginners-2
LOCATION:Sinnemahoning State Park\, 4843 Park Road\, Austin\, PA\, 16720\, United States
CATEGORIES:General
ATTACH;FMTTYPE=image/jpeg:https://www.visitpottertioga.com/wp-content/uploads/2023/12/cross-country-skiing-for-beginners.jpg
END:VEVENT
END:VCALENDAR