BEGIN:VCALENDAR
VERSION:2.0
PRODID:-//Visit Potter-Tioga Pennsylvania - ECPv6.15.12.2//NONSGML v1.0//EN
CALSCALE:GREGORIAN
METHOD:PUBLISH
X-WR-CALNAME:Visit Potter-Tioga Pennsylvania
X-ORIGINAL-URL:https://www.visitpottertioga.com
X-WR-CALDESC:Events for Visit Potter-Tioga Pennsylvania
REFRESH-INTERVAL;VALUE=DURATION:PT1H
X-Robots-Tag:noindex
X-PUBLISHED-TTL:PT1H
BEGIN:VTIMEZONE
TZID:America/New_York
BEGIN:DAYLIGHT
TZOFFSETFROM:-0500
TZOFFSETTO:-0400
TZNAME:EDT
DTSTART:20250309T070000
END:DAYLIGHT
BEGIN:STANDARD
TZOFFSETFROM:-0400
TZOFFSETTO:-0500
TZNAME:EST
DTSTART:20251102T060000
END:STANDARD
BEGIN:DAYLIGHT
TZOFFSETFROM:-0500
TZOFFSETTO:-0400
TZNAME:EDT
DTSTART:20260308T070000
END:DAYLIGHT
BEGIN:STANDARD
TZOFFSETFROM:-0400
TZOFFSETTO:-0500
TZNAME:EST
DTSTART:20261101T060000
END:STANDARD
BEGIN:DAYLIGHT
TZOFFSETFROM:-0500
TZOFFSETTO:-0400
TZNAME:EDT
DTSTART:20270314T070000
END:DAYLIGHT
BEGIN:STANDARD
TZOFFSETFROM:-0400
TZOFFSETTO:-0500
TZNAME:EST
DTSTART:20271107T060000
END:STANDARD
END:VTIMEZONE
BEGIN:VEVENT
DTSTART;TZID=America/New_York:20260131T180000
DTEND;TZID=America/New_York:20260131T220000
DTSTAMP:20260423T205242
CREATED:20260113T145115Z
LAST-MODIFIED:20260113T145256Z
UID:10003516-1769882400-1769896800@www.visitpottertioga.com
SUMMARY:Packer Park Pool Benefit
DESCRIPTION:[vc_row][vc_column][vc_column_text css=””]Head over to the Deane Center on Saturday\, January 31st and bask in summer vibes while supporting a great cause. \nFloat on Through the Decades is a splashy night of music\, dancing\, and good vibes in support of Packer Park Pool. Grab a float\, hit the dance floor\, and enjoy live music from Ostrich Hat\, a nacho bar\, silent auction\, raffles\, and more. Come ready to relive your favorite decades and help keep our community pool thriving. \nA general admission ticket gives you access to all the fun this evening has to offer! Access to the silent auction\, cash bar\, raffles\, a seat in the risers\, nacho bar and most importantly … your spot on the dance floor! \nTable seating available for an extra fee.[/vc_column_text][/vc_column][/vc_row]
URL:https://www.visitpottertioga.com/event/packer-park-pool-benefit
LOCATION:Deane Center for the Performing Arts\, 104 Main Street\, Wellsboro\, PA\, 16901\, United States
CATEGORIES:General
ATTACH;FMTTYPE=image/png:https://www.visitpottertioga.com/wp-content/uploads/2026/01/8cf90dae-ef2c-481c-b850-c97fd897104c.png
END:VEVENT
END:VCALENDAR