BEGIN:VCALENDAR
VERSION:2.0
PRODID:-//Visit Potter-Tioga Pennsylvania - ECPv6.15.12.2//NONSGML v1.0//EN
CALSCALE:GREGORIAN
METHOD:PUBLISH
X-ORIGINAL-URL:https://www.visitpottertioga.com
X-WR-CALDESC:Events for Visit Potter-Tioga Pennsylvania
REFRESH-INTERVAL;VALUE=DURATION:PT1H
X-Robots-Tag:noindex
X-PUBLISHED-TTL:PT1H
BEGIN:VTIMEZONE
TZID:America/New_York
BEGIN:DAYLIGHT
TZOFFSETFROM:-0500
TZOFFSETTO:-0400
TZNAME:EDT
DTSTART:20250309T070000
END:DAYLIGHT
BEGIN:STANDARD
TZOFFSETFROM:-0400
TZOFFSETTO:-0500
TZNAME:EST
DTSTART:20251102T060000
END:STANDARD
BEGIN:DAYLIGHT
TZOFFSETFROM:-0500
TZOFFSETTO:-0400
TZNAME:EDT
DTSTART:20260308T070000
END:DAYLIGHT
BEGIN:STANDARD
TZOFFSETFROM:-0400
TZOFFSETTO:-0500
TZNAME:EST
DTSTART:20261101T060000
END:STANDARD
BEGIN:DAYLIGHT
TZOFFSETFROM:-0500
TZOFFSETTO:-0400
TZNAME:EDT
DTSTART:20270314T070000
END:DAYLIGHT
BEGIN:STANDARD
TZOFFSETFROM:-0400
TZOFFSETTO:-0500
TZNAME:EST
DTSTART:20271107T060000
END:STANDARD
END:VTIMEZONE
BEGIN:VEVENT
DTSTART;TZID=America/New_York:20260218T150000
DTEND;TZID=America/New_York:20260218T170000
DTSTAMP:20260423T191836
CREATED:20260126T154525Z
LAST-MODIFIED:20260126T154811Z
UID:10003534-1771426800-1771434000@www.visitpottertioga.com
SUMMARY:Kid's "Wishing Star" Sewing Class
DESCRIPTION:Teach the next generation of creative artists one of the skills they can enjoy for a lifetime! \nA Kids’ Sewing Class with Brenda Bonczar is being offered on Wednesday\, February 18th\, from 3:30 pm – 5:00 pm at the Potter County Artisan Center. Price of the class is $30.  All materials included. \nTo register for these classes or events\, please call the Potter County Artisan Co-op on 814-274-8165.  The co-op is located at 227 N. Main Street.  The co-op’s hours are Monday through Saturday 9:00-5:00. \nNeed an activity while visiting the area?  Potter County Artisan Co-op can arrange a private group class for you and your friends at your convenience.  Just call ahead or message us on Facebook. 
URL:https://www.visitpottertioga.com/event/kids-wishing-star-sewing-class
LOCATION:Potter County Artisan Center\, 227 N Main Street\, Coudersport\, PA\, United States
CATEGORIES:General
ATTACH;FMTTYPE=image/jpeg:https://www.visitpottertioga.com/wp-content/uploads/2026/01/621844433_1621286229326180_5621061213925087537_n.jpg
END:VEVENT
END:VCALENDAR