BEGIN:VCALENDAR
VERSION:2.0
PRODID:-//Visit Potter-Tioga Pennsylvania - ECPv6.15.12.2//NONSGML v1.0//EN
CALSCALE:GREGORIAN
METHOD:PUBLISH
X-WR-CALNAME:Visit Potter-Tioga Pennsylvania
X-ORIGINAL-URL:https://www.visitpottertioga.com
X-WR-CALDESC:Events for Visit Potter-Tioga Pennsylvania
REFRESH-INTERVAL;VALUE=DURATION:PT1H
X-Robots-Tag:noindex
X-PUBLISHED-TTL:PT1H
BEGIN:VTIMEZONE
TZID:America/New_York
BEGIN:DAYLIGHT
TZOFFSETFROM:-0500
TZOFFSETTO:-0400
TZNAME:EDT
DTSTART:20250309T070000
END:DAYLIGHT
BEGIN:STANDARD
TZOFFSETFROM:-0400
TZOFFSETTO:-0500
TZNAME:EST
DTSTART:20251102T060000
END:STANDARD
BEGIN:DAYLIGHT
TZOFFSETFROM:-0500
TZOFFSETTO:-0400
TZNAME:EDT
DTSTART:20260308T070000
END:DAYLIGHT
BEGIN:STANDARD
TZOFFSETFROM:-0400
TZOFFSETTO:-0500
TZNAME:EST
DTSTART:20261101T060000
END:STANDARD
BEGIN:DAYLIGHT
TZOFFSETFROM:-0500
TZOFFSETTO:-0400
TZNAME:EDT
DTSTART:20270314T070000
END:DAYLIGHT
BEGIN:STANDARD
TZOFFSETFROM:-0400
TZOFFSETTO:-0500
TZNAME:EST
DTSTART:20271107T060000
END:STANDARD
END:VTIMEZONE
BEGIN:VEVENT
DTSTART;VALUE=DATE:20260220
DTEND;VALUE=DATE:20260223
DTSTAMP:20260423T191641
CREATED:20260108T150439Z
LAST-MODIFIED:20260108T150439Z
UID:10003491-1771545600-1771804799@www.visitpottertioga.com
SUMMARY:2026 Wellsboro Film Festival
DESCRIPTION:The Wellsboro Film Festival\, where independent cinema meets small-town charm\, offers film fans a weekend full of great cinema! \nFounded by collaborating filmmakers William DeJessa\, Thomas Smith\, and Thomas Verdi\, the festival team wants to help others bring their stories to the screen.  The Wellsboro Film Festival is not just about the films\, but about the entire filmmaker experience. At Wellsboro Film Festival\, every accepted filmmaker receives a free two nights’ stay at the historic Penn Wells Hotel. All accepted films will screen at the Arcadia Theatre\, located right next to the hotel. Wellsboro\, PA\, with its quaint Main Street\, embodies the essence of small-town USA—literally—as it’s served as the setting for the Hallmark movie Christmas Comes Twice and comes with its very own Grand Canyon. \nBe part of this creative and entertaining celebration of indie cinema\, community\, and camaraderie in this picture-perfect mountainside town.
URL:https://www.visitpottertioga.com/event/2026-wellsboro-film-festival
LOCATION:Arcadia Theatre\, 50 Main St.\, Wellsboro\, PA\, 16901
CATEGORIES:General
ATTACH;FMTTYPE=image/jpeg:https://www.visitpottertioga.com/wp-content/uploads/2026/01/wellsboro-film-festival-thomas-verdi-on-stage-2048x1536-1.jpg
ORGANIZER;CN="WellsboroFilm Festival":MAILTO:staff@wellsborofilmfestival.com
END:VEVENT
BEGIN:VEVENT
DTSTART;VALUE=DATE:20260220
DTEND;VALUE=DATE:20260223
DTSTAMP:20260423T191641
CREATED:20260108T165241Z
LAST-MODIFIED:20260108T165241Z
UID:10003498-1771545600-1771804799@www.visitpottertioga.com
SUMMARY:Winter Weekend in Wellsboro
DESCRIPTION:Taking place across four themed weekends in February\, this winter activities in Wellsboro promise something special for everyone\, from ice bars and dancing to crafts\, concerts\, and culinary adventures. Mark your calendars and prepare to make memories in the heart of this charming town. \nFebruary 21: Lights\, Canvas\, Actions! \nThis weekend is all about creativity\, culture\, and movie fun! \n\nWellsboro Film Festival\nPaint and hands-on crafts activities\n“Picasso at the Lapin Agile” by Hamilton Gibson Productions
URL:https://www.visitpottertioga.com/event/winter-weekend-in-wellsboro-3
LOCATION:Various locations around Wellsboro
CATEGORIES:General
ATTACH;FMTTYPE=image/jpeg:https://www.visitpottertioga.com/wp-content/uploads/2026/01/ice-wellsboro.jpg
END:VEVENT
BEGIN:VEVENT
DTSTART;TZID=America/New_York:20260220T190000
DTEND;TZID=America/New_York:20260220T210000
DTSTAMP:20260423T191641
CREATED:20260120T162924Z
LAST-MODIFIED:20260120T162924Z
UID:10003529-1771614000-1771621200@www.visitpottertioga.com
SUMMARY:Pop's Culture Shoppe "Winter Games"
DESCRIPTION:Join in the fun at Pop’s Culture Shoppe in the heart of Wellsboro for a Free “Winter Games Olympics” with various competitions in February: \n·        Friday Feb. 6th – 6:00pm Opening Ceremonies and a 7:00pm “Push Push Penguin” family game event. \n·        Friday Feb. 13th – 7:00pm “Ticket to Ride: Italy” game event. \n·        Friday Feb. 20th – 7:00pm”Winter” card game event. \n·        Saturday Feb. 21st – Closing Ceremonies. \n  \nPlus “Ice Cool” Targets\, Olympic Ring Game\, and other OPEN events throughout the two weeks. Earn points\, watch the leader board\, and receive participation awards!
URL:https://www.visitpottertioga.com/event/pops-culture-shoppe-winter-games/2026-02-20
LOCATION:Pop’s Culture Shoppe\, 25 Main Street\, Wellsboro\, PA\, United States
CATEGORIES:General
ATTACH;FMTTYPE=image/jpeg:https://www.visitpottertioga.com/wp-content/uploads/2026/01/pops-feb-26.jpg
ORGANIZER;CN="Pop's Culture":MAILTO:info@popscultureshoppe.com
END:VEVENT
BEGIN:VEVENT
DTSTART;TZID=America/New_York:20260220T193000
DTEND;TZID=America/New_York:20260220T213000
DTSTAMP:20260423T191642
CREATED:20260108T202809Z
LAST-MODIFIED:20260108T202809Z
UID:10003509-1771615800-1771623000@www.visitpottertioga.com
SUMMARY:Picasso at the Lapin Agile
DESCRIPTION:Hamilton Gibson Productions presents one of the most acclaimed comedies to the stage of the Warehouse Gallery Theatre in Wellsboro for six hysterical performances. \nThe comic genius Steve Martin wrote this popular comedy based on the premise – A budding artist and a budding physicist walk into a bar. What sort of explosions are created when you combine the elements of Einstein and Picasso? A zany\, thoughtful comedy by one of the great contemporary comedic artists of our time. \nSponsored by:\nLarry & Barbara Biddison\n​Michael & Brandy Hirsch
URL:https://www.visitpottertioga.com/event/picasso-at-the-lapin-agile/2026-02-20
LOCATION:Deane Center Warehouse Gallery\, 3 Central Avenue\, Wellsboro\, PA\, 16901\, United States
CATEGORIES:General
ATTACH;FMTTYPE=image/jpeg:https://www.visitpottertioga.com/wp-content/uploads/2026/01/picasso-at-the-lapin-agile.jpg
END:VEVENT
END:VCALENDAR