BEGIN:VCALENDAR
VERSION:2.0
PRODID:-//Visit Potter-Tioga Pennsylvania - ECPv6.15.12.2//NONSGML v1.0//EN
CALSCALE:GREGORIAN
METHOD:PUBLISH
X-WR-CALNAME:Visit Potter-Tioga Pennsylvania
X-ORIGINAL-URL:https://www.visitpottertioga.com
X-WR-CALDESC:Events for Visit Potter-Tioga Pennsylvania
REFRESH-INTERVAL;VALUE=DURATION:PT1H
X-Robots-Tag:noindex
X-PUBLISHED-TTL:PT1H
BEGIN:VTIMEZONE
TZID:America/New_York
BEGIN:DAYLIGHT
TZOFFSETFROM:-0500
TZOFFSETTO:-0400
TZNAME:EDT
DTSTART:20250309T070000
END:DAYLIGHT
BEGIN:STANDARD
TZOFFSETFROM:-0400
TZOFFSETTO:-0500
TZNAME:EST
DTSTART:20251102T060000
END:STANDARD
BEGIN:DAYLIGHT
TZOFFSETFROM:-0500
TZOFFSETTO:-0400
TZNAME:EDT
DTSTART:20260308T070000
END:DAYLIGHT
BEGIN:STANDARD
TZOFFSETFROM:-0400
TZOFFSETTO:-0500
TZNAME:EST
DTSTART:20261101T060000
END:STANDARD
BEGIN:DAYLIGHT
TZOFFSETFROM:-0500
TZOFFSETTO:-0400
TZNAME:EDT
DTSTART:20270314T070000
END:DAYLIGHT
BEGIN:STANDARD
TZOFFSETFROM:-0400
TZOFFSETTO:-0500
TZNAME:EST
DTSTART:20271107T060000
END:STANDARD
END:VTIMEZONE
BEGIN:VEVENT
DTSTART;VALUE=DATE:20260227
DTEND;VALUE=DATE:20260302
DTSTAMP:20260423T191518
CREATED:20260108T165531Z
LAST-MODIFIED:20260108T165531Z
UID:10003499-1772150400-1772409599@www.visitpottertioga.com
SUMMARY:Winter Weekend in Wellsboro
DESCRIPTION:Taking place across four themed weekends in February\, this winter activities in Wellsboro promise something special for everyone\, from ice bars and dancing to crafts\, concerts\, and culinary adventures. Mark your calendars and prepare to make memories in the heart of this charming town. \nFebruary 28: Crafts & Cuisine \nRound out the month with a celebration of creativity and flavor! \n\n“Picasso at the Lapin Agile” by Hamilton Gibson Productions\nVelveeta Concert at Deane Center\nFood & Beverage Hopping at various locations with Culinary Coins\n\nCoins will be for sale at the Chamber of Commerce office. 114 Main Street\, Wellsboro.
URL:https://www.visitpottertioga.com/event/winter-weekend-in-wellsboro-4
LOCATION:Various locations around Wellsboro
CATEGORIES:General
ATTACH;FMTTYPE=image/jpeg:https://www.visitpottertioga.com/wp-content/uploads/2026/01/ice-wellsboro.jpg
END:VEVENT
BEGIN:VEVENT
DTSTART;TZID=America/New_York:20260228T183000
DTEND;TZID=America/New_York:20260228T193000
DTSTAMP:20260423T191518
CREATED:20260114T164019Z
LAST-MODIFIED:20260114T164037Z
UID:10003524-1772303400-1772307000@www.visitpottertioga.com
SUMMARY:(Nearly) Full Moon Walk at Cherry Springs State Park
DESCRIPTION:Dress for the season and enjoy a (nearly) Full Moon Walk at Cherry Springs State Park being offered on Saturday\, February 28th. \nThe event commences at 6:30PM – 7:30PM; meet at the Astronomy Observation Field\, Kiosk by Restrooms \nStrech your legs and get some fresh air with a moonlit evening stroll along crisp\, wintery landscape. Join a park educator for a 1.5 mile walk along level ground on the Overnight Astronomy Observation Field. Learn about winter constellations and folklore along the way with a laser-guided tour of the night sky. Telescopes available if conditions are favorable.  After the hike\, sip on warm hot chocolate or tea by a fire in the historic CCC pavilion. \nFREE program for adults and kids alike. Just wear sturdy winter boots and warm clothes.
URL:https://www.visitpottertioga.com/event/nearly-full-moon-walk-at-cherry-springs-state-park
LOCATION:Cherry Springs State Park\, 4551 Cherry Springs Rd\, Galeton\, PA\, 16922\, United States
CATEGORIES:General
ATTACH;FMTTYPE=image/jpeg:https://www.visitpottertioga.com/wp-content/uploads/2025/03/146201603.xpGVlgv6.MilkyWayRedPine.jpg
ORGANIZER;CN="Department of Conservation and Natural Resources":MAILTO:SinnemahoningSP@pa.gov
END:VEVENT
BEGIN:VEVENT
DTSTART;TZID=America/New_York:20260228T193000
DTEND;TZID=America/New_York:20260228T213000
DTSTAMP:20260423T191518
CREATED:20251222T144601Z
LAST-MODIFIED:20251222T144633Z
UID:10003483-1772307000-1772314200@www.visitpottertioga.com
SUMMARY:Velveeta at the Deane Center
DESCRIPTION:One of our area’s favorite groups takes to the stage of the Deane Center on Saturday\, February 28th when Velveeta returns bringing audiences their fantastic sound and style! \nFormed in State College\, PA in 1995 by some musician types as a fun little side project to play some fun cheesey 80’s music. Little did anyone know that the side project would last this long and evolve into this… A band that expanded their song selection and has performed far and wide. Tickets $30 –Tables Available – BYOB . \n Sponsored by C&N Bank \n  \n 
URL:https://www.visitpottertioga.com/event/velveeta-at-the-deane-center
LOCATION:Deane Center for the Performing Arts\, 104 Main Street\, Wellsboro\, PA\, 16901\, United States
CATEGORIES:General
ATTACH;FMTTYPE=image/jpeg:https://www.visitpottertioga.com/wp-content/uploads/2025/12/velveeta-deane.jpg
END:VEVENT
BEGIN:VEVENT
DTSTART;TZID=America/New_York:20260228T193000
DTEND;TZID=America/New_York:20260228T213000
DTSTAMP:20260423T191518
CREATED:20260108T202809Z
LAST-MODIFIED:20260108T202809Z
UID:10003513-1772307000-1772314200@www.visitpottertioga.com
SUMMARY:Picasso at the Lapin Agile
DESCRIPTION:Hamilton Gibson Productions presents one of the most acclaimed comedies to the stage of the Warehouse Gallery Theatre in Wellsboro for six hysterical performances. \nThe comic genius Steve Martin wrote this popular comedy based on the premise – A budding artist and a budding physicist walk into a bar. What sort of explosions are created when you combine the elements of Einstein and Picasso? A zany\, thoughtful comedy by one of the great contemporary comedic artists of our time. \nSponsored by:\nLarry & Barbara Biddison\n​Michael & Brandy Hirsch
URL:https://www.visitpottertioga.com/event/picasso-at-the-lapin-agile/2026-02-28
LOCATION:Deane Center Warehouse Gallery\, 3 Central Avenue\, Wellsboro\, PA\, 16901\, United States
CATEGORIES:General
ATTACH;FMTTYPE=image/jpeg:https://www.visitpottertioga.com/wp-content/uploads/2026/01/picasso-at-the-lapin-agile.jpg
END:VEVENT
END:VCALENDAR