BEGIN:VCALENDAR
VERSION:2.0
PRODID:-//Visit Potter-Tioga Pennsylvania - ECPv6.15.12.2//NONSGML v1.0//EN
CALSCALE:GREGORIAN
METHOD:PUBLISH
X-ORIGINAL-URL:https://www.visitpottertioga.com
X-WR-CALDESC:Events for Visit Potter-Tioga Pennsylvania
REFRESH-INTERVAL;VALUE=DURATION:PT1H
X-Robots-Tag:noindex
X-PUBLISHED-TTL:PT1H
BEGIN:VTIMEZONE
TZID:America/New_York
BEGIN:DAYLIGHT
TZOFFSETFROM:-0500
TZOFFSETTO:-0400
TZNAME:EDT
DTSTART:20250309T070000
END:DAYLIGHT
BEGIN:STANDARD
TZOFFSETFROM:-0400
TZOFFSETTO:-0500
TZNAME:EST
DTSTART:20251102T060000
END:STANDARD
BEGIN:DAYLIGHT
TZOFFSETFROM:-0500
TZOFFSETTO:-0400
TZNAME:EDT
DTSTART:20260308T070000
END:DAYLIGHT
BEGIN:STANDARD
TZOFFSETFROM:-0400
TZOFFSETTO:-0500
TZNAME:EST
DTSTART:20261101T060000
END:STANDARD
BEGIN:DAYLIGHT
TZOFFSETFROM:-0500
TZOFFSETTO:-0400
TZNAME:EDT
DTSTART:20270314T070000
END:DAYLIGHT
BEGIN:STANDARD
TZOFFSETFROM:-0400
TZOFFSETTO:-0500
TZNAME:EST
DTSTART:20271107T060000
END:STANDARD
END:VTIMEZONE
BEGIN:VEVENT
DTSTART;TZID=America/New_York:20260308T100000
DTEND;TZID=America/New_York:20260308T160000
DTSTAMP:20260423T174635
CREATED:20260108T162123Z
LAST-MODIFIED:20260108T162123Z
UID:10003494-1772964000-1772985600@www.visitpottertioga.com
SUMMARY:Charter Day at the Pennsylvania Lumber Museum
DESCRIPTION:On March 8th–Pennsylvania’s Birthday – celebrate King Charles II granting our state’s founder\, William Penn\, the charter to establish the Commonwealth of Pennsylvania with Free Admission to the Pennsylvania Lumber Museum! \nEnjoy a craft activity in the Program Room as well as an apple fritter making demonstration and tasting in the museum’s Mess Hall from 11:30am until supplies are gone.
URL:https://www.visitpottertioga.com/event/charter-day-at-the-pennsylvania-lumber-museum-2
LOCATION:Pennsylvania Lumber Museum\, 5660 US 6 West\, Ulysses\, PA\, 16948\, United States
CATEGORIES:General
ATTACH;FMTTYPE=image/jpeg:https://www.visitpottertioga.com/wp-content/uploads/2023/04/lumber-museum-exhibit-2.jpg
ORGANIZER;CN="Pennsylvania Lumber Museum":MAILTO:palumbermuseum@gmail.com
END:VEVENT
BEGIN:VEVENT
DTSTART;TZID=America/New_York:20260308T143000
DTEND;TZID=America/New_York:20260308T163000
DTSTAMP:20260423T174635
CREATED:20260108T170845Z
LAST-MODIFIED:20260108T170845Z
UID:10003503-1772980200-1772987400@www.visitpottertioga.com
SUMMARY:Man of La Mancha
DESCRIPTION:The heartbreaking and inspirational Tony Award-winning musical\, Man of La Mancha\, based on Cervantes’ Don Quixote\, about one man’s refusal to give up his impossible dream is being presented March 5-8\, 2026 at Mansfield University. The stirring score and timeless message of this masterpiece is a “must see” event live on stage. \nmansfield.booktix.com
URL:https://www.visitpottertioga.com/event/man-of-la-mancha/2026-03-08
LOCATION:Mansfield University Straughn Auditorium\, 35 Straughn Dr.\, Mansfield\, PA\, 16933
ATTACH;FMTTYPE=image/png:https://www.visitpottertioga.com/wp-content/uploads/2026/01/molm-960-x-640-px.png
ORGANIZER;CN="Mansfield University":MAILTO:mansfieldu@mansfield.edu
END:VEVENT
END:VCALENDAR