BEGIN:VCALENDAR
VERSION:2.0
PRODID:-//Visit Potter-Tioga Pennsylvania - ECPv6.15.12.2//NONSGML v1.0//EN
CALSCALE:GREGORIAN
METHOD:PUBLISH
X-WR-CALNAME:Visit Potter-Tioga Pennsylvania
X-ORIGINAL-URL:https://www.visitpottertioga.com
X-WR-CALDESC:Events for Visit Potter-Tioga Pennsylvania
REFRESH-INTERVAL;VALUE=DURATION:PT1H
X-Robots-Tag:noindex
X-PUBLISHED-TTL:PT1H
BEGIN:VTIMEZONE
TZID:America/New_York
BEGIN:DAYLIGHT
TZOFFSETFROM:-0500
TZOFFSETTO:-0400
TZNAME:EDT
DTSTART:20250309T070000
END:DAYLIGHT
BEGIN:STANDARD
TZOFFSETFROM:-0400
TZOFFSETTO:-0500
TZNAME:EST
DTSTART:20251102T060000
END:STANDARD
BEGIN:DAYLIGHT
TZOFFSETFROM:-0500
TZOFFSETTO:-0400
TZNAME:EDT
DTSTART:20260308T070000
END:DAYLIGHT
BEGIN:STANDARD
TZOFFSETFROM:-0400
TZOFFSETTO:-0500
TZNAME:EST
DTSTART:20261101T060000
END:STANDARD
BEGIN:DAYLIGHT
TZOFFSETFROM:-0500
TZOFFSETTO:-0400
TZNAME:EDT
DTSTART:20270314T070000
END:DAYLIGHT
BEGIN:STANDARD
TZOFFSETFROM:-0400
TZOFFSETTO:-0500
TZNAME:EST
DTSTART:20271107T060000
END:STANDARD
END:VTIMEZONE
BEGIN:VEVENT
DTSTART;TZID=America/New_York:20260311T193000
DTEND;TZID=America/New_York:20260311T213000
DTSTAMP:20260423T174301
CREATED:20260107T171057Z
LAST-MODIFIED:20260107T171057Z
UID:10003490-1773257400-1773264600@www.visitpottertioga.com
SUMMARY:Cherish the Ladies Concert
DESCRIPTION:Wellsboro Community Concert Association presents a night of Irish music right on March 11th at the Deane Center right in time for the St. Patrick’s holiday! \nCherish the Ladies is celebrating four decades of making Irish music\, song\, and dance. The award winning long-running\, Grammy-nominated\, Irish-American super group formed in New York City in 1985. They’ve toured the world\, played the White House and at the Olympics\, recorded 17 outstanding albums and a live DVD\, “An Irish Homecoming\,” which recently won an Emmy. They’ve collaborated with such musicians as The Boston Pops\, The Clancy Brothers\, the Chieftains\, Vince Gill\, Nanci Griffith\, Pete Seeger\, Don Henley\, Arlo Guthrie and Maura O’Connell. \nUnder the leadership of All-Ireland flute and whistle champion Joanie Madden along with founding member Mary Coogan (Guitar)\, Mirella Murray (Accordion)\, Kathleen Boyle (Piano)\, Nollaig Casey (Fiddle)\, and Kate Purcell (Lead Vocals\, Guitar) the ladies create an evening that includes a spectacular blend of virtuoso instrumental talents\, beautiful vocals\, captivating arrangements. Cherish the Ladies always travel with the finest Irish dancers with World Champions\, National Champions along with Riverdance and Lord of the dance alumni! \n(Note: This show is not part of the WCCA 77th Season)
URL:https://www.visitpottertioga.com/event/cherish-the-ladies-concert
LOCATION:Deane Center for the Performing Arts\, 104 Main Street\, Wellsboro\, PA\, 16901\, United States
CATEGORIES:General
ATTACH;FMTTYPE=image/avif:https://www.visitpottertioga.com/wp-content/uploads/2026/01/4155cb_f2863dacb6354d35baa6c973c4d91518mv2.avif
END:VEVENT
END:VCALENDAR