BEGIN:VCALENDAR
VERSION:2.0
PRODID:-//Visit Potter-Tioga Pennsylvania - ECPv6.15.12.2//NONSGML v1.0//EN
CALSCALE:GREGORIAN
METHOD:PUBLISH
X-WR-CALNAME:Visit Potter-Tioga Pennsylvania
X-ORIGINAL-URL:https://www.visitpottertioga.com
X-WR-CALDESC:Events for Visit Potter-Tioga Pennsylvania
REFRESH-INTERVAL;VALUE=DURATION:PT1H
X-Robots-Tag:noindex
X-PUBLISHED-TTL:PT1H
BEGIN:VTIMEZONE
TZID:America/New_York
BEGIN:DAYLIGHT
TZOFFSETFROM:-0500
TZOFFSETTO:-0400
TZNAME:EDT
DTSTART:20250309T070000
END:DAYLIGHT
BEGIN:STANDARD
TZOFFSETFROM:-0400
TZOFFSETTO:-0500
TZNAME:EST
DTSTART:20251102T060000
END:STANDARD
BEGIN:DAYLIGHT
TZOFFSETFROM:-0500
TZOFFSETTO:-0400
TZNAME:EDT
DTSTART:20260308T070000
END:DAYLIGHT
BEGIN:STANDARD
TZOFFSETFROM:-0400
TZOFFSETTO:-0500
TZNAME:EST
DTSTART:20261101T060000
END:STANDARD
BEGIN:DAYLIGHT
TZOFFSETFROM:-0500
TZOFFSETTO:-0400
TZNAME:EDT
DTSTART:20270314T070000
END:DAYLIGHT
BEGIN:STANDARD
TZOFFSETFROM:-0400
TZOFFSETTO:-0500
TZNAME:EST
DTSTART:20271107T060000
END:STANDARD
END:VTIMEZONE
BEGIN:VEVENT
DTSTART;TZID=America/New_York:20260314T100000
DTEND;TZID=America/New_York:20260314T120000
DTSTAMP:20260423T174409
CREATED:20260302T155029Z
LAST-MODIFIED:20260302T155029Z
UID:10003537-1773482400-1773489600@www.visitpottertioga.com
SUMMARY:Signs of Spring Adventure Hike at Lyman Run State Park
DESCRIPTION:No registration needed to be part of this refreshing hike at Lyman Run State Park where you can take the opportunity to get outside as spring approaches and see nature’s beauty in Potter County.  Meet at the Dam Parking Lot for the 10:00 am start. The route will be about 1 mile on the fishing access trail along the lake at Lyman Run State Park. Guides will help you look for signs of animals and signs that spring is on the way. \nBe prepared with water-resistant hiking boots\, layers\, hiking poles/sticks\, and water. \nThis free event is a great opportunity to get out in nature and to take in the scenic beauty of Lyman Run State Park! \n 
URL:https://www.visitpottertioga.com/event/signs-of-spring-adventure-hike-at-lyman-run-state-park
LOCATION:Lyman Run State Park\, 454 Lyman Run Road\, Galeton\, PA\, 16922\, United States
CATEGORIES:General
ATTACH;FMTTYPE=image/jpeg:https://www.visitpottertioga.com/wp-content/uploads/2026/03/78031e90dd1edba54fb4771b192784614a3fbf3f.jpg
ORGANIZER;CN="Department of Conservation and Natural Resources":MAILTO:SinnemahoningSP@pa.gov
END:VEVENT
BEGIN:VEVENT
DTSTART;TZID=America/New_York:20260314T100000
DTEND;TZID=America/New_York:20260314T140000
DTSTAMP:20260423T174409
CREATED:20260302T161510Z
LAST-MODIFIED:20260302T161510Z
UID:10003541-1773482400-1773496800@www.visitpottertioga.com
SUMMARY:Adult Sewing Class - Quilted Spring Pillow
DESCRIPTION:Join Master Quilter Brenda Bonzar on Saturday\, March 14th at the Potter County Artisan Center for an adult sewing class where students will be making a Quilted Springs Pillow.  Price of the class is $35.00.  Materials and supplies included. \nTo register for the class\, call the Potter County Artisan co-op at 814-274-8165.
URL:https://www.visitpottertioga.com/event/adult-sewing-class-quilted-spring-pillow
LOCATION:Potter County Artisan Center\, 227 N Main Street\, Coudersport\, PA\, United States
CATEGORIES:General
ATTACH;FMTTYPE=image/jpeg:https://www.visitpottertioga.com/wp-content/uploads/2026/03/march-pcac.jpg
END:VEVENT
BEGIN:VEVENT
DTSTART;TZID=America/New_York:20260314T120000
DTEND;TZID=America/New_York:20260314T133000
DTSTAMP:20260423T174409
CREATED:20260305T152114Z
LAST-MODIFIED:20260305T152114Z
UID:10003559-1773489600-1773495000@www.visitpottertioga.com
SUMMARY:Deane Little Beans with the Green Free Library - Kids Event
DESCRIPTION:Bring the kids to the Deane Center on Saturday morning\, March 14th for a fun event with the Green Free Library for children ages 3–12 that will offer an interactive literacy-focused experience featuring stories\, activities\, and creative exploration that encourage a love of reading and learning. \nIf you have any questions\, please contact the Deane Center at (570)-724-6220.  \nThe 2026 Deane Little Beans program is sponsored by UPMC Health Plan\, First Citizens Community Bank\, the Horace B. Packer Foundation\, Charles Knox and Margaret C. Etner Foundation\, and the Earl W. and Ina G. Tabor Foundation. \nRSVP \n  \n 
URL:https://www.visitpottertioga.com/event/deane-little-beans-with-the-green-free-library-kids-event
LOCATION:Deane Center for the Performing Arts\, 104 Main Street\, Wellsboro\, PA\, 16901\, United States
CATEGORIES:General
ATTACH;FMTTYPE=image/jpeg:https://www.visitpottertioga.com/wp-content/uploads/2026/03/deane-lb.jpg
END:VEVENT
BEGIN:VEVENT
DTSTART;TZID=America/New_York:20260314T193000
DTEND;TZID=America/New_York:20260314T213000
DTSTAMP:20260423T174409
CREATED:20251222T144130Z
LAST-MODIFIED:20260218T162530Z
UID:10003482-1773516600-1773523800@www.visitpottertioga.com
SUMMARY:House of Sterling & Friends
DESCRIPTION:RESCHEDULED FROM FEBRUARY \nHead to the Deane Center in Wellsboro on Saturday\, March 14th at 7:30 pm for a night of live music featuring House of Sterling & Friends. \nFounded in northern Pennsylvania by singer-songwriters Joe Callahan and Molly Cary\, House of Sterling blends folk and Americana into a powerfully haunting sound. Featuring rich harmonies\, evocative storytelling\, and intimate instrumentation\, their music offers a deeply moving live experience. \nBeer\, wine\, and cider will be available for purchase onsite from Innerstoic Wine & Cider Company and Bullfrog Brewery. \nTickets: $30 General Admission (theater-style seating)  \n  \nSponsored in part by Leete & Prough PLLC
URL:https://www.visitpottertioga.com/event/house-of-sterling-friends
LOCATION:Deane Center for the Performing Arts\, 104 Main Street\, Wellsboro\, PA\, 16901\, United States
CATEGORIES:General
ATTACH;FMTTYPE=image/jpeg:https://www.visitpottertioga.com/wp-content/uploads/2025/12/sterling-deane.jpg
END:VEVENT
END:VCALENDAR