BEGIN:VCALENDAR
VERSION:2.0
PRODID:-//Visit Potter-Tioga Pennsylvania - ECPv6.15.12.2//NONSGML v1.0//EN
CALSCALE:GREGORIAN
METHOD:PUBLISH
X-WR-CALNAME:Visit Potter-Tioga Pennsylvania
X-ORIGINAL-URL:https://www.visitpottertioga.com
X-WR-CALDESC:Events for Visit Potter-Tioga Pennsylvania
REFRESH-INTERVAL;VALUE=DURATION:PT1H
X-Robots-Tag:noindex
X-PUBLISHED-TTL:PT1H
BEGIN:VTIMEZONE
TZID:America/New_York
BEGIN:DAYLIGHT
TZOFFSETFROM:-0500
TZOFFSETTO:-0400
TZNAME:EDT
DTSTART:20250309T070000
END:DAYLIGHT
BEGIN:STANDARD
TZOFFSETFROM:-0400
TZOFFSETTO:-0500
TZNAME:EST
DTSTART:20251102T060000
END:STANDARD
BEGIN:DAYLIGHT
TZOFFSETFROM:-0500
TZOFFSETTO:-0400
TZNAME:EDT
DTSTART:20260308T070000
END:DAYLIGHT
BEGIN:STANDARD
TZOFFSETFROM:-0400
TZOFFSETTO:-0500
TZNAME:EST
DTSTART:20261101T060000
END:STANDARD
BEGIN:DAYLIGHT
TZOFFSETFROM:-0500
TZOFFSETTO:-0400
TZNAME:EDT
DTSTART:20270314T070000
END:DAYLIGHT
BEGIN:STANDARD
TZOFFSETFROM:-0400
TZOFFSETTO:-0500
TZNAME:EST
DTSTART:20271107T060000
END:STANDARD
END:VTIMEZONE
BEGIN:VEVENT
DTSTART;TZID=America/New_York:20260524T130000
DTEND;TZID=America/New_York:20260524T153000
DTSTAMP:20260423T161016
CREATED:20260422T150320Z
LAST-MODIFIED:20260422T150320Z
UID:10003585-1779627600-1779636600@www.visitpottertioga.com
SUMMARY:Learn to Fish Family Fishing Day at Lyman Run State Park
DESCRIPTION:Learn a new outdoor skill at Lyman Run State Park on Sunday\, May 24th from 1:00 PM to 3:30 PM during Family Fishing Day. This program is intended for individuals or families of all ages with little or no fishing experience. Participants will be introduced to the basics of fishing safety\, casting\, how to bait a hook\, and all about the fish in Lyman Lake. This knowledge is put to use right away as we finish the day by fishing in the lake! \nNo one needs a fishing license to participate. Park educators will provide instruction\, and the park will provide rods\, tackle\, and bait to use during the program. Participants are welcome to bring their own equipment if they have it. \nSpace is limited. Registration required.  Register at the park office or online at https://bit.ly/LymanLearntoFish.
URL:https://www.visitpottertioga.com/event/learn-to-fish-family-fishing-day-at-lyman-run-state-park
LOCATION:Lyman Run State Park\, 454 Lyman Run Road\, Galeton\, PA\, 16922\, United States
CATEGORIES:General
ATTACH;FMTTYPE=image/jpeg:https://www.visitpottertioga.com/wp-content/uploads/2026/04/learn-to-fish.jpg
ORGANIZER;CN="Department of Conservation and Natural Resources":MAILTO:SinnemahoningSP@pa.gov
END:VEVENT
BEGIN:VEVENT
DTSTART;TZID=America/New_York:20260524T150000
DTEND;TZID=America/New_York:20260524T163000
DTSTAMP:20260423T161016
CREATED:20260422T155042Z
LAST-MODIFIED:20260422T155042Z
UID:10003593-1779634800-1779640200@www.visitpottertioga.com
SUMMARY:Art in the Park: Snake Edition at Ole Bull State Park
DESCRIPTION:What’s the difference between venomous & poisonous snakes? Did you know that in PA\, we have 3 venomous snakes? \nJoin the park educator at the amphitheater at Ole Bull State Park in Kettle Creek on Sunday\, May 24th at 3:00 pm\, as we learn about and draw this slithering serpent step by step. \nSee you there! \n  \n 
URL:https://www.visitpottertioga.com/event/art-in-the-park-snake-edition-at-ole-bull-state-park-2
LOCATION:Ole Bull State Park\, 31 Valhalla Lane\, Cross Fork\, PA\, 17729\, United States
CATEGORIES:General
ATTACH;FMTTYPE=image/jpeg:https://www.visitpottertioga.com/wp-content/uploads/2026/04/Ole-Bull.jpg
ORGANIZER;CN="Department of Conservation and Natural Resources":MAILTO:SinnemahoningSP@pa.gov
END:VEVENT
BEGIN:VEVENT
DTSTART;TZID=America/New_York:20260524T213000
DTEND;TZID=America/New_York:20260524T223000
DTSTAMP:20260423T161016
CREATED:20260422T154633Z
LAST-MODIFIED:20260422T155005Z
UID:10003592-1779658200-1779661800@www.visitpottertioga.com
SUMMARY:Astronomy & the Night Sky at Ole Bull State Park
DESCRIPTION:When was the last time you looked up at the stars? Did you know\, that when you’re looking up\, you’re actually looking into the past? \nCome out to the pet campground playground area at Ole Bull State Park in Kettle Creek on Sunday\, May 24th at 9:30 pm & join park staff to learn a little bit about the night sky\, what seasonal constellations appear\, & some myths & legends associated with those constellations. All programs will be cancelled in the event of rain or thunder. \nSee you there! \n  \n 
URL:https://www.visitpottertioga.com/event/art-in-the-park-snake-edition-at-ole-bull-state-park
LOCATION:Ole Bull State Park\, 31 Valhalla Lane\, Cross Fork\, PA\, 17729\, United States
CATEGORIES:General
ATTACH;FMTTYPE=image/jpeg:https://www.visitpottertioga.com/wp-content/uploads/2026/04/Ole-Bull.jpg
ORGANIZER;CN="Department of Conservation and Natural Resources":MAILTO:SinnemahoningSP@pa.gov
END:VEVENT
END:VCALENDAR