BEGIN:VCALENDAR
VERSION:2.0
PRODID:-//Visit Potter-Tioga Pennsylvania - ECPv6.15.12.2//NONSGML v1.0//EN
CALSCALE:GREGORIAN
METHOD:PUBLISH
X-ORIGINAL-URL:https://www.visitpottertioga.com
X-WR-CALDESC:Events for Visit Potter-Tioga Pennsylvania
REFRESH-INTERVAL;VALUE=DURATION:PT1H
X-Robots-Tag:noindex
X-PUBLISHED-TTL:PT1H
BEGIN:VTIMEZONE
TZID:America/New_York
BEGIN:DAYLIGHT
TZOFFSETFROM:-0500
TZOFFSETTO:-0400
TZNAME:EDT
DTSTART:20250309T070000
END:DAYLIGHT
BEGIN:STANDARD
TZOFFSETFROM:-0400
TZOFFSETTO:-0500
TZNAME:EST
DTSTART:20251102T060000
END:STANDARD
BEGIN:DAYLIGHT
TZOFFSETFROM:-0500
TZOFFSETTO:-0400
TZNAME:EDT
DTSTART:20260308T070000
END:DAYLIGHT
BEGIN:STANDARD
TZOFFSETFROM:-0400
TZOFFSETTO:-0500
TZNAME:EST
DTSTART:20261101T060000
END:STANDARD
BEGIN:DAYLIGHT
TZOFFSETFROM:-0500
TZOFFSETTO:-0400
TZNAME:EDT
DTSTART:20270314T070000
END:DAYLIGHT
BEGIN:STANDARD
TZOFFSETFROM:-0400
TZOFFSETTO:-0500
TZNAME:EST
DTSTART:20271107T060000
END:STANDARD
END:VTIMEZONE
BEGIN:VEVENT
DTSTART;TZID=America/New_York:20261205T090000
DTEND;TZID=America/New_York:20261205T200000
DTSTAMP:20260423T014057
CREATED:20260114T153317Z
LAST-MODIFIED:20260114T153317Z
UID:10003521-1796461200-1796500800@www.visitpottertioga.com
SUMMARY:Dickens of a Christmas
DESCRIPTION:An annual holiday celebration returns to historic downtown Wellsboro to once again kick off the holiday season! \nJoin the celebration on Saturday\, December 5th\, 2026\, for the 42nd annual Dickens of a Christmas. Wellsboro’s Main Street and the surrounding side streets will be closed to traffic and become once again transformed into an early Victorian marketplace featuring all types of delectable wares for eating and drinking\, as well as delightful gift items for wearing or enjoying. \nBeginning at 9:00 a.m.\, the food and craft vendors\, strolling musicians and singers\, dancers\, and street corner thespians will spread up and down Main Street\, extending on to Waln and Crafton Street\, and a portion of Central Avenue. Performers and vendors will be appropriately costumed and decorated to create a Victorian atmosphere that fits so well with the Wellsboro Gas Lights. With the streets closed to traffic\, you have the freedom to stroll and enjoy the festivities. \nThroughout the weekend\, local businesses\, arts organizations\, and lodging partners put together a full menu of activity to offer visitors the perfect holiday destination to kick off their season of holiday celebration.
URL:https://www.visitpottertioga.com/event/dickens-of-a-christmas-2
LOCATION:Downtown Wellsboro\, Wellsboro\, PA\, 16901
CATEGORIES:General
ATTACH;FMTTYPE=image/png:https://www.visitpottertioga.com/wp-content/uploads/2025/04/dickens-4a.png
END:VEVENT
END:VCALENDAR