BEGIN:VCALENDAR
VERSION:2.0
PRODID:-//Visit Potter-Tioga Pennsylvania - ECPv6.15.12.2//NONSGML v1.0//EN
CALSCALE:GREGORIAN
METHOD:PUBLISH
X-ORIGINAL-URL:https://www.visitpottertioga.com
X-WR-CALDESC:Events for Visit Potter-Tioga Pennsylvania
REFRESH-INTERVAL;VALUE=DURATION:PT1H
X-Robots-Tag:noindex
X-PUBLISHED-TTL:PT1H
BEGIN:VTIMEZONE
TZID:America/New_York
BEGIN:DAYLIGHT
TZOFFSETFROM:-0500
TZOFFSETTO:-0400
TZNAME:EDT
DTSTART:20250309T070000
END:DAYLIGHT
BEGIN:STANDARD
TZOFFSETFROM:-0400
TZOFFSETTO:-0500
TZNAME:EST
DTSTART:20251102T060000
END:STANDARD
BEGIN:DAYLIGHT
TZOFFSETFROM:-0500
TZOFFSETTO:-0400
TZNAME:EDT
DTSTART:20260308T070000
END:DAYLIGHT
BEGIN:STANDARD
TZOFFSETFROM:-0400
TZOFFSETTO:-0500
TZNAME:EST
DTSTART:20261101T060000
END:STANDARD
BEGIN:DAYLIGHT
TZOFFSETFROM:-0500
TZOFFSETTO:-0400
TZNAME:EDT
DTSTART:20270314T070000
END:DAYLIGHT
BEGIN:STANDARD
TZOFFSETFROM:-0400
TZOFFSETTO:-0500
TZNAME:EST
DTSTART:20271107T060000
END:STANDARD
END:VTIMEZONE
BEGIN:VEVENT
DTSTART;TZID=America/New_York:20260604T153000
DTEND;TZID=America/New_York:20260604T153000
DTSTAMP:20260423T114620
CREATED:20250205T144616Z
LAST-MODIFIED:20250205T145017Z
UID:10002807-1780587000-1780587000@www.visitpottertioga.com
SUMMARY:Pokemon Club
DESCRIPTION:Meet other fans at Pop’s Culture Shoppe in Wellsboro every Thursday at 3:30 pm who love to collect the cards and play Pokémon. \nLearn the basics\, improve your game\, and even play in tournaments with our Professor of Pokémon! Free! \nVisit the website or call Pop’s Culture Shoppe for details.
URL:https://www.visitpottertioga.com/event/pokemon-club/2026-06-04
LOCATION:Pop’s Culture Shoppe\, 25 Main Street\, Wellsboro\, PA\, United States
CATEGORIES:General
ATTACH;FMTTYPE=image/jpeg:https://www.visitpottertioga.com/wp-content/uploads/2025/02/461718773_1058335212968323_1394124823784416070_n.jpg
ORGANIZER;CN="Pop's Culture":MAILTO:info@popscultureshoppe.com
END:VEVENT
BEGIN:VEVENT
DTSTART;TZID=America/New_York:20260605T200000
DTEND;TZID=America/New_York:20260605T213000
DTSTAMP:20260423T114620
CREATED:20260422T153423Z
LAST-MODIFIED:20260422T153423Z
UID:10003590-1780689600-1780695000@www.visitpottertioga.com
SUMMARY:Raptor Call Bingo at Ole Bull State Park
DESCRIPTION:Come on out to the amphitheater at Ole Bull State Park in Kettle Creek on Friday night\, June 5th at 8:00 pm for a free event to learn about birds of prey and what they sound like. Afterward\, park educators will play a fun review game to test your knowledge. \nA perfect event for children and families to enjoy. \nSee you there!!
URL:https://www.visitpottertioga.com/event/raptor-call-bingo-at-ole-bull-state-park-2
LOCATION:Ole Bull State Park\, 31 Valhalla Lane\, Cross Fork\, PA\, 17729\, United States
CATEGORIES:General
ATTACH;FMTTYPE=image/jpeg:https://www.visitpottertioga.com/wp-content/uploads/2026/04/Ole-Bull.jpg
ORGANIZER;CN="Department of Conservation and Natural Resources":MAILTO:SinnemahoningSP@pa.gov
END:VEVENT
BEGIN:VEVENT
DTSTART;TZID=America/New_York:20260606T100000
DTEND;TZID=America/New_York:20260606T123000
DTSTAMP:20260423T114620
CREATED:20260422T163148Z
LAST-MODIFIED:20260422T163148Z
UID:10003596-1780740000-1780749000@www.visitpottertioga.com
SUMMARY:Ole Bull State Park Kid's Fishing Derby
DESCRIPTION:Bring the kids out to Ole Bull State Park for a fishing derby geared specifically to young fishing fans\, Registration starts at 9 AM at the Stone Pavilion. The fishing begins at 10AM and the derby continues to 12 noon.  Prizes will be awarded at 12:15 pm at Amphitheater. \nThe derby is open to kids ages 12 and under at no cost.  Plan to join us for a great day of fishing fun at one of Pennsylvania’s most scenic state parks!
URL:https://www.visitpottertioga.com/event/ole-bull-state-park-kids-fishing-derby
LOCATION:Ole Bull State Park\, 31 Valhalla Lane\, Cross Fork\, PA\, 17729\, United States
CATEGORIES:General
ATTACH;FMTTYPE=image/jpeg:https://www.visitpottertioga.com/wp-content/uploads/2026/04/Ole-Bull.jpg
ORGANIZER;CN="Department of Conservation and Natural Resources":MAILTO:SinnemahoningSP@pa.gov
END:VEVENT
BEGIN:VEVENT
DTSTART;TZID=America/New_York:20260607T093000
DTEND;TZID=America/New_York:20260607T230000
DTSTAMP:20260423T114620
CREATED:20260422T163539Z
LAST-MODIFIED:20260422T163539Z
UID:10003597-1780824600-1780873200@www.visitpottertioga.com
SUMMARY:Nature Craft - Birdfeeders at Ole Bull State Park
DESCRIPTION:Do you know the difference between a bird song vs a bird call? Join us at the amphitheater at Ole Bull State Park in Kettle Creek on Sunday\, May 30th at 9:30 am to learn some common Pennsylvania bird songs. \nAfterward\, everyone will learn how to make homemade bird feeders that you can take home with you! \nThis program is developed for younger children\, but all ages are welcomed! \n  \n  \n 
URL:https://www.visitpottertioga.com/event/nature-craft-birdfeeders-at-ole-bull-state-park
LOCATION:Ole Bull State Park\, 31 Valhalla Lane\, Cross Fork\, PA\, 17729\, United States
CATEGORIES:General
ATTACH;FMTTYPE=image/jpeg:https://www.visitpottertioga.com/wp-content/uploads/2026/04/Ole-Bull.jpg
ORGANIZER;CN="Department of Conservation and Natural Resources":MAILTO:SinnemahoningSP@pa.gov
END:VEVENT
BEGIN:VEVENT
DTSTART;TZID=America/New_York:20260611T153000
DTEND;TZID=America/New_York:20260611T153000
DTSTAMP:20260423T114620
CREATED:20250205T144616Z
LAST-MODIFIED:20250205T145017Z
UID:10002808-1781191800-1781191800@www.visitpottertioga.com
SUMMARY:Pokemon Club
DESCRIPTION:Meet other fans at Pop’s Culture Shoppe in Wellsboro every Thursday at 3:30 pm who love to collect the cards and play Pokémon. \nLearn the basics\, improve your game\, and even play in tournaments with our Professor of Pokémon! Free! \nVisit the website or call Pop’s Culture Shoppe for details.
URL:https://www.visitpottertioga.com/event/pokemon-club/2026-06-11
LOCATION:Pop’s Culture Shoppe\, 25 Main Street\, Wellsboro\, PA\, United States
CATEGORIES:General
ATTACH;FMTTYPE=image/jpeg:https://www.visitpottertioga.com/wp-content/uploads/2025/02/461718773_1058335212968323_1394124823784416070_n.jpg
ORGANIZER;CN="Pop's Culture":MAILTO:info@popscultureshoppe.com
END:VEVENT
BEGIN:VEVENT
DTSTART;VALUE=DATE:20260613
DTEND;VALUE=DATE:20260622
DTSTAMP:20260423T114620
CREATED:20260114T150803Z
LAST-MODIFIED:20260114T150803Z
UID:10003517-1781308800-1782086399@www.visitpottertioga.com
SUMMARY:84th Annual Pennsylvania State Mountain Laurel Festival
DESCRIPTION:Join the celebration of the commonwealth’s state flower in Wellsboro at the 84th Annual Pennsylvania State Mountain Laurel Festival when it is held June 13th through 21st\, 2026 at sites across the beautiful Pennsylvania Grand Canyon region. \nThe week-long celebration will include a juried arts and crafts fair\, queen’s pageant\, pet parade\, children’s health fair\, foot races\, a gospel sing\, and several musical concerts\, as well as the traditional two-hour Laurel Festival Parade. This is always a great week packed full of fun for the entire family! \nFor a complete schedule of events for this year’s event\, visit the Chamber website at PA State Laurel Festival. \nPhoto of the lush mountain laurel by Photographer Linda Stager. 
URL:https://www.visitpottertioga.com/event/84th-annual-pennsylvania-state-mountain-laurel-festival
LOCATION:Various Locations
CATEGORIES:General
ATTACH;FMTTYPE=image/jpeg:https://www.visitpottertioga.com/wp-content/uploads/2025/04/mt-laurel.jpg
END:VEVENT
BEGIN:VEVENT
DTSTART;TZID=America/New_York:20260613T100000
DTEND;TZID=America/New_York:20260613T150000
DTSTAMP:20260423T114620
CREATED:20260311T183456Z
LAST-MODIFIED:20260311T183608Z
UID:10003564-1781344800-1781362800@www.visitpottertioga.com
SUMMARY:First Annual Valley Classic Car Show
DESCRIPTION:Classic car fans will want to head to the Home Comfort Restaurant in Westfield on Saturday\, June 13th for the First Annual Valley Classic Car Show to see some amazing vintage automobiles\, enjoy some fun entertainment\, and make a great day out with vendors\, games\, and enjoying great food. \nMake it a great day out in Tioga County with friends and neighbors celebrating the incredible vehicles you’ll see displayed at this family event!
URL:https://www.visitpottertioga.com/event/first-annual-valley-classic-car-show
LOCATION:Home Comfort Restaurant\, 1131 Route 48\, Westfield\, PA\, 16950
CATEGORIES:General
ATTACH;FMTTYPE=image/jpeg:https://www.visitpottertioga.com/wp-content/uploads/2026/03/Valley-car-show.jpg
ORGANIZER;CN="Home Comfort Restaurant":MAILTO:PAULZELINKA@GMAIL.COM
END:VEVENT
BEGIN:VEVENT
DTSTART;TZID=America/New_York:20260613T150000
DTEND;TZID=America/New_York:20260613T163000
DTSTAMP:20260423T114620
CREATED:20260422T164019Z
LAST-MODIFIED:20260422T164019Z
UID:10003598-1781362800-1781368200@www.visitpottertioga.com
SUMMARY:Art in the Park: Frog Edition at Ole Bull State Park
DESCRIPTION:Frogs are such fascinating critters! The wood frog for example\, freezes in the winter then thaws out and hops away in the spring. \nJoin the park educator at the amphitheater at Ole Bull State Park in Kettle Creek on Saturday\, June 13th at 3:00 pm\, as we learn about frogs and we’ll teach you to try your hand at drawing one step by step. \nSee you there! \n  \n 
URL:https://www.visitpottertioga.com/event/art-in-the-park-frog-edition-at-ole-bull-state-park
LOCATION:Ole Bull State Park\, 31 Valhalla Lane\, Cross Fork\, PA\, 17729\, United States
CATEGORIES:General
ATTACH;FMTTYPE=image/jpeg:https://www.visitpottertioga.com/wp-content/uploads/2026/04/Ole-Bull.jpg
ORGANIZER;CN="Department of Conservation and Natural Resources":MAILTO:SinnemahoningSP@pa.gov
END:VEVENT
BEGIN:VEVENT
DTSTART;TZID=America/New_York:20260613T200000
DTEND;TZID=America/New_York:20260613T213000
DTSTAMP:20260423T114620
CREATED:20260422T164335Z
LAST-MODIFIED:20260422T164335Z
UID:10003599-1781380800-1781386200@www.visitpottertioga.com
SUMMARY:Frog/Toad Call Bingo at Ole Bull State Park
DESCRIPTION:Did you know we have 14 frog & 3 toad species in the state? Do you know what they all sound like? Come on out to the amphitheater at Ole Bull State Park to discover unique ways to remember your calls. For example\, one frog call even sounds like sleigh bells. \nAfterwards\, we’ll test what you learned with a fun game of bingo. \nSee you there!!
URL:https://www.visitpottertioga.com/event/frog-toad-call-bingo-at-ole-bull-state-park
LOCATION:Ole Bull State Park\, 31 Valhalla Lane\, Cross Fork\, PA\, 17729\, United States
CATEGORIES:General
ATTACH;FMTTYPE=image/jpeg:https://www.visitpottertioga.com/wp-content/uploads/2026/04/Ole-Bull.jpg
ORGANIZER;CN="Department of Conservation and Natural Resources":MAILTO:SinnemahoningSP@pa.gov
END:VEVENT
BEGIN:VEVENT
DTSTART;TZID=America/New_York:20260613T213000
DTEND;TZID=America/New_York:20260613T223000
DTSTAMP:20260423T114620
CREATED:20260422T164548Z
LAST-MODIFIED:20260422T164548Z
UID:10003601-1781386200-1781389800@www.visitpottertioga.com
SUMMARY:Astronomy & the Night Sky at Ole Bull State Park
DESCRIPTION:When was the last time you looked up at the stars? Did you know\, that when you’re looking up\, you’re actually looking into the past? \nCome out to the pet campground playground area at Ole Bull State Park in Kettle Creek on Saturday\, June 13th at 9:45 pm & join park staff to learn a little bit about the night sky\, what seasonal constellations appear\, & some myths & legends associated with those constellations. All programs will be cancelled in the event of rain or thunder. \nSee you there! \n  \n 
URL:https://www.visitpottertioga.com/event/astronomy-the-night-sky-at-ole-bull-state-park
LOCATION:Ole Bull State Park\, 31 Valhalla Lane\, Cross Fork\, PA\, 17729\, United States
CATEGORIES:General
ATTACH;FMTTYPE=image/jpeg:https://www.visitpottertioga.com/wp-content/uploads/2026/04/Ole-Bull.jpg
ORGANIZER;CN="Department of Conservation and Natural Resources":MAILTO:SinnemahoningSP@pa.gov
END:VEVENT
BEGIN:VEVENT
DTSTART;TZID=America/New_York:20260614T130000
DTEND;TZID=America/New_York:20260614T143000
DTSTAMP:20260423T114620
CREATED:20260422T165349Z
LAST-MODIFIED:20260422T165349Z
UID:10003602-1781442000-1781447400@www.visitpottertioga.com
SUMMARY:Art in the Park: Turtle Talk at Ole Bull State Park
DESCRIPTION:Feeling artsy? Or maybe you just want to know a little more about Pennsylvania Turtles? \nJoin us at the amphitheater at Ole Bull State Park in Kettle Creek on Sunday\, June 14th at 1:00 pm\, as we learn how to draw a Turtle step by step and talk some common knowledge! \n  \n 
URL:https://www.visitpottertioga.com/event/art-in-the-park-turtle-talk-at-ole-bull-state-park
LOCATION:Ole Bull State Park\, 31 Valhalla Lane\, Cross Fork\, PA\, 17729\, United States
CATEGORIES:General
ATTACH;FMTTYPE=image/jpeg:https://www.visitpottertioga.com/wp-content/uploads/2026/04/Ole-Bull.jpg
ORGANIZER;CN="Department of Conservation and Natural Resources":MAILTO:SinnemahoningSP@pa.gov
END:VEVENT
BEGIN:VEVENT
DTSTART;TZID=America/New_York:20260618T153000
DTEND;TZID=America/New_York:20260618T153000
DTSTAMP:20260423T114620
CREATED:20250205T144616Z
LAST-MODIFIED:20250205T145017Z
UID:10002809-1781796600-1781796600@www.visitpottertioga.com
SUMMARY:Pokemon Club
DESCRIPTION:Meet other fans at Pop’s Culture Shoppe in Wellsboro every Thursday at 3:30 pm who love to collect the cards and play Pokémon. \nLearn the basics\, improve your game\, and even play in tournaments with our Professor of Pokémon! Free! \nVisit the website or call Pop’s Culture Shoppe for details.
URL:https://www.visitpottertioga.com/event/pokemon-club/2026-06-18
LOCATION:Pop’s Culture Shoppe\, 25 Main Street\, Wellsboro\, PA\, United States
CATEGORIES:General
ATTACH;FMTTYPE=image/jpeg:https://www.visitpottertioga.com/wp-content/uploads/2025/02/461718773_1058335212968323_1394124823784416070_n.jpg
ORGANIZER;CN="Pop's Culture":MAILTO:info@popscultureshoppe.com
END:VEVENT
BEGIN:VEVENT
DTSTART;TZID=America/New_York:20260619T200000
DTEND;TZID=America/New_York:20260619T213000
DTSTAMP:20260423T114620
CREATED:20260422T165820Z
LAST-MODIFIED:20260422T165820Z
UID:10003603-1781899200-1781904600@www.visitpottertioga.com
SUMMARY:Fact or Fiction Game at Ole Bull State Park
DESCRIPTION:Come on out to the amphitheater at Ole Bull State Park in Kettle Creek on Friday night\, June 19th at 8:00 pm for a free event to see what you know about animals. \nThere are a lot of misconceptions in the animal world that it’s hard to tell what’s true or not!  Join us to test your knowledge on whether you know these crazy\, unbelievable truths about animals or if these statements are simply myth! \nA perfect event for children and families to enjoy. \nSee you there!!
URL:https://www.visitpottertioga.com/event/fact-or-fiction-game-at-ole-bull-state-park
LOCATION:Ole Bull State Park\, 31 Valhalla Lane\, Cross Fork\, PA\, 17729\, United States
CATEGORIES:General
ATTACH;FMTTYPE=image/jpeg:https://www.visitpottertioga.com/wp-content/uploads/2026/04/Ole-Bull.jpg
ORGANIZER;CN="Department of Conservation and Natural Resources":MAILTO:SinnemahoningSP@pa.gov
END:VEVENT
BEGIN:VEVENT
DTSTART;TZID=America/New_York:20260619T220000
DTEND;TZID=America/New_York:20260619T230000
DTSTAMP:20260423T114620
CREATED:20260422T165946Z
LAST-MODIFIED:20260422T165946Z
UID:10003604-1781906400-1781910000@www.visitpottertioga.com
SUMMARY:Astronomy & the Night Sky at Ole Bull State Park
DESCRIPTION:When was the last time you looked up at the stars? Did you know\, that when you’re looking up\, you’re actually looking into the past? \nCome out to the pet campground playground area at Ole Bull State Park in Kettle Creek on Friday\, June 19th at 10:00 pm & join park staff to learn a little bit about the night sky\, what seasonal constellations appear\, & some myths & legends associated with those constellations. All programs will be cancelled in the event of rain or thunder. \nSee you there! \n  \n 
URL:https://www.visitpottertioga.com/event/astronomy-the-night-sky-at-ole-bull-state-park-2
LOCATION:Ole Bull State Park\, 31 Valhalla Lane\, Cross Fork\, PA\, 17729\, United States
CATEGORIES:General
ATTACH;FMTTYPE=image/jpeg:https://www.visitpottertioga.com/wp-content/uploads/2026/04/Ole-Bull.jpg
ORGANIZER;CN="Department of Conservation and Natural Resources":MAILTO:SinnemahoningSP@pa.gov
END:VEVENT
BEGIN:VEVENT
DTSTART;TZID=America/New_York:20260621T100000
DTEND;TZID=America/New_York:20260621T113000
DTSTAMP:20260423T114620
CREATED:20260422T170305Z
LAST-MODIFIED:20260422T170305Z
UID:10003605-1782036000-1782041400@www.visitpottertioga.com
SUMMARY:Art in the Park: Porcupine Edition at Ole Bull State Park
DESCRIPTION:Feeling artsy? Or maybe you just want to know a little more about porcupines? \nJoin the park educator at the amphitheater at Ole Bull State Park in Kettle Creek on Sunday\, June 21st at 10:00 am\, as we learn about and draw this prickly animal step by step. \nSee you there! \n  \n 
URL:https://www.visitpottertioga.com/event/art-in-the-park-porcupine-edition-at-ole-bull-state-park
LOCATION:Ole Bull State Park\, 31 Valhalla Lane\, Cross Fork\, PA\, 17729\, United States
CATEGORIES:General
ATTACH;FMTTYPE=image/jpeg:https://www.visitpottertioga.com/wp-content/uploads/2026/04/Ole-Bull.jpg
ORGANIZER;CN="Department of Conservation and Natural Resources":MAILTO:SinnemahoningSP@pa.gov
END:VEVENT
BEGIN:VEVENT
DTSTART;TZID=America/New_York:20260625T153000
DTEND;TZID=America/New_York:20260625T153000
DTSTAMP:20260423T114620
CREATED:20250205T144616Z
LAST-MODIFIED:20250205T145017Z
UID:10002810-1782401400-1782401400@www.visitpottertioga.com
SUMMARY:Pokemon Club
DESCRIPTION:Meet other fans at Pop’s Culture Shoppe in Wellsboro every Thursday at 3:30 pm who love to collect the cards and play Pokémon. \nLearn the basics\, improve your game\, and even play in tournaments with our Professor of Pokémon! Free! \nVisit the website or call Pop’s Culture Shoppe for details.
URL:https://www.visitpottertioga.com/event/pokemon-club/2026-06-25
LOCATION:Pop’s Culture Shoppe\, 25 Main Street\, Wellsboro\, PA\, United States
CATEGORIES:General
ATTACH;FMTTYPE=image/jpeg:https://www.visitpottertioga.com/wp-content/uploads/2025/02/461718773_1058335212968323_1394124823784416070_n.jpg
ORGANIZER;CN="Pop's Culture":MAILTO:info@popscultureshoppe.com
END:VEVENT
BEGIN:VEVENT
DTSTART;TZID=America/New_York:20260626T200000
DTEND;TZID=America/New_York:20260626T213000
DTSTAMP:20260423T114620
CREATED:20260422T170705Z
LAST-MODIFIED:20260422T170705Z
UID:10003606-1782504000-1782509400@www.visitpottertioga.com
SUMMARY:PA Mammals Presentation at Ole Bull State Park Nature
DESCRIPTION:Can you guess the animal by its fur? At this program at Ole Bull State Park on Friday\, June 26th at 8:00 pm\, we will look at different skulls and furs of animals common to the Pennsylvania. Discover interesting facts about each critter as well. \nThis free program is open for all ages! Meeting location will be at the amphitheater. \n  \n 
URL:https://www.visitpottertioga.com/event/pa-mammals-presentation-at-ole-bull-state-park-nature
LOCATION:Ole Bull State Park\, 31 Valhalla Lane\, Cross Fork\, PA\, 17729\, United States
CATEGORIES:General
ATTACH;FMTTYPE=image/jpeg:https://www.visitpottertioga.com/wp-content/uploads/2026/04/Ole-Bull.jpg
END:VEVENT
BEGIN:VEVENT
DTSTART;TZID=America/New_York:20260627T150000
DTEND;TZID=America/New_York:20260627T163000
DTSTAMP:20260423T114620
CREATED:20260422T171013Z
LAST-MODIFIED:20260422T171013Z
UID:10003607-1782572400-1782577800@www.visitpottertioga.com
SUMMARY:Ravens vs Crows at Ole Bull State Park
DESCRIPTION:Come on out to the amphitheater at Ole Bull State Park in Kettle Creek on Saturday\, June 27th at 3:00 pm to learn the differences between ravens and crows as part of this free presentation. \nWhat’s the first thing you think of when you hear the word raven or crow? Is it Spooky or Noisy? Do you know the differences between crows and ravens? Come on out to the amphitheater to learn some fun facts about these macabre creatures. Afterward\, we’ll make a cool craft for you to take home. \nSee you there!!
URL:https://www.visitpottertioga.com/event/ravens-vs-crows-at-ole-bull-state-park
LOCATION:Ole Bull State Park\, 31 Valhalla Lane\, Cross Fork\, PA\, 17729\, United States
CATEGORIES:General
ATTACH;FMTTYPE=image/jpeg:https://www.visitpottertioga.com/wp-content/uploads/2026/04/Ole-Bull.jpg
ORGANIZER;CN="Department of Conservation and Natural Resources":MAILTO:SinnemahoningSP@pa.gov
END:VEVENT
BEGIN:VEVENT
DTSTART;TZID=America/New_York:20260628T130000
DTEND;TZID=America/New_York:20260628T150000
DTSTAMP:20260423T114620
CREATED:20260422T171239Z
LAST-MODIFIED:20260422T171239Z
UID:10003608-1782651600-1782658800@www.visitpottertioga.com
SUMMARY:Art in the Park: Possum Edition at Ole Bull State Park
DESCRIPTION:When you think about possums\, what’s the first thing you think about?  Maybe playing dead or having a pouch. \nJoin us at the amphitheater at Ole Bull State Park in Kettle Creek on Sunday\, June 28th at 1:00 pm\, as we learn how to draw a possum step by step and learn some fun facts along the way! \nSee you there! \n  \n 
URL:https://www.visitpottertioga.com/event/art-in-the-park-possum-edition-at-ole-bull-state-park
LOCATION:Ole Bull State Park\, 31 Valhalla Lane\, Cross Fork\, PA\, 17729\, United States
CATEGORIES:General
ATTACH;FMTTYPE=image/jpeg:https://www.visitpottertioga.com/wp-content/uploads/2026/04/Ole-Bull.jpg
ORGANIZER;CN="Department of Conservation and Natural Resources":MAILTO:SinnemahoningSP@pa.gov
END:VEVENT
END:VCALENDAR