BEGIN:VCALENDAR
VERSION:2.0
PRODID:-//Visit Potter-Tioga Pennsylvania - ECPv6.15.12.2//NONSGML v1.0//EN
CALSCALE:GREGORIAN
METHOD:PUBLISH
X-WR-CALNAME:Visit Potter-Tioga Pennsylvania
X-ORIGINAL-URL:https://www.visitpottertioga.com
X-WR-CALDESC:Events for Visit Potter-Tioga Pennsylvania
REFRESH-INTERVAL;VALUE=DURATION:PT1H
X-Robots-Tag:noindex
X-PUBLISHED-TTL:PT1H
BEGIN:VTIMEZONE
TZID:America/New_York
BEGIN:DAYLIGHT
TZOFFSETFROM:-0500
TZOFFSETTO:-0400
TZNAME:EDT
DTSTART:20250309T070000
END:DAYLIGHT
BEGIN:STANDARD
TZOFFSETFROM:-0400
TZOFFSETTO:-0500
TZNAME:EST
DTSTART:20251102T060000
END:STANDARD
BEGIN:DAYLIGHT
TZOFFSETFROM:-0500
TZOFFSETTO:-0400
TZNAME:EDT
DTSTART:20260308T070000
END:DAYLIGHT
BEGIN:STANDARD
TZOFFSETFROM:-0400
TZOFFSETTO:-0500
TZNAME:EST
DTSTART:20261101T060000
END:STANDARD
BEGIN:DAYLIGHT
TZOFFSETFROM:-0500
TZOFFSETTO:-0400
TZNAME:EDT
DTSTART:20270314T070000
END:DAYLIGHT
BEGIN:STANDARD
TZOFFSETFROM:-0400
TZOFFSETTO:-0500
TZNAME:EST
DTSTART:20271107T060000
END:STANDARD
END:VTIMEZONE
BEGIN:VEVENT
DTSTART;TZID=America/New_York:20260903T153000
DTEND;TZID=America/New_York:20260903T153000
DTSTAMP:20260423T063412
CREATED:20250205T144616Z
LAST-MODIFIED:20250205T145017Z
UID:10002820-1788449400-1788449400@www.visitpottertioga.com
SUMMARY:Pokemon Club
DESCRIPTION:Meet other fans at Pop’s Culture Shoppe in Wellsboro every Thursday at 3:30 pm who love to collect the cards and play Pokémon. \nLearn the basics\, improve your game\, and even play in tournaments with our Professor of Pokémon! Free! \nVisit the website or call Pop’s Culture Shoppe for details.
URL:https://www.visitpottertioga.com/event/pokemon-club/2026-09-03
LOCATION:Pop’s Culture Shoppe\, 25 Main Street\, Wellsboro\, PA\, United States
CATEGORIES:General
ATTACH;FMTTYPE=image/jpeg:https://www.visitpottertioga.com/wp-content/uploads/2025/02/461718773_1058335212968323_1394124823784416070_n.jpg
ORGANIZER;CN="Pop's Culture":MAILTO:info@popscultureshoppe.com
END:VEVENT
BEGIN:VEVENT
DTSTART;TZID=America/New_York:20260910T153000
DTEND;TZID=America/New_York:20260910T153000
DTSTAMP:20260423T063412
CREATED:20250205T144616Z
LAST-MODIFIED:20250205T145017Z
UID:10002821-1789054200-1789054200@www.visitpottertioga.com
SUMMARY:Pokemon Club
DESCRIPTION:Meet other fans at Pop’s Culture Shoppe in Wellsboro every Thursday at 3:30 pm who love to collect the cards and play Pokémon. \nLearn the basics\, improve your game\, and even play in tournaments with our Professor of Pokémon! Free! \nVisit the website or call Pop’s Culture Shoppe for details.
URL:https://www.visitpottertioga.com/event/pokemon-club/2026-09-10
LOCATION:Pop’s Culture Shoppe\, 25 Main Street\, Wellsboro\, PA\, United States
CATEGORIES:General
ATTACH;FMTTYPE=image/jpeg:https://www.visitpottertioga.com/wp-content/uploads/2025/02/461718773_1058335212968323_1394124823784416070_n.jpg
ORGANIZER;CN="Pop's Culture":MAILTO:info@popscultureshoppe.com
END:VEVENT
BEGIN:VEVENT
DTSTART;TZID=America/New_York:20260917T153000
DTEND;TZID=America/New_York:20260917T153000
DTSTAMP:20260423T063412
CREATED:20250205T144616Z
LAST-MODIFIED:20250205T145017Z
UID:10002822-1789659000-1789659000@www.visitpottertioga.com
SUMMARY:Pokemon Club
DESCRIPTION:Meet other fans at Pop’s Culture Shoppe in Wellsboro every Thursday at 3:30 pm who love to collect the cards and play Pokémon. \nLearn the basics\, improve your game\, and even play in tournaments with our Professor of Pokémon! Free! \nVisit the website or call Pop’s Culture Shoppe for details.
URL:https://www.visitpottertioga.com/event/pokemon-club/2026-09-17
LOCATION:Pop’s Culture Shoppe\, 25 Main Street\, Wellsboro\, PA\, United States
CATEGORIES:General
ATTACH;FMTTYPE=image/jpeg:https://www.visitpottertioga.com/wp-content/uploads/2025/02/461718773_1058335212968323_1394124823784416070_n.jpg
ORGANIZER;CN="Pop's Culture":MAILTO:info@popscultureshoppe.com
END:VEVENT
BEGIN:VEVENT
DTSTART;TZID=America/New_York:20260919T083000
DTEND;TZID=America/New_York:20260919T233000
DTSTAMP:20260423T063412
CREATED:20251007T160642Z
LAST-MODIFIED:20251007T160700Z
UID:10003442-1789806600-1789860600@www.visitpottertioga.com
SUMMARY:Step Outdoors TRYathlon
DESCRIPTION:The Step Outdoors TRYathlon\, hosted at Hills Creek State Park\, is an introductory event that is great for the first-time participant while featuring a course that will also interest the seasoned athlete! \n2026 event will be similar to recent years – but while registration is still capped at 150\, we will return to in-person\, day-of registration! Advance registration is still highly recommended and appreciated. Event shirt guaranteed if registered by 9/1! \nABOUT THIS EVENT:\nAs the name implies\, the focus is on “trying” rather than winning\, on camaraderie rather than competition\, on personal challenge rather than place of finish. Assemble a team of two or three people. Run\, paddle\, and bike your way to the finish! Or\, if you feel energetic\, complete all three legs of the event as a solo participant. The landscape of the park makes this a great spectator event too! \nCOURSE DESCRIPTION:\nTraverse a mixture of park roads and trails around the perimeter of the lake for 5 kilometers. Paddle around temporary markers in the lake for approximately 1.75 miles. Bike on hard top and dirt roads in and around the park for 8.0 miles. All routes will remain the same as in recent years. The new event also includes a 5K stand-alone option that starts at the same time and location as the TRYathlon and follows the same course. \nPlease note\, check-in is open only from 8:30 – 9:30am on the event day. \n 
URL:https://www.visitpottertioga.com/event/step-outdoors-triathlon
LOCATION:Hills Creek State Park\, 111 Spillway Road\, Wellsboro\, 16901\, United States
CATEGORIES:General
ATTACH;FMTTYPE=image/jpeg:https://www.visitpottertioga.com/wp-content/uploads/2025/10/stepoutdoors-summer-e1759853113121.jpg
END:VEVENT
BEGIN:VEVENT
DTSTART;TZID=America/New_York:20260924T153000
DTEND;TZID=America/New_York:20260924T153000
DTSTAMP:20260423T063412
CREATED:20250205T144616Z
LAST-MODIFIED:20250205T145017Z
UID:10002823-1790263800-1790263800@www.visitpottertioga.com
SUMMARY:Pokemon Club
DESCRIPTION:Meet other fans at Pop’s Culture Shoppe in Wellsboro every Thursday at 3:30 pm who love to collect the cards and play Pokémon. \nLearn the basics\, improve your game\, and even play in tournaments with our Professor of Pokémon! Free! \nVisit the website or call Pop’s Culture Shoppe for details.
URL:https://www.visitpottertioga.com/event/pokemon-club/2026-09-24
LOCATION:Pop’s Culture Shoppe\, 25 Main Street\, Wellsboro\, PA\, United States
CATEGORIES:General
ATTACH;FMTTYPE=image/jpeg:https://www.visitpottertioga.com/wp-content/uploads/2025/02/461718773_1058335212968323_1394124823784416070_n.jpg
ORGANIZER;CN="Pop's Culture":MAILTO:info@popscultureshoppe.com
END:VEVENT
END:VCALENDAR