BEGIN:VCALENDAR
VERSION:2.0
PRODID:-//Visit Potter-Tioga Pennsylvania - ECPv6.15.12.2//NONSGML v1.0//EN
CALSCALE:GREGORIAN
METHOD:PUBLISH
X-ORIGINAL-URL:https://www.visitpottertioga.com
X-WR-CALDESC:Events for Visit Potter-Tioga Pennsylvania
REFRESH-INTERVAL;VALUE=DURATION:PT1H
X-Robots-Tag:noindex
X-PUBLISHED-TTL:PT1H
BEGIN:VTIMEZONE
TZID:America/New_York
BEGIN:DAYLIGHT
TZOFFSETFROM:-0500
TZOFFSETTO:-0400
TZNAME:EDT
DTSTART:20240310T070000
END:DAYLIGHT
BEGIN:STANDARD
TZOFFSETFROM:-0400
TZOFFSETTO:-0500
TZNAME:EST
DTSTART:20241103T060000
END:STANDARD
BEGIN:DAYLIGHT
TZOFFSETFROM:-0500
TZOFFSETTO:-0400
TZNAME:EDT
DTSTART:20250309T070000
END:DAYLIGHT
BEGIN:STANDARD
TZOFFSETFROM:-0400
TZOFFSETTO:-0500
TZNAME:EST
DTSTART:20251102T060000
END:STANDARD
BEGIN:DAYLIGHT
TZOFFSETFROM:-0500
TZOFFSETTO:-0400
TZNAME:EDT
DTSTART:20260308T070000
END:DAYLIGHT
BEGIN:STANDARD
TZOFFSETFROM:-0400
TZOFFSETTO:-0500
TZNAME:EST
DTSTART:20261101T060000
END:STANDARD
BEGIN:DAYLIGHT
TZOFFSETFROM:-0500
TZOFFSETTO:-0400
TZNAME:EDT
DTSTART:20270314T070000
END:DAYLIGHT
BEGIN:STANDARD
TZOFFSETFROM:-0400
TZOFFSETTO:-0500
TZNAME:EST
DTSTART:20271107T060000
END:STANDARD
END:VTIMEZONE
BEGIN:VEVENT
DTSTART;TZID=America/New_York:20251116T143000
DTEND;TZID=America/New_York:20251116T160000
DTSTAMP:20260424T101545
CREATED:20251008T163114Z
LAST-MODIFIED:20251008T163114Z
UID:10003452-1763303400-1763308800@www.visitpottertioga.com
SUMMARY:Orchestra Concert at Commonwealth University - Mansfield
DESCRIPTION:Enjoy an afternoon of live music when the Department of Music at Commonwealth University presents an Orchestra Concert on Sunday\, November 16th at 2:30 pm in the Steadman Theatre on the historic campus in Mansfield. \nThe talented students and faculty of the school have earned a widely acclaimed reputation as one of the premiere arts programs where audiences can experience excellence in performance. Plan now to attend this great afternoon of music.
URL:https://www.visitpottertioga.com/event/orchestra-concert-at-commonwealth-university-mansfield
LOCATION:Mansfield University\, Manfield\, PA\, United States
CATEGORIES:General
ATTACH;FMTTYPE=image/png:https://www.visitpottertioga.com/wp-content/uploads/2025/10/orchlogo-1.png
ORGANIZER;CN="Mansfield University":MAILTO:mansfieldu@mansfield.edu
END:VEVENT
BEGIN:VEVENT
DTSTART;TZID=America/New_York:20251120T150000
DTEND;TZID=America/New_York:20251120T163000
DTSTAMP:20260424T101545
CREATED:20251030T145859Z
LAST-MODIFIED:20251030T145859Z
UID:10003463-1763650800-1763656200@www.visitpottertioga.com
SUMMARY:Young Artisans Open Art Studio
DESCRIPTION:Young Artisans Open Art Studio will be held on Thursday November 20th from 3:00 pm to 4:30 pm at the Potter County Artisan Center in Coudersport. Students will be given the option of designing their own project or following a sample painting in watercolor or acrylic. \nSupplies and snacks will be provided. \nPrice of the class is $20.00. \n 
URL:https://www.visitpottertioga.com/event/young-artisans-open-art-studio
LOCATION:Potter County Artisan Center\, 227 N Main Street\, Coudersport\, PA\, United States
CATEGORIES:General
ATTACH;FMTTYPE=image/jpeg:https://www.visitpottertioga.com/wp-content/uploads/2025/10/570401792_1546811573440313_7086692214652342207_n.jpg
END:VEVENT
BEGIN:VEVENT
DTSTART;TZID=America/New_York:20251120T153000
DTEND;TZID=America/New_York:20251120T153000
DTSTAMP:20260424T101545
CREATED:20250205T144616Z
LAST-MODIFIED:20250205T145017Z
UID:10002779-1763652600-1763652600@www.visitpottertioga.com
SUMMARY:Pokemon Club
DESCRIPTION:Meet other fans at Pop’s Culture Shoppe in Wellsboro every Thursday at 3:30 pm who love to collect the cards and play Pokémon. \nLearn the basics\, improve your game\, and even play in tournaments with our Professor of Pokémon! Free! \nVisit the website or call Pop’s Culture Shoppe for details.
URL:https://www.visitpottertioga.com/event/pokemon-club/2025-11-20
LOCATION:Pop’s Culture Shoppe\, 25 Main Street\, Wellsboro\, PA\, United States
CATEGORIES:General
ATTACH;FMTTYPE=image/jpeg:https://www.visitpottertioga.com/wp-content/uploads/2025/02/461718773_1058335212968323_1394124823784416070_n.jpg
ORGANIZER;CN="Pop's Culture":MAILTO:info@popscultureshoppe.com
END:VEVENT
BEGIN:VEVENT
DTSTART;TZID=America/New_York:20251121T123000
DTEND;TZID=America/New_York:20251121T163000
DTSTAMP:20260424T101545
CREATED:20250527T141431Z
LAST-MODIFIED:20250527T141431Z
UID:10003139-1763728200-1763742600@www.visitpottertioga.com
SUMMARY:Potter County Farmer's Market
DESCRIPTION:Looking for the finest in locally produced agricultural products and fresh produce?  Look no further than the Potter County Farmer’s Market on courthouse Square in Coudersport!\n\nThe Farmers Market will be outdoors AT THE NEW LOCATION on the Courthouse grounds\, at the corner and across the street from the square\, every Friday (weather permitting) from 12:30 pm to 4:30 pm.\n\n\nBack for the summer schedule of Friday markets\, BUT AT A NEW LOCATION due to renovations on the square.  The Market will be across the street from the square\, along the sidewalk to the right of the courthouse entrance\, and around the corner on East Street to the driveway.\nThe outdoor market is held each Friday from May through October (weather permitting; on very rainy days\, it will be located in the Riley Gallery (if available)). In November\, the farmers market goes indoors for the winter market.\n\nSupport local agriculture and discover the area’s best products when you visit the Potter County Farmer’s Market!
URL:https://www.visitpottertioga.com/event/potter-county-farmers-market-3/2025-11-21
LOCATION:Courthouse Square\, 1 E 2nd St\, Coudersport\, PA\, 16915
CATEGORIES:General
ATTACH;FMTTYPE=image/jpeg:https://www.visitpottertioga.com/wp-content/uploads/2025/05/479192050_1139928967924978_7591251497537358750_n.jpg
ORGANIZER;CN="Potter County Farmers Market":MAILTO:pottercountyfarmmarket@yahoo.com
END:VEVENT
BEGIN:VEVENT
DTSTART;TZID=America/New_York:20251121T180000
DTEND;TZID=America/New_York:20251121T200000
DTSTAMP:20260424T101545
CREATED:20251030T150434Z
LAST-MODIFIED:20251030T150434Z
UID:10003464-1763748000-1763755200@www.visitpottertioga.com
SUMMARY:Holiday Paint & Sip at the Potter County Artisan Center
DESCRIPTION:Join the festive fun at the Potter County Artisan Center on Friday\, November 21st for a Holiday Paint n Sip taking place from 6:00 pm -8:00 pm. \nBring a friend and enjoy this holiday themed class and enjoy an evening of creative fun. \nPrice of the class is $25.00.  All supplies included. \n 
URL:https://www.visitpottertioga.com/event/holiday-paint-sip-at-the-potter-county-artisan-center
LOCATION:Potter County Artisan Center\, 227 N Main Street\, Coudersport\, PA\, United States
CATEGORIES:General
ATTACH;FMTTYPE=image/jpeg:https://www.visitpottertioga.com/wp-content/uploads/2025/10/570401792_1546811573440313_7086692214652342207_n.jpg
END:VEVENT
BEGIN:VEVENT
DTSTART;TZID=America/New_York:20251122T000000
DTEND;TZID=America/New_York:20260111T180000
DTSTAMP:20260424T101545
CREATED:20251112T161305Z
LAST-MODIFIED:20251112T161305Z
UID:10003476-1763769600-1768154400@www.visitpottertioga.com
SUMMARY:Exhibit - Wrapped in Tradition - Wellsboro's Shrink-Wrapped Ornaments
DESCRIPTION:The Gmeiner Art & Cultural Center is excited to present its December Atrium Gallery exhibit\, “Wrapped in Tradition: Wellsboro’s Shrink-Wrapped Ornaments\,” featuring a dazzling array of ornaments from the Wellsboro Glass Historical Association (WGHA) collection. The exhibit celebrates the innovative history and artistry of Wellsboro’s glass ornament production\, with a special focus on the unique shrink-wrap designs that have become cherished holiday keepsakes. \nThe opening reception will take place on Saturday\, November 22nd from 2:00 to 4:00 PM\, and is free to the public. \n“Wrapped in Tradition: Wellsboro’s Shrink-Wrapped Ornaments” will be on display until Sunday\, January 11th. Don’t miss this opportunity to experience a piece of American holiday history and celebrate the artistry and creativity that continue to make Wellsboro a special part of Christmas for families nationwide. \nThe Gmeiner is open from 12-6PM Tuesdays through Sundays and is located at 134 Main Street in Wellsboro behind the Green Free Library. Admission to the gallery is free.
URL:https://www.visitpottertioga.com/event/exhibit-wrapped-in-tradition-wellsboros-shrink-wrapped-ornaments
LOCATION:Gmeiner Art & Cultural Center\, 134 Main Street\, Wellsboro\, PA\, 16901\, United States
CATEGORIES:General
ATTACH;FMTTYPE=image/jpeg:https://www.visitpottertioga.com/wp-content/uploads/2025/11/Gmeiner.jpg
END:VEVENT
BEGIN:VEVENT
DTSTART;TZID=America/New_York:20251122T000000
DTEND;TZID=America/New_York:20260111T180000
DTSTAMP:20260424T101545
CREATED:20251112T161822Z
LAST-MODIFIED:20251112T161850Z
UID:10003477-1763769600-1768154400@www.visitpottertioga.com
SUMMARY:Exhibit - 2025 Juried Art Exhibit
DESCRIPTION:The Gmeiner Art & Cultural Center proudly announces its upcoming Main Gallery exhibition for December: the 2025 Regional Juried Exhibit. This highly competitive annual show celebrates the finest two-dimensional artworks from our region. The opening reception for both the Main Gallery and Atrium Gallery exhibits will take place on Saturday\, November 22nd from 2–4 PM. The public is invited to attend\, enjoy light refreshments\, and meet the artists. Admission is free\, and awards will be announced at 3 PM. The exhibition will remain on view through Sunday\, January 11th. \nThe Gmeiner is open from 12-6PM Tuesdays through Sundays and is located at 134 Main Street in Wellsboro behind the Green Free Library. Admission to the gallery is free.
URL:https://www.visitpottertioga.com/event/exhibit
LOCATION:Gmeiner Art & Cultural Center\, 134 Main Street\, Wellsboro\, PA\, 16901\, United States
CATEGORIES:General
ATTACH;FMTTYPE=image/jpeg:https://www.visitpottertioga.com/wp-content/uploads/2025/11/Picture2.jpg
END:VEVENT
END:VCALENDAR