BEGIN:VCALENDAR
VERSION:2.0
PRODID:-//Visit Potter-Tioga Pennsylvania - ECPv6.15.12.2//NONSGML v1.0//EN
CALSCALE:GREGORIAN
METHOD:PUBLISH
X-WR-CALNAME:Visit Potter-Tioga Pennsylvania
X-ORIGINAL-URL:https://www.visitpottertioga.com
X-WR-CALDESC:Events for Visit Potter-Tioga Pennsylvania
REFRESH-INTERVAL;VALUE=DURATION:PT1H
X-Robots-Tag:noindex
X-PUBLISHED-TTL:PT1H
BEGIN:VTIMEZONE
TZID:America/New_York
BEGIN:DAYLIGHT
TZOFFSETFROM:-0500
TZOFFSETTO:-0400
TZNAME:EDT
DTSTART:20250309T070000
END:DAYLIGHT
BEGIN:STANDARD
TZOFFSETFROM:-0400
TZOFFSETTO:-0500
TZNAME:EST
DTSTART:20251102T060000
END:STANDARD
BEGIN:DAYLIGHT
TZOFFSETFROM:-0500
TZOFFSETTO:-0400
TZNAME:EDT
DTSTART:20260308T070000
END:DAYLIGHT
BEGIN:STANDARD
TZOFFSETFROM:-0400
TZOFFSETTO:-0500
TZNAME:EST
DTSTART:20261101T060000
END:STANDARD
BEGIN:DAYLIGHT
TZOFFSETFROM:-0500
TZOFFSETTO:-0400
TZNAME:EDT
DTSTART:20270314T070000
END:DAYLIGHT
BEGIN:STANDARD
TZOFFSETFROM:-0400
TZOFFSETTO:-0500
TZNAME:EST
DTSTART:20271107T060000
END:STANDARD
END:VTIMEZONE
BEGIN:VEVENT
DTSTART;TZID=America/New_York:20260125T150000
DTEND;TZID=America/New_York:20260125T180000
DTSTAMP:20260424T001122
CREATED:20260108T200124Z
LAST-MODIFIED:20260108T200124Z
UID:10003504-1769353200-1769364000@www.visitpottertioga.com
SUMMARY:Robert Burns Dinner 2026
DESCRIPTION:The Robert Burns Dinner at Timeless Destination in Wellsboro is a chance to gather in celebration of Burns\, Scottish heritage\, poetry\, whiskey and good company. \nBring a friend and a poem to share for the 2026 Robert Burns Supper of Wellsboro featuring appetizers\, salad\, haggis\, neeps & tatties\, tipsy laird dessert\, single malt toast\, Scottish music and good company. $45 per person\, advance reservations only to Jim Tutak at legaltak@aol.com. Seating is limited – reserve your spot now!
URL:https://www.visitpottertioga.com/event/robert-burns-dinner-2026
LOCATION:Timeless Destination\, 77 Main Street\, Wellsboro\, PA\, 16901\, United States
CATEGORIES:General
ATTACH;FMTTYPE=image/png:https://www.visitpottertioga.com/wp-content/uploads/2026/01/Burns.png
ORGANIZER;CN="Timeless Destination":MAILTO:timelesscaters@gmail.com
END:VEVENT
BEGIN:VEVENT
DTSTART;TZID=America/New_York:20260129T153000
DTEND;TZID=America/New_York:20260129T153000
DTSTAMP:20260424T001122
CREATED:20250205T144616Z
LAST-MODIFIED:20250205T145017Z
UID:10002789-1769700600-1769700600@www.visitpottertioga.com
SUMMARY:Pokemon Club
DESCRIPTION:Meet other fans at Pop’s Culture Shoppe in Wellsboro every Thursday at 3:30 pm who love to collect the cards and play Pokémon. \nLearn the basics\, improve your game\, and even play in tournaments with our Professor of Pokémon! Free! \nVisit the website or call Pop’s Culture Shoppe for details.
URL:https://www.visitpottertioga.com/event/pokemon-club/2026-01-29
LOCATION:Pop’s Culture Shoppe\, 25 Main Street\, Wellsboro\, PA\, United States
CATEGORIES:General
ATTACH;FMTTYPE=image/jpeg:https://www.visitpottertioga.com/wp-content/uploads/2025/02/461718773_1058335212968323_1394124823784416070_n.jpg
ORGANIZER;CN="Pop's Culture":MAILTO:info@popscultureshoppe.com
END:VEVENT
BEGIN:VEVENT
DTSTART;TZID=America/New_York:20260131T180000
DTEND;TZID=America/New_York:20260131T220000
DTSTAMP:20260424T001122
CREATED:20260113T145115Z
LAST-MODIFIED:20260113T145256Z
UID:10003516-1769882400-1769896800@www.visitpottertioga.com
SUMMARY:Packer Park Pool Benefit
DESCRIPTION:[vc_row][vc_column][vc_column_text css=””]Head over to the Deane Center on Saturday\, January 31st and bask in summer vibes while supporting a great cause. \nFloat on Through the Decades is a splashy night of music\, dancing\, and good vibes in support of Packer Park Pool. Grab a float\, hit the dance floor\, and enjoy live music from Ostrich Hat\, a nacho bar\, silent auction\, raffles\, and more. Come ready to relive your favorite decades and help keep our community pool thriving. \nA general admission ticket gives you access to all the fun this evening has to offer! Access to the silent auction\, cash bar\, raffles\, a seat in the risers\, nacho bar and most importantly … your spot on the dance floor! \nTable seating available for an extra fee.[/vc_column_text][/vc_column][/vc_row]
URL:https://www.visitpottertioga.com/event/packer-park-pool-benefit
LOCATION:Deane Center for the Performing Arts\, 104 Main Street\, Wellsboro\, PA\, 16901\, United States
CATEGORIES:General
ATTACH;FMTTYPE=image/png:https://www.visitpottertioga.com/wp-content/uploads/2026/01/8cf90dae-ef2c-481c-b850-c97fd897104c.png
END:VEVENT
END:VCALENDAR