BEGIN:VCALENDAR
VERSION:2.0
PRODID:-//Visit Potter-Tioga Pennsylvania - ECPv6.15.12.2//NONSGML v1.0//EN
CALSCALE:GREGORIAN
METHOD:PUBLISH
X-ORIGINAL-URL:https://www.visitpottertioga.com
X-WR-CALDESC:Events for Visit Potter-Tioga Pennsylvania
REFRESH-INTERVAL;VALUE=DURATION:PT1H
X-Robots-Tag:noindex
X-PUBLISHED-TTL:PT1H
BEGIN:VTIMEZONE
TZID:America/New_York
BEGIN:DAYLIGHT
TZOFFSETFROM:-0500
TZOFFSETTO:-0400
TZNAME:EDT
DTSTART:20250309T070000
END:DAYLIGHT
BEGIN:STANDARD
TZOFFSETFROM:-0400
TZOFFSETTO:-0500
TZNAME:EST
DTSTART:20251102T060000
END:STANDARD
BEGIN:DAYLIGHT
TZOFFSETFROM:-0500
TZOFFSETTO:-0400
TZNAME:EDT
DTSTART:20260308T070000
END:DAYLIGHT
BEGIN:STANDARD
TZOFFSETFROM:-0400
TZOFFSETTO:-0500
TZNAME:EST
DTSTART:20261101T060000
END:STANDARD
BEGIN:DAYLIGHT
TZOFFSETFROM:-0500
TZOFFSETTO:-0400
TZNAME:EDT
DTSTART:20270314T070000
END:DAYLIGHT
BEGIN:STANDARD
TZOFFSETFROM:-0400
TZOFFSETTO:-0500
TZNAME:EST
DTSTART:20271107T060000
END:STANDARD
END:VTIMEZONE
BEGIN:VEVENT
DTSTART;TZID=America/New_York:20260205T153000
DTEND;TZID=America/New_York:20260205T153000
DTSTAMP:20260423T191922
CREATED:20250205T144616Z
LAST-MODIFIED:20250205T145017Z
UID:10002790-1770305400-1770305400@www.visitpottertioga.com
SUMMARY:Pokemon Club
DESCRIPTION:Meet other fans at Pop’s Culture Shoppe in Wellsboro every Thursday at 3:30 pm who love to collect the cards and play Pokémon. \nLearn the basics\, improve your game\, and even play in tournaments with our Professor of Pokémon! Free! \nVisit the website or call Pop’s Culture Shoppe for details.
URL:https://www.visitpottertioga.com/event/pokemon-club/2026-02-05
LOCATION:Pop’s Culture Shoppe\, 25 Main Street\, Wellsboro\, PA\, United States
CATEGORIES:General
ATTACH;FMTTYPE=image/jpeg:https://www.visitpottertioga.com/wp-content/uploads/2025/02/461718773_1058335212968323_1394124823784416070_n.jpg
ORGANIZER;CN="Pop's Culture":MAILTO:info@popscultureshoppe.com
END:VEVENT
BEGIN:VEVENT
DTSTART;TZID=America/New_York:20260205T190000
DTEND;TZID=America/New_York:20260205T210000
DTSTAMP:20260423T191922
CREATED:20251222T143114Z
LAST-MODIFIED:20251222T143114Z
UID:10003480-1770318000-1770325200@www.visitpottertioga.com
SUMMARY:The Paza Experience - Documentary Screening
DESCRIPTION:A documentary screening of “Without Arrows” will be presented at the Deane Center for the Performing Arts on Thursday\, February 5th at 7:00 pm offering audiences an opportunity to experience a chapter from the moving story of America’s indigenous peoples. \nJohn Olshefski\, a film professor from Rowan University in Glassboro\, New Jersey\, approached Delwin Fiddler in 2008 to tell the story of his life on the Cheyenne River Sioux Reservation\, SD. This raw footage tells the story of Delwin’s impoverished life on the reservation to being a Boarding School survivor. From creating the Native Nations Dance Theater in Philadelphia\, to a tour around the world\, performing for two U.S. Presidents\, and the Royals in England. Q&A with Delwin Fiddler after the screening. Tickets $15. \nSponsored by the Dunham Family Foundation\, Mid Atlantic Arts Foundation\, and Penn Oak Realty. \n  \n 
URL:https://www.visitpottertioga.com/event/the-paza-experience-documentary-screening
LOCATION:Deane Center for the Performing Arts\, 104 Main Street\, Wellsboro\, PA\, 16901\, United States
CATEGORIES:General
ATTACH;FMTTYPE=image/jpeg:https://www.visitpottertioga.com/wp-content/uploads/2025/12/Paza-Deane.jpg
END:VEVENT
BEGIN:VEVENT
DTSTART;VALUE=DATE:20260206
DTEND;VALUE=DATE:20260209
DTSTAMP:20260423T191922
CREATED:20260108T164718Z
LAST-MODIFIED:20260108T164718Z
UID:10003496-1770336000-1770595199@www.visitpottertioga.com
SUMMARY:Winter Weekend in Wellsboro
DESCRIPTION:Taking place across four themed weekends in February\, this winter activities in Wellsboro promise something special for everyone\, from ice bars and dancing to crafts\, concerts\, and culinary adventures. Mark your calendars and prepare to make memories in the heart of this charming town. \nFebruary 6-7: Ice Ice Baby \nKick off the winter fun with a weekend that truly embraces the season! \n\nSip seasonal beverages at the Penn Wells Ice Bar\, open Friday Evening (6pm+)(February 6) and Saturday (February 7) starting at 11 am\n• Relive your favorite hits at a ’90s Dance Party\nValentine Cabaret by Hamilton Gibson Productions\n• Enjoy time on the ice-skating rink\n• Take a stroll down Main Street\, seeing all our ice sculptures.
URL:https://www.visitpottertioga.com/event/winter-weekend-in-wellsboro
LOCATION:Various locations around Wellsboro
CATEGORIES:General
ATTACH;FMTTYPE=image/jpeg:https://www.visitpottertioga.com/wp-content/uploads/2026/01/ice-wellsboro.jpg
END:VEVENT
BEGIN:VEVENT
DTSTART;TZID=America/New_York:20260206T180000
DTEND;TZID=America/New_York:20260206T210000
DTSTAMP:20260423T191922
CREATED:20260120T162924Z
LAST-MODIFIED:20260120T162924Z
UID:10003527-1770400800-1770411600@www.visitpottertioga.com
SUMMARY:Pop's Culture Shoppe "Winter Games"
DESCRIPTION:Join in the fun at Pop’s Culture Shoppe in the heart of Wellsboro for a Free “Winter Games Olympics” with various competitions in February: \n·        Friday Feb. 6th – 6:00pm Opening Ceremonies and a 7:00pm “Push Push Penguin” family game event. \n·        Friday Feb. 13th – 7:00pm “Ticket to Ride: Italy” game event. \n·        Friday Feb. 20th – 7:00pm”Winter” card game event. \n·        Saturday Feb. 21st – Closing Ceremonies. \n  \nPlus “Ice Cool” Targets\, Olympic Ring Game\, and other OPEN events throughout the two weeks. Earn points\, watch the leader board\, and receive participation awards!
URL:https://www.visitpottertioga.com/event/pops-culture-shoppe-winter-games/2026-02-06
LOCATION:Pop’s Culture Shoppe\, 25 Main Street\, Wellsboro\, PA\, United States
CATEGORIES:General
ATTACH;FMTTYPE=image/jpeg:https://www.visitpottertioga.com/wp-content/uploads/2026/01/pops-feb-26.jpg
ORGANIZER;CN="Pop's Culture":MAILTO:info@popscultureshoppe.com
END:VEVENT
BEGIN:VEVENT
DTSTART;TZID=America/New_York:20260206T193000
DTEND;TZID=America/New_York:20260206T213000
DTSTAMP:20260423T191922
CREATED:20260108T201912Z
LAST-MODIFIED:20260108T201912Z
UID:10003505-1770406200-1770413400@www.visitpottertioga.com
SUMMARY:Valentine Cabaret
DESCRIPTION:Let the great music of the musical theater help you and your special someone celebrate the season of romance when Hamilton Gibson Productions presents their “Valentine Cabaret” at the Warehouse Gallery of the Deane Center in Wellsboro. \nDescribed as “s candlelit evening of love songs—favorites and hidden-gems—from both classic and modern musical theater that explore l’amour in its many variations”\, this night of music is a sure crowd pleaser. \nSponsored in part by: \nBev McKnight\nDan Usavage and family in memory of Karen Usavage
URL:https://www.visitpottertioga.com/event/valentine-cabaret/2026-02-06
LOCATION:Deane Center Warehouse Gallery\, 3 Central Avenue\, Wellsboro\, PA\, 16901\, United States
CATEGORIES:General
ATTACH;FMTTYPE=image/jpeg:https://www.visitpottertioga.com/wp-content/uploads/2026/01/valentine-cabaret.jpg
END:VEVENT
BEGIN:VEVENT
DTSTART;TZID=America/New_York:20260207T193000
DTEND;TZID=America/New_York:20260207T213000
DTSTAMP:20260423T191922
CREATED:20260108T201912Z
LAST-MODIFIED:20260108T201912Z
UID:10003506-1770492600-1770499800@www.visitpottertioga.com
SUMMARY:Valentine Cabaret
DESCRIPTION:Let the great music of the musical theater help you and your special someone celebrate the season of romance when Hamilton Gibson Productions presents their “Valentine Cabaret” at the Warehouse Gallery of the Deane Center in Wellsboro. \nDescribed as “s candlelit evening of love songs—favorites and hidden-gems—from both classic and modern musical theater that explore l’amour in its many variations”\, this night of music is a sure crowd pleaser. \nSponsored in part by: \nBev McKnight\nDan Usavage and family in memory of Karen Usavage
URL:https://www.visitpottertioga.com/event/valentine-cabaret/2026-02-07
LOCATION:Deane Center Warehouse Gallery\, 3 Central Avenue\, Wellsboro\, PA\, 16901\, United States
CATEGORIES:General
ATTACH;FMTTYPE=image/jpeg:https://www.visitpottertioga.com/wp-content/uploads/2026/01/valentine-cabaret.jpg
END:VEVENT
BEGIN:VEVENT
DTSTART;TZID=America/New_York:20260207T200000
DTEND;TZID=America/New_York:20260207T220000
DTSTAMP:20260423T191922
CREATED:20251222T143610Z
LAST-MODIFIED:20251222T143658Z
UID:10003481-1770494400-1770501600@www.visitpottertioga.com
SUMMARY:Ice Ice Baby - 90's Dance Party
DESCRIPTION:Put on your dancing shoes and join the fun at the Coolidge Theater of the Deane Center in Wellsboro on Saturday\, February 7th for a hip-hoppin’\, electric slidin’ kind of night!  \nWhat better way to shake off the winter blues than with an evening of HOT 90’s dance music mixed for you by Nik-Kinetik. Dress up 90’s style for your chance to win our “Best Dressed Contest.” Buy your tickets to the event and receive a discount for a room at the Penn Wells for the night! Tickets $15. \n  \nSponsored by Wellsboro Electric Company\, Penn Wells Hotel\, and Beck’s Bistro. \n 
URL:https://www.visitpottertioga.com/event/90s-dance-party-at-the-deane-center
LOCATION:Deane Center for the Performing Arts\, 104 Main Street\, Wellsboro\, PA\, 16901\, United States
CATEGORIES:General
ATTACH;FMTTYPE=image/jpeg:https://www.visitpottertioga.com/wp-content/uploads/2025/12/dance-deane.jpg
END:VEVENT
END:VCALENDAR