BEGIN:VCALENDAR
VERSION:2.0
PRODID:-//Visit Potter-Tioga Pennsylvania - ECPv6.15.12.2//NONSGML v1.0//EN
CALSCALE:GREGORIAN
METHOD:PUBLISH
X-WR-CALNAME:Visit Potter-Tioga Pennsylvania
X-ORIGINAL-URL:https://www.visitpottertioga.com
X-WR-CALDESC:Events for Visit Potter-Tioga Pennsylvania
REFRESH-INTERVAL;VALUE=DURATION:PT1H
X-Robots-Tag:noindex
X-PUBLISHED-TTL:PT1H
BEGIN:VTIMEZONE
TZID:America/New_York
BEGIN:DAYLIGHT
TZOFFSETFROM:-0500
TZOFFSETTO:-0400
TZNAME:EDT
DTSTART:20250309T070000
END:DAYLIGHT
BEGIN:STANDARD
TZOFFSETFROM:-0400
TZOFFSETTO:-0500
TZNAME:EST
DTSTART:20251102T060000
END:STANDARD
BEGIN:DAYLIGHT
TZOFFSETFROM:-0500
TZOFFSETTO:-0400
TZNAME:EDT
DTSTART:20260308T070000
END:DAYLIGHT
BEGIN:STANDARD
TZOFFSETFROM:-0400
TZOFFSETTO:-0500
TZNAME:EST
DTSTART:20261101T060000
END:STANDARD
BEGIN:DAYLIGHT
TZOFFSETFROM:-0500
TZOFFSETTO:-0400
TZNAME:EDT
DTSTART:20270314T070000
END:DAYLIGHT
BEGIN:STANDARD
TZOFFSETFROM:-0400
TZOFFSETTO:-0500
TZNAME:EST
DTSTART:20271107T060000
END:STANDARD
END:VTIMEZONE
BEGIN:VEVENT
DTSTART;VALUE=DATE:20260227
DTEND;VALUE=DATE:20260302
DTSTAMP:20260423T191526
CREATED:20260108T165531Z
LAST-MODIFIED:20260108T165531Z
UID:10003499-1772150400-1772409599@www.visitpottertioga.com
SUMMARY:Winter Weekend in Wellsboro
DESCRIPTION:Taking place across four themed weekends in February\, this winter activities in Wellsboro promise something special for everyone\, from ice bars and dancing to crafts\, concerts\, and culinary adventures. Mark your calendars and prepare to make memories in the heart of this charming town. \nFebruary 28: Crafts & Cuisine \nRound out the month with a celebration of creativity and flavor! \n\n“Picasso at the Lapin Agile” by Hamilton Gibson Productions\nVelveeta Concert at Deane Center\nFood & Beverage Hopping at various locations with Culinary Coins\n\nCoins will be for sale at the Chamber of Commerce office. 114 Main Street\, Wellsboro.
URL:https://www.visitpottertioga.com/event/winter-weekend-in-wellsboro-4
LOCATION:Various locations around Wellsboro
CATEGORIES:General
ATTACH;FMTTYPE=image/jpeg:https://www.visitpottertioga.com/wp-content/uploads/2026/01/ice-wellsboro.jpg
END:VEVENT
BEGIN:VEVENT
DTSTART;TZID=America/New_York:20260301T143000
DTEND;TZID=America/New_York:20260301T163000
DTSTAMP:20260423T191526
CREATED:20260108T202809Z
LAST-MODIFIED:20260108T202809Z
UID:10003514-1772375400-1772382600@www.visitpottertioga.com
SUMMARY:Picasso at the Lapin Agile
DESCRIPTION:Hamilton Gibson Productions presents one of the most acclaimed comedies to the stage of the Warehouse Gallery Theatre in Wellsboro for six hysterical performances. \nThe comic genius Steve Martin wrote this popular comedy based on the premise – A budding artist and a budding physicist walk into a bar. What sort of explosions are created when you combine the elements of Einstein and Picasso? A zany\, thoughtful comedy by one of the great contemporary comedic artists of our time. \nSponsored by:\nLarry & Barbara Biddison\n​Michael & Brandy Hirsch
URL:https://www.visitpottertioga.com/event/picasso-at-the-lapin-agile/2026-03-01
LOCATION:Deane Center Warehouse Gallery\, 3 Central Avenue\, Wellsboro\, PA\, 16901\, United States
CATEGORIES:General
ATTACH;FMTTYPE=image/jpeg:https://www.visitpottertioga.com/wp-content/uploads/2026/01/picasso-at-the-lapin-agile.jpg
END:VEVENT
BEGIN:VEVENT
DTSTART;TZID=America/New_York:20260305T153000
DTEND;TZID=America/New_York:20260305T153000
DTSTAMP:20260423T191526
CREATED:20250205T144616Z
LAST-MODIFIED:20250205T145017Z
UID:10002794-1772724600-1772724600@www.visitpottertioga.com
SUMMARY:Pokemon Club
DESCRIPTION:Meet other fans at Pop’s Culture Shoppe in Wellsboro every Thursday at 3:30 pm who love to collect the cards and play Pokémon. \nLearn the basics\, improve your game\, and even play in tournaments with our Professor of Pokémon! Free! \nVisit the website or call Pop’s Culture Shoppe for details.
URL:https://www.visitpottertioga.com/event/pokemon-club/2026-03-05
LOCATION:Pop’s Culture Shoppe\, 25 Main Street\, Wellsboro\, PA\, United States
CATEGORIES:General
ATTACH;FMTTYPE=image/jpeg:https://www.visitpottertioga.com/wp-content/uploads/2025/02/461718773_1058335212968323_1394124823784416070_n.jpg
ORGANIZER;CN="Pop's Culture":MAILTO:info@popscultureshoppe.com
END:VEVENT
BEGIN:VEVENT
DTSTART;TZID=America/New_York:20260305T193000
DTEND;TZID=America/New_York:20260305T213000
DTSTAMP:20260423T191526
CREATED:20260108T170845Z
LAST-MODIFIED:20260108T170845Z
UID:10003500-1772739000-1772746200@www.visitpottertioga.com
SUMMARY:Man of La Mancha
DESCRIPTION:The heartbreaking and inspirational Tony Award-winning musical\, Man of La Mancha\, based on Cervantes’ Don Quixote\, about one man’s refusal to give up his impossible dream is being presented March 5-8\, 2026 at Mansfield University. The stirring score and timeless message of this masterpiece is a “must see” event live on stage. \nmansfield.booktix.com
URL:https://www.visitpottertioga.com/event/man-of-la-mancha/2026-03-05
LOCATION:Mansfield University Straughn Auditorium\, 35 Straughn Dr.\, Mansfield\, PA\, 16933
ATTACH;FMTTYPE=image/png:https://www.visitpottertioga.com/wp-content/uploads/2026/01/molm-960-x-640-px.png
ORGANIZER;CN="Mansfield University":MAILTO:mansfieldu@mansfield.edu
END:VEVENT
BEGIN:VEVENT
DTSTART;TZID=America/New_York:20260306T180000
DTEND;TZID=America/New_York:20260306T200000
DTSTAMP:20260423T191526
CREATED:20260302T160043Z
LAST-MODIFIED:20260302T160043Z
UID:10003539-1772820000-1772827200@www.visitpottertioga.com
SUMMARY:Watercolor Class for Students at Potter County Artisan Center
DESCRIPTION:A Watercolor Class for Students aged 14 and up taught by painter\, Laurie Angood\, will be held on Friday\, March 6th\, from 6:00 PM to 8:00PM at the Potter County Artisan Co-op in Coudersport. Price of the class is $35.00 and includes materials. \nTo register\, please call the Potter County Artisan Co-op on 814-274-8165. The co-op is located at 227 N. Main Street. The co-op’s winter hours are Monday through Friday 12 to 4:00 pm and Saturday 9-5pm. \nEvents and classes are supported in part by the Pennsylvania Council on the Arts and the Elk County Council on the Arts\, state agencies funded by the Commonwealth of Pennsylvania.
URL:https://www.visitpottertioga.com/event/watercolor-class-for-students-at-potter-county-artisan-center
LOCATION:Potter County Artisan Center\, 227 N Main Street\, Coudersport\, PA\, United States
CATEGORIES:General
ATTACH;FMTTYPE=image/jpeg:https://www.visitpottertioga.com/wp-content/uploads/2026/03/march-pcac.jpg
END:VEVENT
BEGIN:VEVENT
DTSTART;TZID=America/New_York:20260306T193000
DTEND;TZID=America/New_York:20260306T213000
DTSTAMP:20260423T191526
CREATED:20260108T170845Z
LAST-MODIFIED:20260108T170845Z
UID:10003501-1772825400-1772832600@www.visitpottertioga.com
SUMMARY:Man of La Mancha
DESCRIPTION:The heartbreaking and inspirational Tony Award-winning musical\, Man of La Mancha\, based on Cervantes’ Don Quixote\, about one man’s refusal to give up his impossible dream is being presented March 5-8\, 2026 at Mansfield University. The stirring score and timeless message of this masterpiece is a “must see” event live on stage. \nmansfield.booktix.com
URL:https://www.visitpottertioga.com/event/man-of-la-mancha/2026-03-06
LOCATION:Mansfield University Straughn Auditorium\, 35 Straughn Dr.\, Mansfield\, PA\, 16933
ATTACH;FMTTYPE=image/png:https://www.visitpottertioga.com/wp-content/uploads/2026/01/molm-960-x-640-px.png
ORGANIZER;CN="Mansfield University":MAILTO:mansfieldu@mansfield.edu
END:VEVENT
BEGIN:VEVENT
DTSTART;TZID=America/New_York:20260307T110000
DTEND;TZID=America/New_York:20260307T130000
DTSTAMP:20260423T191526
CREATED:20260302T154209Z
LAST-MODIFIED:20260302T154209Z
UID:10003536-1772881200-1772888400@www.visitpottertioga.com
SUMMARY:Tree Identification Walk at Sinnemahoning State Park
DESCRIPTION:Come along for a leisurely walk down the Lowlands Trail at Sinnemahoning State Park\, as park guides lead a walk in the scenic park to examine and teach you how to identify native trees. Using bark\, limb structure\, and bud scars that are plentiful to observe this time of year\, you will learn how to properly identify trees without the added benefit of leaves. \nTo be part of this free educational event\, meet at the Wildlife Center. \n  \n 
URL:https://www.visitpottertioga.com/event/tree-identification-walk-at-sinnemahoning-state-park
LOCATION:Sinnemahoning State Park\, 4843 Park Road\, Austin\, PA\, 16720\, United States
CATEGORIES:General
ATTACH;FMTTYPE=image/jpeg:https://www.visitpottertioga.com/wp-content/uploads/2026/03/tree-identification-walk.jpg
ORGANIZER;CN="PA Department of Conservation and Natural Resources":MAILTO:SinnemahoningSP@pa.gov
END:VEVENT
BEGIN:VEVENT
DTSTART;TZID=America/New_York:20260307T180000
DTEND;TZID=America/New_York:20260307T220000
DTSTAMP:20260423T191526
CREATED:20260106T150153Z
LAST-MODIFIED:20260106T150153Z
UID:10003488-1772906400-1772920800@www.visitpottertioga.com
SUMMARY:Glamour & Glitz Benefit at the Deane Center
DESCRIPTION:Enjoy a night out and support the region’s premiere performance venue\, the Deane Center for the Performing Arts\, on Saturday\, March 7th at the “Glamour & Glitz” benefit. \nCommitted to providing local audiences with the best in live music\, performances and educational events throughout the year\, this benefit is an opportunity to enjoy a night out “Hollywood style” and support the local performing arts community. \nvisit the website for more details.
URL:https://www.visitpottertioga.com/event/glamour-glitz-benefit-at-the-deane-center
LOCATION:Deane Center for the Performing Arts\, 104 Main Street\, Wellsboro\, PA\, 16901\, United States
CATEGORIES:General
ATTACH;FMTTYPE=image/jpeg:https://www.visitpottertioga.com/wp-content/uploads/2026/01/glamour.jpg
END:VEVENT
BEGIN:VEVENT
DTSTART;TZID=America/New_York:20260307T193000
DTEND;TZID=America/New_York:20260307T213000
DTSTAMP:20260423T191526
CREATED:20260108T170845Z
LAST-MODIFIED:20260108T170845Z
UID:10003502-1772911800-1772919000@www.visitpottertioga.com
SUMMARY:Man of La Mancha
DESCRIPTION:The heartbreaking and inspirational Tony Award-winning musical\, Man of La Mancha\, based on Cervantes’ Don Quixote\, about one man’s refusal to give up his impossible dream is being presented March 5-8\, 2026 at Mansfield University. The stirring score and timeless message of this masterpiece is a “must see” event live on stage. \nmansfield.booktix.com
URL:https://www.visitpottertioga.com/event/man-of-la-mancha/2026-03-07
LOCATION:Mansfield University Straughn Auditorium\, 35 Straughn Dr.\, Mansfield\, PA\, 16933
ATTACH;FMTTYPE=image/png:https://www.visitpottertioga.com/wp-content/uploads/2026/01/molm-960-x-640-px.png
ORGANIZER;CN="Mansfield University":MAILTO:mansfieldu@mansfield.edu
END:VEVENT
END:VCALENDAR