BEGIN:VCALENDAR
VERSION:2.0
PRODID:-//Visit Potter-Tioga Pennsylvania - ECPv6.15.12.2//NONSGML v1.0//EN
CALSCALE:GREGORIAN
METHOD:PUBLISH
X-WR-CALNAME:Visit Potter-Tioga Pennsylvania
X-ORIGINAL-URL:https://www.visitpottertioga.com
X-WR-CALDESC:Events for Visit Potter-Tioga Pennsylvania
REFRESH-INTERVAL;VALUE=DURATION:PT1H
X-Robots-Tag:noindex
X-PUBLISHED-TTL:PT1H
BEGIN:VTIMEZONE
TZID:America/New_York
BEGIN:DAYLIGHT
TZOFFSETFROM:-0500
TZOFFSETTO:-0400
TZNAME:EDT
DTSTART:20250309T070000
END:DAYLIGHT
BEGIN:STANDARD
TZOFFSETFROM:-0400
TZOFFSETTO:-0500
TZNAME:EST
DTSTART:20251102T060000
END:STANDARD
BEGIN:DAYLIGHT
TZOFFSETFROM:-0500
TZOFFSETTO:-0400
TZNAME:EDT
DTSTART:20260308T070000
END:DAYLIGHT
BEGIN:STANDARD
TZOFFSETFROM:-0400
TZOFFSETTO:-0500
TZNAME:EST
DTSTART:20261101T060000
END:STANDARD
BEGIN:DAYLIGHT
TZOFFSETFROM:-0500
TZOFFSETTO:-0400
TZNAME:EDT
DTSTART:20270314T070000
END:DAYLIGHT
BEGIN:STANDARD
TZOFFSETFROM:-0400
TZOFFSETTO:-0500
TZNAME:EST
DTSTART:20271107T060000
END:STANDARD
END:VTIMEZONE
BEGIN:VEVENT
DTSTART;VALUE=DATE:20260321
DTEND;VALUE=DATE:20260323
DTSTAMP:20260423T174310
CREATED:20260319T163938Z
LAST-MODIFIED:20260319T164053Z
UID:10003569-1774051200-1774223999@www.visitpottertioga.com
SUMMARY:Potter Tioga Maple Weekend
DESCRIPTION:A sweet annual event returns to the region as the Potter-Tioga Maple Producers Association hosts the annual Maple Weekend March 20-21\, 2026. \nThe annual Maple Weekend began in 2005\, and currently has 16 participating farms and educational experiences across Potter and Tioga Counties. The farms offer tours\, demonstrations and the finest in pure maple products\, and visitors learn about the interesting story of each farm and the unique processes developed by individual producers. \nHead across our two counties from farm-to-farm sampling the local product and seeing how some farms fire with natural gas or fuel oil\, while others use a traditional wood fire during the evaporation process. While most farms have gone to tubing and vacuum-pump systems\, a fair number still hang some buckets in the trees\, and a few have foregone central collection all together. Even the creation of products varies at each location and range from maple salad dressing or barbecue sauce to jellies and homemade cookies to maple milkshakes or cotton candy. Each farm has a specialty and a recipe or two that have been passed down through the family over generations. \nIt’s a great weekend to get out to celebrate one of our region’s premiere products!
URL:https://www.visitpottertioga.com/event/potter-tioga-maple-weekend
LOCATION:Various Locations
CATEGORIES:General
ATTACH;FMTTYPE=image/png:https://www.visitpottertioga.com/wp-content/uploads/2026/03/1456350617.png
END:VEVENT
BEGIN:VEVENT
DTSTART;TZID=America/New_York:20260322T100000
DTEND;TZID=America/New_York:20260322T120000
DTSTAMP:20260423T174310
CREATED:20260304T151226Z
LAST-MODIFIED:20260304T151226Z
UID:10003549-1774173600-1774180800@www.visitpottertioga.com
SUMMARY:Tree Measuring Basics Program at Sinnemahoning State Park
DESCRIPTION:What is a champion tree? How are standing trees measured? This 2-hour program at Sinnemahoning State Park\, on Sunday\, March 22nd at 10:00 am will provide a brief overview of how champion trees are measured\, how a score is determined\, along with hands-on tree measurements. \nTo take part in this educational program\, head to the Wildlife Center to meet with park educators offering this program. \n  \n  \n 
URL:https://www.visitpottertioga.com/event/tree-measuring-basics-program-at-sinnemahoning-state-park
LOCATION:Sinnemahoning State Park\, 4843 Park Road\, Austin\, PA\, 16720\, United States
CATEGORIES:General
ATTACH;FMTTYPE=image/jpeg:https://www.visitpottertioga.com/wp-content/uploads/2026/03/tree-identification-walk.jpg
ORGANIZER;CN="PA Department of Conservation and Natural Resources":MAILTO:SinnemahoningSP@pa.gov
END:VEVENT
BEGIN:VEVENT
DTSTART;TZID=America/New_York:20260324T193000
DTEND;TZID=America/New_York:20260324T213000
DTSTAMP:20260423T174310
CREATED:20260304T160211Z
LAST-MODIFIED:20260304T160211Z
UID:10003553-1774380600-1774387800@www.visitpottertioga.com
SUMMARY:History Comes Alive - Harriet Tubman - Deane Center
DESCRIPTION:Head to the Deane Center for the Performing Arts in Wellsboro on Tuesday\, March 24th at 7:30 pm for a History Comes Alive presentation\, “Harriet Tubman” featuring Dr. Daisy Century.\n\n\nBorn Araminta Ross\, Harriet Tubman lived as a slave on a Maryland plantation. Frequently threatened\, beaten\, whipped\, and starved\, Ms. Tubman’s indomitable spirit could not be broken. A Union spy during the Civil War as well as a nurse\, Ms. Tubman directed her consider energies towards humanitarian causes that included women’s suffrage after the war.\n\nDr. Daisy Century considers Harriet Tubman her role model\, someone who encouraged her to put others first and to lead by example. Like her inspiration\, Daisy grew up on a farm\, has a wonderful singing voice and is a determined woman of conviction: once they start a project\, they must see it through to completion. Harriet Tubman reveals a woman who made up her mind as a young girl that things could be better than they were\, “I had reasoned this out in my mind. There was one of two things I had a right to – liberty or death. If I could not have one\, I would have the other.” Tubman shows us a woman who found freedom for herself and then made sure others were brought to freedom.  \nSponsored by America250PA and the Charles Knox & Margaret Etner Foundation.
URL:https://www.visitpottertioga.com/event/history-comes-alive-harriet-tubman-deane-center
LOCATION:Deane Center for the Performing Arts\, 104 Main Street\, Wellsboro\, PA\, 16901\, United States
CATEGORIES:General
ATTACH;FMTTYPE=image/avif:https://www.visitpottertioga.com/wp-content/uploads/2026/03/edd6ad_93d27544db834fa6bc4192a27d81c48emv2.avif
END:VEVENT
BEGIN:VEVENT
DTSTART;TZID=America/New_York:20260326T153000
DTEND;TZID=America/New_York:20260326T153000
DTSTAMP:20260423T174310
CREATED:20250205T144616Z
LAST-MODIFIED:20250205T145017Z
UID:10002797-1774539000-1774539000@www.visitpottertioga.com
SUMMARY:Pokemon Club
DESCRIPTION:Meet other fans at Pop’s Culture Shoppe in Wellsboro every Thursday at 3:30 pm who love to collect the cards and play Pokémon. \nLearn the basics\, improve your game\, and even play in tournaments with our Professor of Pokémon! Free! \nVisit the website or call Pop’s Culture Shoppe for details.
URL:https://www.visitpottertioga.com/event/pokemon-club/2026-03-26
LOCATION:Pop’s Culture Shoppe\, 25 Main Street\, Wellsboro\, PA\, United States
CATEGORIES:General
ATTACH;FMTTYPE=image/jpeg:https://www.visitpottertioga.com/wp-content/uploads/2025/02/461718773_1058335212968323_1394124823784416070_n.jpg
ORGANIZER;CN="Pop's Culture":MAILTO:info@popscultureshoppe.com
END:VEVENT
BEGIN:VEVENT
DTSTART;TZID=America/New_York:20260328T093000
DTEND;TZID=America/New_York:20260328T130000
DTSTAMP:20260423T174310
CREATED:20260302T162344Z
LAST-MODIFIED:20260302T162344Z
UID:10003543-1774690200-1774702800@www.visitpottertioga.com
SUMMARY:Hefty Round Basket Making Class with Cathy Snyder
DESCRIPTION:Cathy Snyder\, master basket weaver\, will be teaching a Hefty Round Basket Making Class on Saturday\, March 28th from 9:30 am-3:00 pm at the Potter County Artisan Center in Coudersport. \nPrice of the class is $40.00.  Materials included.  Bring a snack and drink. \nEvents and Classes are supported in part by the Pennsylvania Council on the Arts and Elk County Council ont he Arts\, state agencies funded by the state of Pennsylvania. 
URL:https://www.visitpottertioga.com/event/hefty-round-basket-making-class-with-cathy-snyder
LOCATION:Potter County Artisan Center\, 227 N Main Street\, Coudersport\, PA\, United States
CATEGORIES:General
ATTACH;FMTTYPE=image/jpeg:https://www.visitpottertioga.com/wp-content/uploads/2026/03/march-pcac.jpg
END:VEVENT
BEGIN:VEVENT
DTSTART;TZID=America/New_York:20260328T130000
DTEND;TZID=America/New_York:20260328T150000
DTSTAMP:20260423T174310
CREATED:20260304T153132Z
LAST-MODIFIED:20260304T153132Z
UID:10003550-1774702800-1774710000@www.visitpottertioga.com
SUMMARY:Antler Adventure Program at Sinnemahoning State Park
DESCRIPTION:Join a park naturalist and head out in search of shed antlers from White-tailed Deer and Rocky Mountain Elk. This 2-hour program at Sinnemahoning State Park\, on Saturday\, March 28th program involves walking over uneven terrain. Bring the entire family\, this program is appropriate for all ages. \nTo take part in this educational program\, head to the 40 Maples Day Use Area to meet with park educators offering this program. \n  \n  \n 
URL:https://www.visitpottertioga.com/event/antler-adventure-program-at-sinnemahoning-state-park
LOCATION:Sinnemahoning State Park\, 4843 Park Road\, Austin\, PA\, 16720\, United States
CATEGORIES:General
ATTACH;FMTTYPE=image/jpeg:https://www.visitpottertioga.com/wp-content/uploads/2025/03/elk.jpg
ORGANIZER;CN="PA Department of Conservation and Natural Resources":MAILTO:SinnemahoningSP@pa.gov
END:VEVENT
BEGIN:VEVENT
DTSTART;TZID=America/New_York:20260328T193000
DTEND;TZID=America/New_York:20260328T203000
DTSTAMP:20260423T174310
CREATED:20260304T154105Z
LAST-MODIFIED:20260304T154105Z
UID:10003551-1774726200-1774729800@www.visitpottertioga.com
SUMMARY:Woodcock Walk at Sinnemahoning State Park
DESCRIPTION:The sights and sounds of the American Woodcock’s “sky dance” display is a traditional sign of spring across eastern North America. Join a Park educator at Sinnemahoning State Park\, on Saturday\, March 28th at 7:30 pm for a one-hour walk down the Lowlands Trail where you will look and listen for the whistling wings of these interesting birds. \nTo take part in this educational program\, head to the Wildlife Center to meet with park educators offering this program. Please wear appropriate footwear as conditions require. \n  \n  \n 
URL:https://www.visitpottertioga.com/event/woodcock-walk-at-sinnemahoning-state-park-2
LOCATION:Sinnemahoning State Park\, 4843 Park Road\, Austin\, PA\, 16720\, United States
CATEGORIES:General
ATTACH;FMTTYPE=image/jpeg:https://www.visitpottertioga.com/wp-content/uploads/2026/03/American_woodcock_95252.jpg
ORGANIZER;CN="PA Department of Conservation and Natural Resources":MAILTO:SinnemahoningSP@pa.gov
END:VEVENT
END:VCALENDAR