BEGIN:VCALENDAR
VERSION:2.0
PRODID:-//Visit Potter-Tioga Pennsylvania - ECPv6.15.12.2//NONSGML v1.0//EN
CALSCALE:GREGORIAN
METHOD:PUBLISH
X-WR-CALNAME:Visit Potter-Tioga Pennsylvania
X-ORIGINAL-URL:https://www.visitpottertioga.com
X-WR-CALDESC:Events for Visit Potter-Tioga Pennsylvania
REFRESH-INTERVAL;VALUE=DURATION:PT1H
X-Robots-Tag:noindex
X-PUBLISHED-TTL:PT1H
BEGIN:VTIMEZONE
TZID:America/New_York
BEGIN:DAYLIGHT
TZOFFSETFROM:-0500
TZOFFSETTO:-0400
TZNAME:EDT
DTSTART:20250309T070000
END:DAYLIGHT
BEGIN:STANDARD
TZOFFSETFROM:-0400
TZOFFSETTO:-0500
TZNAME:EST
DTSTART:20251102T060000
END:STANDARD
BEGIN:DAYLIGHT
TZOFFSETFROM:-0500
TZOFFSETTO:-0400
TZNAME:EDT
DTSTART:20260308T070000
END:DAYLIGHT
BEGIN:STANDARD
TZOFFSETFROM:-0400
TZOFFSETTO:-0500
TZNAME:EST
DTSTART:20261101T060000
END:STANDARD
BEGIN:DAYLIGHT
TZOFFSETFROM:-0500
TZOFFSETTO:-0400
TZNAME:EDT
DTSTART:20270314T070000
END:DAYLIGHT
BEGIN:STANDARD
TZOFFSETFROM:-0400
TZOFFSETTO:-0500
TZNAME:EST
DTSTART:20271107T060000
END:STANDARD
END:VTIMEZONE
BEGIN:VEVENT
DTSTART;TZID=America/New_York:20260329T130000
DTEND;TZID=America/New_York:20260329T150000
DTSTAMP:20260423T161126
CREATED:20260302T162947Z
LAST-MODIFIED:20260302T162947Z
UID:10003546-1774789200-1774796400@www.visitpottertioga.com
SUMMARY:Art Journaling for Wellness Class at Potter County Artisan Center
DESCRIPTION:Elaine Barney will be teaching an “Art Journaling for Wellness” class at the Potter County Artisan Center on Sunday\, March 29th from 1:00 pm to 3:00 pm. Students will create a mixed media art journal for their wellness journey during this class. All supplies included int he registration. \nTo register for this classes or other events\, please call the Potter County Artisan Co-op on 814-274-8165.  The co-op is located at 227 N. Main Street.  The co-op’s hours are Monday through Saturday 9:00-5:00. \nNeed an activity while visiting the area?  Potter County Artisan Co-op can arrange a private group class for you and your friends at your convenience.  Just call ahead or message us on Facebook. Events and classes are supported in part by the Pennsylvania Council on the Arts and the Elk County Council on the Arts\, state agencies funded by the Commonwealth of Pennsylvania. 
URL:https://www.visitpottertioga.com/event/art-journaling-for-wellness-class-at-potter-county-artisan-center
LOCATION:Potter County Artisan Center\, 227 N Main Street\, Coudersport\, PA\, United States
CATEGORIES:General
ATTACH;FMTTYPE=image/jpeg:https://www.visitpottertioga.com/wp-content/uploads/2026/03/march-pcac.jpg
END:VEVENT
BEGIN:VEVENT
DTSTART;TZID=America/New_York:20260402T153000
DTEND;TZID=America/New_York:20260402T153000
DTSTAMP:20260423T161126
CREATED:20250205T144616Z
LAST-MODIFIED:20250205T145017Z
UID:10002798-1775143800-1775143800@www.visitpottertioga.com
SUMMARY:Pokemon Club
DESCRIPTION:Meet other fans at Pop’s Culture Shoppe in Wellsboro every Thursday at 3:30 pm who love to collect the cards and play Pokémon. \nLearn the basics\, improve your game\, and even play in tournaments with our Professor of Pokémon! Free! \nVisit the website or call Pop’s Culture Shoppe for details.
URL:https://www.visitpottertioga.com/event/pokemon-club/2026-04-02
LOCATION:Pop’s Culture Shoppe\, 25 Main Street\, Wellsboro\, PA\, United States
CATEGORIES:General
ATTACH;FMTTYPE=image/jpeg:https://www.visitpottertioga.com/wp-content/uploads/2025/02/461718773_1058335212968323_1394124823784416070_n.jpg
ORGANIZER;CN="Pop's Culture":MAILTO:info@popscultureshoppe.com
END:VEVENT
END:VCALENDAR