BEGIN:VCALENDAR
VERSION:2.0
PRODID:-//Visit Potter-Tioga Pennsylvania - ECPv6.15.12.2//NONSGML v1.0//EN
CALSCALE:GREGORIAN
METHOD:PUBLISH
X-ORIGINAL-URL:https://www.visitpottertioga.com
X-WR-CALDESC:Events for Visit Potter-Tioga Pennsylvania
REFRESH-INTERVAL;VALUE=DURATION:PT1H
X-Robots-Tag:noindex
X-PUBLISHED-TTL:PT1H
BEGIN:VTIMEZONE
TZID:America/New_York
BEGIN:DAYLIGHT
TZOFFSETFROM:-0500
TZOFFSETTO:-0400
TZNAME:EDT
DTSTART:20250309T070000
END:DAYLIGHT
BEGIN:STANDARD
TZOFFSETFROM:-0400
TZOFFSETTO:-0500
TZNAME:EST
DTSTART:20251102T060000
END:STANDARD
BEGIN:DAYLIGHT
TZOFFSETFROM:-0500
TZOFFSETTO:-0400
TZNAME:EDT
DTSTART:20260308T070000
END:DAYLIGHT
BEGIN:STANDARD
TZOFFSETFROM:-0400
TZOFFSETTO:-0500
TZNAME:EST
DTSTART:20261101T060000
END:STANDARD
BEGIN:DAYLIGHT
TZOFFSETFROM:-0500
TZOFFSETTO:-0400
TZNAME:EDT
DTSTART:20270314T070000
END:DAYLIGHT
BEGIN:STANDARD
TZOFFSETFROM:-0400
TZOFFSETTO:-0500
TZNAME:EST
DTSTART:20271107T060000
END:STANDARD
END:VTIMEZONE
BEGIN:VEVENT
DTSTART;TZID=America/New_York:20260414T130000
DTEND;TZID=America/New_York:20260414T140000
DTSTAMP:20260423T174749
CREATED:20260304T161724Z
LAST-MODIFIED:20260304T162143Z
UID:10003555-1776171600-1776175200@www.visitpottertioga.com
SUMMARY:Plant a Petunia with Yolie- Golden Afternoons Deane Center
DESCRIPTION:Enjoy a fun seasonal event at the Deane Center when the Golden Afternoons series presents “Plant a Petunia with Yolie” on Tuesday April 14th at 1:00 pm! Leister’s donates a variety of petunia plugs every year for participants to plant in a 4 1/2″ pot – everybody gets a free petunia to grow! \nFree refreshments will be served as part of this Golden Afternoons presentation free for Tioga County seniors presented in the lobby of the center.
URL:https://www.visitpottertioga.com/event/plant-a-petunia-with-yolie-golden-afternoons-deane-center
LOCATION:Deane Center for the Performing Arts\, 104 Main Street\, Wellsboro\, PA\, 16901\, United States
CATEGORIES:General
ATTACH;FMTTYPE=image/avif:https://www.visitpottertioga.com/wp-content/uploads/2026/03/edd6ad_6b6b9cb9674f4362b64115942a17de89mv2.avif
END:VEVENT
BEGIN:VEVENT
DTSTART;TZID=America/New_York:20260414T193000
DTEND;TZID=America/New_York:20260414T213000
DTSTAMP:20260423T174749
CREATED:20260304T162915Z
LAST-MODIFIED:20260304T162915Z
UID:10003556-1776195000-1776202200@www.visitpottertioga.com
SUMMARY:History Comes Alive - Abigail Adams - Deane Center
DESCRIPTION:Head to the Deane Center for the Performing Arts in Wellsboro on Tuesday\, April 14th at 7:30 pm for a History Comes Alive presentation\, “Abigail Admas” featuring Kim Hanley.\n\n\n\nIn her many letters Abigail Adams expressed the concerns and accomplishments of an early American patriotic woman. Her most famous request was for Congress to “Remember the ladies” in the creation of the Constitution of the United States. It was her clear understanding that women’s influences in the domestic sphere were as integral to the development of a new nation as the more public efforts of the founding fathers. Family economics\, children’s education and civic responsibility\, are the primary concerns of Abigail Adams. Her requests for legislation to benefit future generations included the necessity of education for all children regardless of sex or color\, as well as the right to self-determination for all individuals including the emancipation of slaves and granting wives equal status under the law. An understanding of her hopes for posterity begs the question: If the founding fathers would have heeded Mrs. Adams advice sooner\, would the nation have been spared years of strife from civil war to civil rights? A conversation with “Dear Abigail”\, 18th century wife and mother provides insight into the concerns of today’s Americans. \n\n\n\nMs. Hanley’s interactive school programs involve audience members who begin with large piles of money that grow smaller with each tax act that the British Parliament passes\, illustrating the economic tyranny the colonials faced under British rule. Abigail contrasts this inequality with a look into an egalitarian marriage of two intelligent\, articulate people who value themselves\, each other and their relationship. \n\n\n\n\nSponsored by America250PA and the Charles Knox & Margaret Etner Foundation.
URL:https://www.visitpottertioga.com/event/history-comes-alive-abigail-adams-deane-center
LOCATION:Deane Center for the Performing Arts\, 104 Main Street\, Wellsboro\, PA\, 16901\, United States
CATEGORIES:General
ATTACH;FMTTYPE=image/avif:https://www.visitpottertioga.com/wp-content/uploads/2026/03/edd6ad_e3220758d91a43ee8d35d1f648909373mv2.avif
END:VEVENT
BEGIN:VEVENT
DTSTART;TZID=America/New_York:20260416T153000
DTEND;TZID=America/New_York:20260416T153000
DTSTAMP:20260423T174749
CREATED:20250205T144616Z
LAST-MODIFIED:20250205T145017Z
UID:10002800-1776353400-1776353400@www.visitpottertioga.com
SUMMARY:Pokemon Club
DESCRIPTION:Meet other fans at Pop’s Culture Shoppe in Wellsboro every Thursday at 3:30 pm who love to collect the cards and play Pokémon. \nLearn the basics\, improve your game\, and even play in tournaments with our Professor of Pokémon! Free! \nVisit the website or call Pop’s Culture Shoppe for details.
URL:https://www.visitpottertioga.com/event/pokemon-club/2026-04-16
LOCATION:Pop’s Culture Shoppe\, 25 Main Street\, Wellsboro\, PA\, United States
CATEGORIES:General
ATTACH;FMTTYPE=image/jpeg:https://www.visitpottertioga.com/wp-content/uploads/2025/02/461718773_1058335212968323_1394124823784416070_n.jpg
ORGANIZER;CN="Pop's Culture":MAILTO:info@popscultureshoppe.com
END:VEVENT
BEGIN:VEVENT
DTSTART;TZID=America/New_York:20260417T190000
DTEND;TZID=America/New_York:20260417T210000
DTSTAMP:20260423T174749
CREATED:20260408T182529Z
LAST-MODIFIED:20260408T182609Z
UID:10003584-1776452400-1776459600@www.visitpottertioga.com
SUMMARY:"In Defense of Nature int he PA WIlds" Documentary - Deane Center
DESCRIPTION:Mark your calendar and head to the Deane Center for the Performing Arts in Wellsboro on Friday\, April 17th at 7:00 PM to see the film\, “In Defense of Nature in the PA Wilds”\, a documentary by Gale Largey.\n\n\nAs part of Nessmuk’s Spring Fest\, this documentary will be screened in the Coolidge Theatre on Friday\, April 17 at 7PM. Doors open at 6:30. Tickets are “pay what you can.” To reserve your seats in advance\, please visit: Nessmuk’s Box Office
URL:https://www.visitpottertioga.com/event/comedy-to-the-rescue-benefit-deane-center-2
LOCATION:Deane Center for the Performing Arts\, 104 Main Street\, Wellsboro\, PA\, 16901\, United States
CATEGORIES:General
ATTACH;FMTTYPE=image/jpeg:https://www.visitpottertioga.com/wp-content/uploads/2026/04/nessmuks-film.jpg
ORGANIZER;CN="Nessmuk's":MAILTO:zbuck@nessmuksltd.com
END:VEVENT
BEGIN:VEVENT
DTSTART;TZID=America/New_York:20260417T193000
DTEND;TZID=America/New_York:20260417T213000
DTSTAMP:20260423T174749
CREATED:20260331T163743Z
LAST-MODIFIED:20260331T163917Z
UID:10003578-1776454200-1776461400@www.visitpottertioga.com
SUMMARY:Ken Ludwig's Comedy Play - "Leading Ladies"
DESCRIPTION:Hamilton Gibson Productions presents Ken Ludwig’s Leading Ladies\, comedy at its finest by the king of farce for six performances starting April 17th at the Warehouse Theatre in Wellsboro.  \nSet in the 1950s\, two down-on-their-luck actors use their Shakespearean stage experience to swindle a lovely octogenarian and end up being hood-winked by love. Sponsored by Dr. Donna & Ken Mettler and Carson Consumer Discount Company\, the show runs April 17\, 18\, 19\, 24\, 25 and 26. \n 
URL:https://www.visitpottertioga.com/event/ken-ludwigs-comedy-play-leading-ladies/2026-04-17
LOCATION:Deane Center Warehouse Gallery\, 3 Central Avenue\, Wellsboro\, PA\, 16901\, United States
CATEGORIES:General
ATTACH;FMTTYPE=image/png:https://www.visitpottertioga.com/wp-content/uploads/2026/03/1766951214V3fcWbWIcL.png
END:VEVENT
BEGIN:VEVENT
DTSTART;TZID=America/New_York:20260418T090000
DTEND;TZID=America/New_York:20260418T160000
DTSTAMP:20260423T174749
CREATED:20260311T184503Z
LAST-MODIFIED:20260311T184630Z
UID:10003567-1776502800-1776528000@www.visitpottertioga.com
SUMMARY:Spring Antique Show & Sawmill Run
DESCRIPTION:Head to the Pennsylvania Lumber Museum on Saturday and Sunday\, April 18th and 19th for the Spring Antique Show where vendors selling a wide variety of items will be on hand with unique collectables and items. \nEnjoy a sawmill demonstration on Saturday (ONLY\, 10-3)\, birch still and other historic demonstrations and operation of the Eastern Loggers model railroad all weekend; a cooking demonstration and tasting featuring wild leeks from 11am-2pm both Saturday and Sunday; food and craft vendors set-up outside. \n  \n 
URL:https://www.visitpottertioga.com/event/spring-antique-show-sawmill-run-3/2026-04-18
LOCATION:Pennsylvania Lumber Museum\, 5660 US 6 West\, Ulysses\, PA\, 16948\, United States
CATEGORIES:General
ATTACH;FMTTYPE=image/webp:https://www.visitpottertioga.com/wp-content/uploads/2025/01/Sawmill-pond.webp
ORGANIZER;CN="Pennsylvania Lumber Museum":MAILTO:palumbermuseum@gmail.com
END:VEVENT
BEGIN:VEVENT
DTSTART;TZID=America/New_York:20260418T180000
DTEND;TZID=America/New_York:20260418T210000
DTSTAMP:20260423T174749
CREATED:20260331T155646Z
LAST-MODIFIED:20260331T155646Z
UID:10003570-1776535200-1776546000@www.visitpottertioga.com
SUMMARY:Great Lakes Wind Symphony - Meet the Performer Concert Event
DESCRIPTION:Head to the Deane Center’s Coolidge Theater on Saturday\, April 18th at 6:00 PM for a great night of dinner\, conversation and music featuring the music of the Great Lake Wind Symphony Double Reed Ensemble. Meet the musicians and learn more about the music and the instruments!\n\n\n\n\n\n\n\n\n\nDinner provided by Eat & Run Catering. \nTickets for dinner and music – $40 (6:00PM) \nTickets for music only – $30 (7:00PM) . \n\n\n\n\n\n  \n  \n 
URL:https://www.visitpottertioga.com/event/great-lakes-wind-symphony-meet-the-performer-concert-event
LOCATION:Deane Center for the Performing Arts\, 104 Main Street\, Wellsboro\, PA\, 16901\, United States
CATEGORIES:General
ATTACH;FMTTYPE=image/jpeg:https://www.visitpottertioga.com/wp-content/uploads/2026/03/great-lakes-wind-symphoney-deane.jpg
END:VEVENT
BEGIN:VEVENT
DTSTART;TZID=America/New_York:20260418T193000
DTEND;TZID=America/New_York:20260418T213000
DTSTAMP:20260423T174749
CREATED:20260331T163743Z
LAST-MODIFIED:20260331T163917Z
UID:10003579-1776540600-1776547800@www.visitpottertioga.com
SUMMARY:Ken Ludwig's Comedy Play - "Leading Ladies"
DESCRIPTION:Hamilton Gibson Productions presents Ken Ludwig’s Leading Ladies\, comedy at its finest by the king of farce for six performances starting April 17th at the Warehouse Theatre in Wellsboro.  \nSet in the 1950s\, two down-on-their-luck actors use their Shakespearean stage experience to swindle a lovely octogenarian and end up being hood-winked by love. Sponsored by Dr. Donna & Ken Mettler and Carson Consumer Discount Company\, the show runs April 17\, 18\, 19\, 24\, 25 and 26. \n 
URL:https://www.visitpottertioga.com/event/ken-ludwigs-comedy-play-leading-ladies/2026-04-18
LOCATION:Deane Center Warehouse Gallery\, 3 Central Avenue\, Wellsboro\, PA\, 16901\, United States
CATEGORIES:General
ATTACH;FMTTYPE=image/png:https://www.visitpottertioga.com/wp-content/uploads/2026/03/1766951214V3fcWbWIcL.png
END:VEVENT
END:VCALENDAR