BEGIN:VCALENDAR
VERSION:2.0
PRODID:-//Visit Potter-Tioga Pennsylvania - ECPv6.15.12.2//NONSGML v1.0//EN
CALSCALE:GREGORIAN
METHOD:PUBLISH
X-WR-CALNAME:Visit Potter-Tioga Pennsylvania
X-ORIGINAL-URL:https://www.visitpottertioga.com
X-WR-CALDESC:Events for Visit Potter-Tioga Pennsylvania
REFRESH-INTERVAL;VALUE=DURATION:PT1H
X-Robots-Tag:noindex
X-PUBLISHED-TTL:PT1H
BEGIN:VTIMEZONE
TZID:America/New_York
BEGIN:DAYLIGHT
TZOFFSETFROM:-0500
TZOFFSETTO:-0400
TZNAME:EDT
DTSTART:20250309T070000
END:DAYLIGHT
BEGIN:STANDARD
TZOFFSETFROM:-0400
TZOFFSETTO:-0500
TZNAME:EST
DTSTART:20251102T060000
END:STANDARD
BEGIN:DAYLIGHT
TZOFFSETFROM:-0500
TZOFFSETTO:-0400
TZNAME:EDT
DTSTART:20260308T070000
END:DAYLIGHT
BEGIN:STANDARD
TZOFFSETFROM:-0400
TZOFFSETTO:-0500
TZNAME:EST
DTSTART:20261101T060000
END:STANDARD
BEGIN:DAYLIGHT
TZOFFSETFROM:-0500
TZOFFSETTO:-0400
TZNAME:EDT
DTSTART:20270314T070000
END:DAYLIGHT
BEGIN:STANDARD
TZOFFSETFROM:-0400
TZOFFSETTO:-0500
TZNAME:EST
DTSTART:20271107T060000
END:STANDARD
END:VTIMEZONE
BEGIN:VEVENT
DTSTART;TZID=America/New_York:20260419T090000
DTEND;TZID=America/New_York:20260419T160000
DTSTAMP:20260423T161124
CREATED:20260311T184503Z
LAST-MODIFIED:20260311T184630Z
UID:10003568-1776589200-1776614400@www.visitpottertioga.com
SUMMARY:Spring Antique Show & Sawmill Run
DESCRIPTION:Head to the Pennsylvania Lumber Museum on Saturday and Sunday\, April 18th and 19th for the Spring Antique Show where vendors selling a wide variety of items will be on hand with unique collectables and items. \nEnjoy a sawmill demonstration on Saturday (ONLY\, 10-3)\, birch still and other historic demonstrations and operation of the Eastern Loggers model railroad all weekend; a cooking demonstration and tasting featuring wild leeks from 11am-2pm both Saturday and Sunday; food and craft vendors set-up outside. \n  \n 
URL:https://www.visitpottertioga.com/event/spring-antique-show-sawmill-run-3/2026-04-19
LOCATION:Pennsylvania Lumber Museum\, 5660 US 6 West\, Ulysses\, PA\, 16948\, United States
CATEGORIES:General
ATTACH;FMTTYPE=image/webp:https://www.visitpottertioga.com/wp-content/uploads/2025/01/Sawmill-pond.webp
ORGANIZER;CN="Pennsylvania Lumber Museum":MAILTO:palumbermuseum@gmail.com
END:VEVENT
BEGIN:VEVENT
DTSTART;TZID=America/New_York:20260419T143000
DTEND;TZID=America/New_York:20260419T163000
DTSTAMP:20260423T161124
CREATED:20260331T163743Z
LAST-MODIFIED:20260331T163917Z
UID:10003580-1776609000-1776616200@www.visitpottertioga.com
SUMMARY:Ken Ludwig's Comedy Play - "Leading Ladies"
DESCRIPTION:Hamilton Gibson Productions presents Ken Ludwig’s Leading Ladies\, comedy at its finest by the king of farce for six performances starting April 17th at the Warehouse Theatre in Wellsboro.  \nSet in the 1950s\, two down-on-their-luck actors use their Shakespearean stage experience to swindle a lovely octogenarian and end up being hood-winked by love. Sponsored by Dr. Donna & Ken Mettler and Carson Consumer Discount Company\, the show runs April 17\, 18\, 19\, 24\, 25 and 26. \n 
URL:https://www.visitpottertioga.com/event/ken-ludwigs-comedy-play-leading-ladies/2026-04-19
LOCATION:Deane Center Warehouse Gallery\, 3 Central Avenue\, Wellsboro\, PA\, 16901\, United States
CATEGORIES:General
ATTACH;FMTTYPE=image/png:https://www.visitpottertioga.com/wp-content/uploads/2026/03/1766951214V3fcWbWIcL.png
END:VEVENT
BEGIN:VEVENT
DTSTART;TZID=America/New_York:20260423T153000
DTEND;TZID=America/New_York:20260423T153000
DTSTAMP:20260423T161124
CREATED:20250205T144616Z
LAST-MODIFIED:20250205T145017Z
UID:10002801-1776958200-1776958200@www.visitpottertioga.com
SUMMARY:Pokemon Club
DESCRIPTION:Meet other fans at Pop’s Culture Shoppe in Wellsboro every Thursday at 3:30 pm who love to collect the cards and play Pokémon. \nLearn the basics\, improve your game\, and even play in tournaments with our Professor of Pokémon! Free! \nVisit the website or call Pop’s Culture Shoppe for details.
URL:https://www.visitpottertioga.com/event/pokemon-club/2026-04-23
LOCATION:Pop’s Culture Shoppe\, 25 Main Street\, Wellsboro\, PA\, United States
CATEGORIES:General
ATTACH;FMTTYPE=image/jpeg:https://www.visitpottertioga.com/wp-content/uploads/2025/02/461718773_1058335212968323_1394124823784416070_n.jpg
ORGANIZER;CN="Pop's Culture":MAILTO:info@popscultureshoppe.com
END:VEVENT
BEGIN:VEVENT
DTSTART;TZID=America/New_York:20260424T193000
DTEND;TZID=America/New_York:20260424T213000
DTSTAMP:20260423T161124
CREATED:20260331T163743Z
LAST-MODIFIED:20260331T163917Z
UID:10003581-1777059000-1777066200@www.visitpottertioga.com
SUMMARY:Ken Ludwig's Comedy Play - "Leading Ladies"
DESCRIPTION:Hamilton Gibson Productions presents Ken Ludwig’s Leading Ladies\, comedy at its finest by the king of farce for six performances starting April 17th at the Warehouse Theatre in Wellsboro.  \nSet in the 1950s\, two down-on-their-luck actors use their Shakespearean stage experience to swindle a lovely octogenarian and end up being hood-winked by love. Sponsored by Dr. Donna & Ken Mettler and Carson Consumer Discount Company\, the show runs April 17\, 18\, 19\, 24\, 25 and 26. \n 
URL:https://www.visitpottertioga.com/event/ken-ludwigs-comedy-play-leading-ladies/2026-04-24
LOCATION:Deane Center Warehouse Gallery\, 3 Central Avenue\, Wellsboro\, PA\, 16901\, United States
CATEGORIES:General
ATTACH;FMTTYPE=image/png:https://www.visitpottertioga.com/wp-content/uploads/2026/03/1766951214V3fcWbWIcL.png
END:VEVENT
BEGIN:VEVENT
DTSTART;TZID=America/New_York:20260425T193000
DTEND;TZID=America/New_York:20260425T213000
DTSTAMP:20260423T161124
CREATED:20260108T161155Z
LAST-MODIFIED:20260108T161155Z
UID:10003493-1777145400-1777152600@www.visitpottertioga.com
SUMMARY:Greg Piccolo and Heavy Juice Concert
DESCRIPTION:Get ready for a night of Jazz spiced with Blues\, R&B\, and Rock when Greg Piccolo and Heavy Juice take to the stage of the Deane Center in ta performance presented by Wellsboro Community Concert Association!  \n\n\nGreg Piccolo has a legendry career spanning over 60 years. He continues to captivate audiences with timeless performances and unmatched artistry. A lifelong performer he’s never shied away from creating an engaging experience for his fans\, ensuring that each show is as unique as it is memorable\, spontaneous\, with no set list\, he’s driven by his mood and the energy of the moment. His unwavering commitment and skillful tenor saxophone playing\, unique vocal style\, and charismatic stage presence have earned him a respected place among the best in the industry. Greg has collaborated with Pat Benatar\, Stevie Ray Vaughan\, Jimmie Vaughan including a multi-year stint with the “Tilt-A-Whirl” Band\, Eric Clapton\, Big Joe Turner\, and Eddie “Cleanhead” Vinson\, among many others. Heavy Juice is composed of Shinichi Otsu (Organ/Piano/Bass) and Steve Langone (Drums)\, both are also respected educators at Berklee College of Music\, further elevating the caliber of this performance. This show will be an unforgettable night of exceptional traditional jazz\, flavored with blues\, classic Rhythm & Blues along with a smidgen of Rock & Roll.  \nExperience the magic of Greg Piccolo and Heavy Juice. at this Sixth concert of the WCCA 77th Six Concert series.
URL:https://www.visitpottertioga.com/event/greg-piccolo-and-heavy-juice-concert
LOCATION:Deane Center for the Performing Arts\, 104 Main Street\, Wellsboro\, PA\, 16901\, United States
CATEGORIES:General
ATTACH;FMTTYPE=image/jpeg:https://www.visitpottertioga.com/wp-content/uploads/2026/01/107584bd-e1c5-4996-917b-6e59e050ab63.jpg
END:VEVENT
BEGIN:VEVENT
DTSTART;TZID=America/New_York:20260425T193000
DTEND;TZID=America/New_York:20260425T213000
DTSTAMP:20260423T161124
CREATED:20260331T163743Z
LAST-MODIFIED:20260331T163917Z
UID:10003582-1777145400-1777152600@www.visitpottertioga.com
SUMMARY:Ken Ludwig's Comedy Play - "Leading Ladies"
DESCRIPTION:Hamilton Gibson Productions presents Ken Ludwig’s Leading Ladies\, comedy at its finest by the king of farce for six performances starting April 17th at the Warehouse Theatre in Wellsboro.  \nSet in the 1950s\, two down-on-their-luck actors use their Shakespearean stage experience to swindle a lovely octogenarian and end up being hood-winked by love. Sponsored by Dr. Donna & Ken Mettler and Carson Consumer Discount Company\, the show runs April 17\, 18\, 19\, 24\, 25 and 26. \n 
URL:https://www.visitpottertioga.com/event/ken-ludwigs-comedy-play-leading-ladies/2026-04-25
LOCATION:Deane Center Warehouse Gallery\, 3 Central Avenue\, Wellsboro\, PA\, 16901\, United States
CATEGORIES:General
ATTACH;FMTTYPE=image/png:https://www.visitpottertioga.com/wp-content/uploads/2026/03/1766951214V3fcWbWIcL.png
END:VEVENT
END:VCALENDAR