BEGIN:VCALENDAR
VERSION:2.0
PRODID:-//Visit Potter-Tioga Pennsylvania - ECPv6.15.12.2//NONSGML v1.0//EN
CALSCALE:GREGORIAN
METHOD:PUBLISH
X-ORIGINAL-URL:https://www.visitpottertioga.com
X-WR-CALDESC:Events for Visit Potter-Tioga Pennsylvania
REFRESH-INTERVAL;VALUE=DURATION:PT1H
X-Robots-Tag:noindex
X-PUBLISHED-TTL:PT1H
BEGIN:VTIMEZONE
TZID:America/New_York
BEGIN:DAYLIGHT
TZOFFSETFROM:-0500
TZOFFSETTO:-0400
TZNAME:EDT
DTSTART:20250309T070000
END:DAYLIGHT
BEGIN:STANDARD
TZOFFSETFROM:-0400
TZOFFSETTO:-0500
TZNAME:EST
DTSTART:20251102T060000
END:STANDARD
BEGIN:DAYLIGHT
TZOFFSETFROM:-0500
TZOFFSETTO:-0400
TZNAME:EDT
DTSTART:20260308T070000
END:DAYLIGHT
BEGIN:STANDARD
TZOFFSETFROM:-0400
TZOFFSETTO:-0500
TZNAME:EST
DTSTART:20261101T060000
END:STANDARD
BEGIN:DAYLIGHT
TZOFFSETFROM:-0500
TZOFFSETTO:-0400
TZNAME:EDT
DTSTART:20270314T070000
END:DAYLIGHT
BEGIN:STANDARD
TZOFFSETFROM:-0400
TZOFFSETTO:-0500
TZNAME:EST
DTSTART:20271107T060000
END:STANDARD
END:VTIMEZONE
BEGIN:VEVENT
DTSTART;TZID=America/New_York:20260426T143000
DTEND;TZID=America/New_York:20260426T163000
DTSTAMP:20260423T162041
CREATED:20260331T163743Z
LAST-MODIFIED:20260331T163917Z
UID:10003583-1777213800-1777221000@www.visitpottertioga.com
SUMMARY:Ken Ludwig's Comedy Play - "Leading Ladies"
DESCRIPTION:Hamilton Gibson Productions presents Ken Ludwig’s Leading Ladies\, comedy at its finest by the king of farce for six performances starting April 17th at the Warehouse Theatre in Wellsboro.  \nSet in the 1950s\, two down-on-their-luck actors use their Shakespearean stage experience to swindle a lovely octogenarian and end up being hood-winked by love. Sponsored by Dr. Donna & Ken Mettler and Carson Consumer Discount Company\, the show runs April 17\, 18\, 19\, 24\, 25 and 26. \n 
URL:https://www.visitpottertioga.com/event/ken-ludwigs-comedy-play-leading-ladies/2026-04-26
LOCATION:Deane Center Warehouse Gallery\, 3 Central Avenue\, Wellsboro\, PA\, 16901\, United States
CATEGORIES:General
ATTACH;FMTTYPE=image/png:https://www.visitpottertioga.com/wp-content/uploads/2026/03/1766951214V3fcWbWIcL.png
END:VEVENT
BEGIN:VEVENT
DTSTART;TZID=America/New_York:20260430T153000
DTEND;TZID=America/New_York:20260430T153000
DTSTAMP:20260423T162041
CREATED:20250205T144616Z
LAST-MODIFIED:20250205T145017Z
UID:10002802-1777563000-1777563000@www.visitpottertioga.com
SUMMARY:Pokemon Club
DESCRIPTION:Meet other fans at Pop’s Culture Shoppe in Wellsboro every Thursday at 3:30 pm who love to collect the cards and play Pokémon. \nLearn the basics\, improve your game\, and even play in tournaments with our Professor of Pokémon! Free! \nVisit the website or call Pop’s Culture Shoppe for details.
URL:https://www.visitpottertioga.com/event/pokemon-club/2026-04-30
LOCATION:Pop’s Culture Shoppe\, 25 Main Street\, Wellsboro\, PA\, United States
CATEGORIES:General
ATTACH;FMTTYPE=image/jpeg:https://www.visitpottertioga.com/wp-content/uploads/2025/02/461718773_1058335212968323_1394124823784416070_n.jpg
ORGANIZER;CN="Pop's Culture":MAILTO:info@popscultureshoppe.com
END:VEVENT
END:VCALENDAR