BEGIN:VCALENDAR
VERSION:2.0
PRODID:-//Visit Potter-Tioga Pennsylvania - ECPv6.15.12.2//NONSGML v1.0//EN
CALSCALE:GREGORIAN
METHOD:PUBLISH
X-ORIGINAL-URL:https://www.visitpottertioga.com
X-WR-CALDESC:Events for Visit Potter-Tioga Pennsylvania
REFRESH-INTERVAL;VALUE=DURATION:PT1H
X-Robots-Tag:noindex
X-PUBLISHED-TTL:PT1H
BEGIN:VTIMEZONE
TZID:America/New_York
BEGIN:DAYLIGHT
TZOFFSETFROM:-0500
TZOFFSETTO:-0400
TZNAME:EDT
DTSTART:20250309T070000
END:DAYLIGHT
BEGIN:STANDARD
TZOFFSETFROM:-0400
TZOFFSETTO:-0500
TZNAME:EST
DTSTART:20251102T060000
END:STANDARD
BEGIN:DAYLIGHT
TZOFFSETFROM:-0500
TZOFFSETTO:-0400
TZNAME:EDT
DTSTART:20260308T070000
END:DAYLIGHT
BEGIN:STANDARD
TZOFFSETFROM:-0400
TZOFFSETTO:-0500
TZNAME:EST
DTSTART:20261101T060000
END:STANDARD
BEGIN:DAYLIGHT
TZOFFSETFROM:-0500
TZOFFSETTO:-0400
TZNAME:EDT
DTSTART:20270314T070000
END:DAYLIGHT
BEGIN:STANDARD
TZOFFSETFROM:-0400
TZOFFSETTO:-0500
TZNAME:EST
DTSTART:20271107T060000
END:STANDARD
END:VTIMEZONE
BEGIN:VEVENT
DTSTART;TZID=America/New_York:20260507T153000
DTEND;TZID=America/New_York:20260507T153000
DTSTAMP:20260423T162034
CREATED:20250205T144616Z
LAST-MODIFIED:20250205T145017Z
UID:10002803-1778167800-1778167800@www.visitpottertioga.com
SUMMARY:Pokemon Club
DESCRIPTION:Meet other fans at Pop’s Culture Shoppe in Wellsboro every Thursday at 3:30 pm who love to collect the cards and play Pokémon. \nLearn the basics\, improve your game\, and even play in tournaments with our Professor of Pokémon! Free! \nVisit the website or call Pop’s Culture Shoppe for details.
URL:https://www.visitpottertioga.com/event/pokemon-club/2026-05-07
LOCATION:Pop’s Culture Shoppe\, 25 Main Street\, Wellsboro\, PA\, United States
CATEGORIES:General
ATTACH;FMTTYPE=image/jpeg:https://www.visitpottertioga.com/wp-content/uploads/2025/02/461718773_1058335212968323_1394124823784416070_n.jpg
ORGANIZER;CN="Pop's Culture":MAILTO:info@popscultureshoppe.com
END:VEVENT
BEGIN:VEVENT
DTSTART;TZID=America/New_York:20260509T100000
DTEND;TZID=America/New_York:20260509T170000
DTSTAMP:20260423T162034
CREATED:20260112T154246Z
LAST-MODIFIED:20260112T154246Z
UID:10003515-1778320800-1778346000@www.visitpottertioga.com
SUMMARY:King of the Wing
DESCRIPTION:Bring your appetite and head to Galeton on Saturday\, May 9th\, for one of the northern tier’s favorite events! \nThe Galeton Area Chamber of Commerce will be hosting its annual King of the Wing chicken wing cook off contest on Saturday\, May 9th from 10am-5pm at the John J. Collins Memorial (Centertown) Park in Galeton.  Plan now to join friends new and old for a day filled with family fun\, great food\, and entertainment – all for the love of the “Buffalo Wing” and to raise money for the Galeton Fireworks Committee. \nWings will be judged at 4:30pm. Trophies will be awarded for the following categories: Best of show\, fan favorite\, and most sold. \nCompetitor registration and vendor information on the website – Galeton Area Chamber of Commerce – King of the Wing
URL:https://www.visitpottertioga.com/event/king-of-the-wing-3
LOCATION:John J. Collins Park\, Union Street\, Galeton\, PA\, 16922\, United States
CATEGORIES:General
ATTACH;FMTTYPE=image/png:https://www.visitpottertioga.com/wp-content/uploads/2026/01/a24n93cegaa.png
END:VEVENT
END:VCALENDAR