BEGIN:VCALENDAR
VERSION:2.0
PRODID:-//Visit Potter-Tioga Pennsylvania - ECPv6.15.12.2//NONSGML v1.0//EN
CALSCALE:GREGORIAN
METHOD:PUBLISH
X-WR-CALNAME:Visit Potter-Tioga Pennsylvania
X-ORIGINAL-URL:https://www.visitpottertioga.com
X-WR-CALDESC:Events for Visit Potter-Tioga Pennsylvania
REFRESH-INTERVAL;VALUE=DURATION:PT1H
X-Robots-Tag:noindex
X-PUBLISHED-TTL:PT1H
BEGIN:VTIMEZONE
TZID:America/New_York
BEGIN:DAYLIGHT
TZOFFSETFROM:-0500
TZOFFSETTO:-0400
TZNAME:EDT
DTSTART:20250309T070000
END:DAYLIGHT
BEGIN:STANDARD
TZOFFSETFROM:-0400
TZOFFSETTO:-0500
TZNAME:EST
DTSTART:20251102T060000
END:STANDARD
BEGIN:DAYLIGHT
TZOFFSETFROM:-0500
TZOFFSETTO:-0400
TZNAME:EDT
DTSTART:20260308T070000
END:DAYLIGHT
BEGIN:STANDARD
TZOFFSETFROM:-0400
TZOFFSETTO:-0500
TZNAME:EST
DTSTART:20261101T060000
END:STANDARD
BEGIN:DAYLIGHT
TZOFFSETFROM:-0500
TZOFFSETTO:-0400
TZNAME:EDT
DTSTART:20270314T070000
END:DAYLIGHT
BEGIN:STANDARD
TZOFFSETFROM:-0400
TZOFFSETTO:-0500
TZNAME:EST
DTSTART:20271107T060000
END:STANDARD
END:VTIMEZONE
BEGIN:VEVENT
DTSTART;TZID=America/New_York:20260512T130000
DTEND;TZID=America/New_York:20260512T140000
DTSTAMP:20260423T161128
CREATED:20260304T163448Z
LAST-MODIFIED:20260304T163721Z
UID:10003557-1778590800-1778594400@www.visitpottertioga.com
SUMMARY:Musician Ray Corse- Golden Afternoons Deane Center
DESCRIPTION:Enjoy an afternoon of fun accordion music at the Deane Center when the Golden Afternoons series presents musician Ray Corse on Tuesday\, May 12th at 1:00 pm! Ray has performed for Golden Afternoons for ten years\, always offering a fantastic time for those attending. He takes song requests and he knows all the old favorites. \nFree refreshments will be served as part of this Golden Afternoons presentation free for Tioga County seniors presented in the lobby of the center.
URL:https://www.visitpottertioga.com/event/plant-a-petunia-with-yolie-golden-afternoons-deane-center-2
LOCATION:Deane Center for the Performing Arts\, 104 Main Street\, Wellsboro\, PA\, 16901\, United States
CATEGORIES:General
ATTACH;FMTTYPE=image/avif:https://www.visitpottertioga.com/wp-content/uploads/2026/03/edd6ad_928d79bb528d4097aaa0613a534e7176mv2.avif
END:VEVENT
BEGIN:VEVENT
DTSTART;TZID=America/New_York:20260514T153000
DTEND;TZID=America/New_York:20260514T153000
DTSTAMP:20260423T161128
CREATED:20250205T144616Z
LAST-MODIFIED:20250205T145017Z
UID:10002804-1778772600-1778772600@www.visitpottertioga.com
SUMMARY:Pokemon Club
DESCRIPTION:Meet other fans at Pop’s Culture Shoppe in Wellsboro every Thursday at 3:30 pm who love to collect the cards and play Pokémon. \nLearn the basics\, improve your game\, and even play in tournaments with our Professor of Pokémon! Free! \nVisit the website or call Pop’s Culture Shoppe for details.
URL:https://www.visitpottertioga.com/event/pokemon-club/2026-05-14
LOCATION:Pop’s Culture Shoppe\, 25 Main Street\, Wellsboro\, PA\, United States
CATEGORIES:General
ATTACH;FMTTYPE=image/jpeg:https://www.visitpottertioga.com/wp-content/uploads/2025/02/461718773_1058335212968323_1394124823784416070_n.jpg
ORGANIZER;CN="Pop's Culture":MAILTO:info@popscultureshoppe.com
END:VEVENT
BEGIN:VEVENT
DTSTART;TZID=America/New_York:20260515T193000
DTEND;TZID=America/New_York:20260515T213000
DTSTAMP:20260423T161128
CREATED:20260304T164257Z
LAST-MODIFIED:20260304T165638Z
UID:10003558-1778873400-1778880600@www.visitpottertioga.com
SUMMARY:History Comes Alive - Benjamin Franklin - Deane Center
DESCRIPTION:Head to the Deane Center for the Performing Arts in Wellsboro on Friday\, May 15th at 7:30 pm for a History Comes Alive presentation\, “Benjamin Franklin” featuring Barry Stevens.\n\n\n\n\n\n\nBarry Stevens has been presenting Benjamin Franklin since 2005.   He was tending campfire while participating as a member of the First Virginia Regiment (a company of Revolutionary War re-enactors).  Visitors to the campfire would address him as “Ben” with such frequency and certainty that he outfitted himself as this special 18th Century gentleman and actually began answering their questions!  His education of Dr. Franklin has led him to read and study extensively on the life and times of this American personality.  That study is ongoing and without end.  It has taken him to locations throughout the Colonies known to Dr. Franklin and even to Le Procope restaurant in Paris\, France.  On a recent trip he visited the Bakken Museum in Minneapolis\, MN to gain insight into the electrical experiments conducted by Dr. Franklin.  This experience is constantly being referenced as he presents Benjamin Franklin to eager and responsive audiences. \nEngage Dr. Franklin in a conversation and experience for yourself the fun of interacting with living history.  \n\n\n\n\nSponsored by America250PA and the Charles Knox & Margaret Etner Foundation.
URL:https://www.visitpottertioga.com/event/history-comes-alive-benjamin-franklin-deane-center
LOCATION:Deane Center for the Performing Arts\, 104 Main Street\, Wellsboro\, PA\, 16901\, United States
CATEGORIES:General
ATTACH;FMTTYPE=image/avif:https://www.visitpottertioga.com/wp-content/uploads/2026/03/edd6ad_53bc7c06dd8c49f4a60cf52511275ea1mv2.avif
END:VEVENT
END:VCALENDAR