BEGIN:VCALENDAR
VERSION:2.0
PRODID:-//Visit Potter-Tioga Pennsylvania - ECPv6.15.12.2//NONSGML v1.0//EN
CALSCALE:GREGORIAN
METHOD:PUBLISH
X-ORIGINAL-URL:https://www.visitpottertioga.com
X-WR-CALDESC:Events for Visit Potter-Tioga Pennsylvania
REFRESH-INTERVAL;VALUE=DURATION:PT1H
X-Robots-Tag:noindex
X-PUBLISHED-TTL:PT1H
BEGIN:VTIMEZONE
TZID:America/New_York
BEGIN:DAYLIGHT
TZOFFSETFROM:-0500
TZOFFSETTO:-0400
TZNAME:EDT
DTSTART:20250309T070000
END:DAYLIGHT
BEGIN:STANDARD
TZOFFSETFROM:-0400
TZOFFSETTO:-0500
TZNAME:EST
DTSTART:20251102T060000
END:STANDARD
BEGIN:DAYLIGHT
TZOFFSETFROM:-0500
TZOFFSETTO:-0400
TZNAME:EDT
DTSTART:20260308T070000
END:DAYLIGHT
BEGIN:STANDARD
TZOFFSETFROM:-0400
TZOFFSETTO:-0500
TZNAME:EST
DTSTART:20261101T060000
END:STANDARD
BEGIN:DAYLIGHT
TZOFFSETFROM:-0500
TZOFFSETTO:-0400
TZNAME:EDT
DTSTART:20270314T070000
END:DAYLIGHT
BEGIN:STANDARD
TZOFFSETFROM:-0400
TZOFFSETTO:-0500
TZNAME:EST
DTSTART:20271107T060000
END:STANDARD
END:VTIMEZONE
BEGIN:VEVENT
DTSTART;VALUE=DATE:20260613
DTEND;VALUE=DATE:20260622
DTSTAMP:20260423T162001
CREATED:20260114T150803Z
LAST-MODIFIED:20260114T150803Z
UID:10003517-1781308800-1782086399@www.visitpottertioga.com
SUMMARY:84th Annual Pennsylvania State Mountain Laurel Festival
DESCRIPTION:Join the celebration of the commonwealth’s state flower in Wellsboro at the 84th Annual Pennsylvania State Mountain Laurel Festival when it is held June 13th through 21st\, 2026 at sites across the beautiful Pennsylvania Grand Canyon region. \nThe week-long celebration will include a juried arts and crafts fair\, queen’s pageant\, pet parade\, children’s health fair\, foot races\, a gospel sing\, and several musical concerts\, as well as the traditional two-hour Laurel Festival Parade. This is always a great week packed full of fun for the entire family! \nFor a complete schedule of events for this year’s event\, visit the Chamber website at PA State Laurel Festival. \nPhoto of the lush mountain laurel by Photographer Linda Stager. 
URL:https://www.visitpottertioga.com/event/84th-annual-pennsylvania-state-mountain-laurel-festival
LOCATION:Various Locations
CATEGORIES:General
ATTACH;FMTTYPE=image/jpeg:https://www.visitpottertioga.com/wp-content/uploads/2025/04/mt-laurel.jpg
END:VEVENT
BEGIN:VEVENT
DTSTART;TZID=America/New_York:20260621T100000
DTEND;TZID=America/New_York:20260621T113000
DTSTAMP:20260423T162001
CREATED:20260422T170305Z
LAST-MODIFIED:20260422T170305Z
UID:10003605-1782036000-1782041400@www.visitpottertioga.com
SUMMARY:Art in the Park: Porcupine Edition at Ole Bull State Park
DESCRIPTION:Feeling artsy? Or maybe you just want to know a little more about porcupines? \nJoin the park educator at the amphitheater at Ole Bull State Park in Kettle Creek on Sunday\, June 21st at 10:00 am\, as we learn about and draw this prickly animal step by step. \nSee you there! \n  \n 
URL:https://www.visitpottertioga.com/event/art-in-the-park-porcupine-edition-at-ole-bull-state-park
LOCATION:Ole Bull State Park\, 31 Valhalla Lane\, Cross Fork\, PA\, 17729\, United States
CATEGORIES:General
ATTACH;FMTTYPE=image/jpeg:https://www.visitpottertioga.com/wp-content/uploads/2026/04/Ole-Bull.jpg
ORGANIZER;CN="Department of Conservation and Natural Resources":MAILTO:SinnemahoningSP@pa.gov
END:VEVENT
BEGIN:VEVENT
DTSTART;TZID=America/New_York:20260625T153000
DTEND;TZID=America/New_York:20260625T153000
DTSTAMP:20260423T162001
CREATED:20250205T144616Z
LAST-MODIFIED:20250205T145017Z
UID:10002810-1782401400-1782401400@www.visitpottertioga.com
SUMMARY:Pokemon Club
DESCRIPTION:Meet other fans at Pop’s Culture Shoppe in Wellsboro every Thursday at 3:30 pm who love to collect the cards and play Pokémon. \nLearn the basics\, improve your game\, and even play in tournaments with our Professor of Pokémon! Free! \nVisit the website or call Pop’s Culture Shoppe for details.
URL:https://www.visitpottertioga.com/event/pokemon-club/2026-06-25
LOCATION:Pop’s Culture Shoppe\, 25 Main Street\, Wellsboro\, PA\, United States
CATEGORIES:General
ATTACH;FMTTYPE=image/jpeg:https://www.visitpottertioga.com/wp-content/uploads/2025/02/461718773_1058335212968323_1394124823784416070_n.jpg
ORGANIZER;CN="Pop's Culture":MAILTO:info@popscultureshoppe.com
END:VEVENT
BEGIN:VEVENT
DTSTART;TZID=America/New_York:20260626T200000
DTEND;TZID=America/New_York:20260626T213000
DTSTAMP:20260423T162001
CREATED:20260422T170705Z
LAST-MODIFIED:20260422T170705Z
UID:10003606-1782504000-1782509400@www.visitpottertioga.com
SUMMARY:PA Mammals Presentation at Ole Bull State Park Nature
DESCRIPTION:Can you guess the animal by its fur? At this program at Ole Bull State Park on Friday\, June 26th at 8:00 pm\, we will look at different skulls and furs of animals common to the Pennsylvania. Discover interesting facts about each critter as well. \nThis free program is open for all ages! Meeting location will be at the amphitheater. \n  \n 
URL:https://www.visitpottertioga.com/event/pa-mammals-presentation-at-ole-bull-state-park-nature
LOCATION:Ole Bull State Park\, 31 Valhalla Lane\, Cross Fork\, PA\, 17729\, United States
CATEGORIES:General
ATTACH;FMTTYPE=image/jpeg:https://www.visitpottertioga.com/wp-content/uploads/2026/04/Ole-Bull.jpg
END:VEVENT
BEGIN:VEVENT
DTSTART;TZID=America/New_York:20260627T150000
DTEND;TZID=America/New_York:20260627T163000
DTSTAMP:20260423T162001
CREATED:20260422T171013Z
LAST-MODIFIED:20260422T171013Z
UID:10003607-1782572400-1782577800@www.visitpottertioga.com
SUMMARY:Ravens vs Crows at Ole Bull State Park
DESCRIPTION:Come on out to the amphitheater at Ole Bull State Park in Kettle Creek on Saturday\, June 27th at 3:00 pm to learn the differences between ravens and crows as part of this free presentation. \nWhat’s the first thing you think of when you hear the word raven or crow? Is it Spooky or Noisy? Do you know the differences between crows and ravens? Come on out to the amphitheater to learn some fun facts about these macabre creatures. Afterward\, we’ll make a cool craft for you to take home. \nSee you there!!
URL:https://www.visitpottertioga.com/event/ravens-vs-crows-at-ole-bull-state-park
LOCATION:Ole Bull State Park\, 31 Valhalla Lane\, Cross Fork\, PA\, 17729\, United States
CATEGORIES:General
ATTACH;FMTTYPE=image/jpeg:https://www.visitpottertioga.com/wp-content/uploads/2026/04/Ole-Bull.jpg
ORGANIZER;CN="Department of Conservation and Natural Resources":MAILTO:SinnemahoningSP@pa.gov
END:VEVENT
END:VCALENDAR