BEGIN:VCALENDAR
VERSION:2.0
PRODID:-//Visit Potter-Tioga Pennsylvania - ECPv6.15.12.2//NONSGML v1.0//EN
CALSCALE:GREGORIAN
METHOD:PUBLISH
X-ORIGINAL-URL:https://www.visitpottertioga.com
X-WR-CALDESC:Events for Visit Potter-Tioga Pennsylvania
REFRESH-INTERVAL;VALUE=DURATION:PT1H
X-Robots-Tag:noindex
X-PUBLISHED-TTL:PT1H
BEGIN:VTIMEZONE
TZID:America/New_York
BEGIN:DAYLIGHT
TZOFFSETFROM:-0500
TZOFFSETTO:-0400
TZNAME:EDT
DTSTART:20250309T070000
END:DAYLIGHT
BEGIN:STANDARD
TZOFFSETFROM:-0400
TZOFFSETTO:-0500
TZNAME:EST
DTSTART:20251102T060000
END:STANDARD
BEGIN:DAYLIGHT
TZOFFSETFROM:-0500
TZOFFSETTO:-0400
TZNAME:EDT
DTSTART:20260308T070000
END:DAYLIGHT
BEGIN:STANDARD
TZOFFSETFROM:-0400
TZOFFSETTO:-0500
TZNAME:EST
DTSTART:20261101T060000
END:STANDARD
BEGIN:DAYLIGHT
TZOFFSETFROM:-0500
TZOFFSETTO:-0400
TZNAME:EDT
DTSTART:20270314T070000
END:DAYLIGHT
BEGIN:STANDARD
TZOFFSETFROM:-0400
TZOFFSETTO:-0500
TZNAME:EST
DTSTART:20271107T060000
END:STANDARD
END:VTIMEZONE
BEGIN:VEVENT
DTSTART;TZID=America/New_York:20260628T130000
DTEND;TZID=America/New_York:20260628T150000
DTSTAMP:20260423T114620
CREATED:20260422T171239Z
LAST-MODIFIED:20260422T171239Z
UID:10003608-1782651600-1782658800@www.visitpottertioga.com
SUMMARY:Art in the Park: Possum Edition at Ole Bull State Park
DESCRIPTION:When you think about possums\, what’s the first thing you think about?  Maybe playing dead or having a pouch. \nJoin us at the amphitheater at Ole Bull State Park in Kettle Creek on Sunday\, June 28th at 1:00 pm\, as we learn how to draw a possum step by step and learn some fun facts along the way! \nSee you there! \n  \n 
URL:https://www.visitpottertioga.com/event/art-in-the-park-possum-edition-at-ole-bull-state-park
LOCATION:Ole Bull State Park\, 31 Valhalla Lane\, Cross Fork\, PA\, 17729\, United States
CATEGORIES:General
ATTACH;FMTTYPE=image/jpeg:https://www.visitpottertioga.com/wp-content/uploads/2026/04/Ole-Bull.jpg
ORGANIZER;CN="Department of Conservation and Natural Resources":MAILTO:SinnemahoningSP@pa.gov
END:VEVENT
BEGIN:VEVENT
DTSTART;TZID=America/New_York:20260702T153000
DTEND;TZID=America/New_York:20260702T153000
DTSTAMP:20260423T114620
CREATED:20250205T144616Z
LAST-MODIFIED:20250205T145017Z
UID:10002811-1783006200-1783006200@www.visitpottertioga.com
SUMMARY:Pokemon Club
DESCRIPTION:Meet other fans at Pop’s Culture Shoppe in Wellsboro every Thursday at 3:30 pm who love to collect the cards and play Pokémon. \nLearn the basics\, improve your game\, and even play in tournaments with our Professor of Pokémon! Free! \nVisit the website or call Pop’s Culture Shoppe for details.
URL:https://www.visitpottertioga.com/event/pokemon-club/2026-07-02
LOCATION:Pop’s Culture Shoppe\, 25 Main Street\, Wellsboro\, PA\, United States
CATEGORIES:General
ATTACH;FMTTYPE=image/jpeg:https://www.visitpottertioga.com/wp-content/uploads/2025/02/461718773_1058335212968323_1394124823784416070_n.jpg
ORGANIZER;CN="Pop's Culture":MAILTO:info@popscultureshoppe.com
END:VEVENT
BEGIN:VEVENT
DTSTART;TZID=America/New_York:20260704T090000
DTEND;TZID=America/New_York:20260705T170000
DTSTAMP:20260423T114620
CREATED:20250115T164239Z
LAST-MODIFIED:20251107T195643Z
UID:10002706-1783155600-1783270800@www.visitpottertioga.com
SUMMARY:Bark Peelers’ Festival
DESCRIPTION:The biggest event of the year at the Pennsylvania Lumber Museum that you won’t want to miss! \nEnjoy lively special programs\, contests\, and demonstrations that celebrate “woodhick” skills – the incredible talents and skills that lumber workers rely on in their demanding trade.  Enjoy unique food and craft vendors\, live music\, games at the kid’s corner\, operation of the museum’s sawmill and birch still\, blacksmithing demonstrations\, camp cooking\, chainsaw carving\, and door prizes. \nVisitors are encouraged to compete in the greased pole\, log rolling\, crosscut saw\, and birling competitions to earn the title “Grand Champion Bark Peeler” and the associated cash prizes. Be part of the fun celebrating the heritage of Pennsylvania’s dynamic lumber heritage.
URL:https://www.visitpottertioga.com/event/bark-peelers-festival-3
LOCATION:Pennsylvania Lumber Museum\, 5660 US 6 West\, Ulysses\, PA\, 16948\, United States
ATTACH;FMTTYPE=image/jpeg:https://www.visitpottertioga.com/wp-content/uploads/2025/01/greased-log.jpg
END:VEVENT
END:VCALENDAR