BEGIN:VCALENDAR
VERSION:2.0
PRODID:-//Visit Potter-Tioga Pennsylvania - ECPv6.15.12.2//NONSGML v1.0//EN
CALSCALE:GREGORIAN
METHOD:PUBLISH
X-ORIGINAL-URL:https://www.visitpottertioga.com
X-WR-CALDESC:Events for Visit Potter-Tioga Pennsylvania
REFRESH-INTERVAL;VALUE=DURATION:PT1H
X-Robots-Tag:noindex
X-PUBLISHED-TTL:PT1H
BEGIN:VTIMEZONE
TZID:America/New_York
BEGIN:DAYLIGHT
TZOFFSETFROM:-0500
TZOFFSETTO:-0400
TZNAME:EDT
DTSTART:20250309T070000
END:DAYLIGHT
BEGIN:STANDARD
TZOFFSETFROM:-0400
TZOFFSETTO:-0500
TZNAME:EST
DTSTART:20251102T060000
END:STANDARD
BEGIN:DAYLIGHT
TZOFFSETFROM:-0500
TZOFFSETTO:-0400
TZNAME:EDT
DTSTART:20260308T070000
END:DAYLIGHT
BEGIN:STANDARD
TZOFFSETFROM:-0400
TZOFFSETTO:-0500
TZNAME:EST
DTSTART:20261101T060000
END:STANDARD
BEGIN:DAYLIGHT
TZOFFSETFROM:-0500
TZOFFSETTO:-0400
TZNAME:EDT
DTSTART:20270314T070000
END:DAYLIGHT
BEGIN:STANDARD
TZOFFSETFROM:-0400
TZOFFSETTO:-0500
TZNAME:EST
DTSTART:20271107T060000
END:STANDARD
END:VTIMEZONE
BEGIN:VEVENT
DTSTART;VALUE=DATE:20260717
DTEND;VALUE=DATE:20260803
DTSTAMP:20260423T133523
CREATED:20260218T163239Z
LAST-MODIFIED:20260218T163324Z
UID:10003535-1784246400-1785715199@www.visitpottertioga.com
SUMMARY:Endless Mountain Music Festival
DESCRIPTION:Get your tickets for this STAR-SPANGLED festival of great performances!\n\n\nThe annual Endless Mountain Music Festival brings the thrill of live music to audiences at a variety of venues across the region.  Whether you are interested in attending the full series\, or taking in individual performances\, the Endless Mountain Music Festival has options for you! Save with the Endless Mountain Music Festival 2026 Season Pass to see all performances or the Flex Pass to see any 6 shows! Individual show tickets are also available for purchase online or by calling the box office at (570) 787- 7800. Concerts advertised are subject to change. \n\nThe mission of the Endless Mountain Music Festival is to bring world-renowned musicians to the community of northern Pennsylvania and southern New York to enrich the cultural\, economic\, and educational life of the Twin Tiers region. For more information visit www.endlessmountain.net.
URL:https://www.visitpottertioga.com/event/endless-mountain-music-festival-3
LOCATION:Endless Mountain Music Festival\, Wellsboro\, PA\, 16901\, United States
CATEGORIES:General
ATTACH;FMTTYPE=image/jpeg:https://www.visitpottertioga.com/wp-content/uploads/2026/02/EMMF-2026.jpg
END:VEVENT
BEGIN:VEVENT
DTSTART;TZID=America/New_York:20260806T153000
DTEND;TZID=America/New_York:20260806T153000
DTSTAMP:20260423T133523
CREATED:20250205T144616Z
LAST-MODIFIED:20250205T145017Z
UID:10002816-1786030200-1786030200@www.visitpottertioga.com
SUMMARY:Pokemon Club
DESCRIPTION:Meet other fans at Pop’s Culture Shoppe in Wellsboro every Thursday at 3:30 pm who love to collect the cards and play Pokémon. \nLearn the basics\, improve your game\, and even play in tournaments with our Professor of Pokémon! Free! \nVisit the website or call Pop’s Culture Shoppe for details.
URL:https://www.visitpottertioga.com/event/pokemon-club/2026-08-06
LOCATION:Pop’s Culture Shoppe\, 25 Main Street\, Wellsboro\, PA\, United States
CATEGORIES:General
ATTACH;FMTTYPE=image/jpeg:https://www.visitpottertioga.com/wp-content/uploads/2025/02/461718773_1058335212968323_1394124823784416070_n.jpg
ORGANIZER;CN="Pop's Culture":MAILTO:info@popscultureshoppe.com
END:VEVENT
BEGIN:VEVENT
DTSTART;TZID=America/New_York:20260808T100000
DTEND;TZID=America/New_York:20260808T180000
DTSTAMP:20260423T133523
CREATED:20260114T153655Z
LAST-MODIFIED:20260114T153758Z
UID:10003522-1786183200-1786212000@www.visitpottertioga.com
SUMMARY:5th Annual Wellsboro Comic Con
DESCRIPTION:Wellsboro Comic Con Returns for a weekend of fun in the heart of historic downtown!\n\n\nAcross downtown at venues both indoors and outdoors – The Deane Center for the Performing Arts\, The Warehouse Theatre\, The Deane Center Lawn\, and Central Ave from Main St. to Water St. – this annual celebration of illustrated art returns for 2026 in a big way!   \nThe Wellsboro Comic Con will be held on Saturday\, August 9th from 10am – 6pm and will feature vendors\, exhibits\, entertainment and other scheduled activities for a day filled with fun. Wellsboro Comic Con is now FREE throughout all venues!   \nA premiere VIP package will be offered; check the website for details – Wellsboro Comic Con \n​ \n​
URL:https://www.visitpottertioga.com/event/5th-annual-wellsboro-comic-con
LOCATION:Various locations around Wellsboro
CATEGORIES:General
ATTACH;FMTTYPE=image/avif:https://www.visitpottertioga.com/wp-content/uploads/2025/04/WellsboroComicCon_Tagline_Logo_rgb.avif
ORGANIZER;CN="Pop's Culture":MAILTO:info@popscultureshoppe.com
END:VEVENT
END:VCALENDAR