BEGIN:VCALENDAR
VERSION:2.0
PRODID:-//Visit Potter-Tioga Pennsylvania - ECPv6.15.12.2//NONSGML v1.0//EN
CALSCALE:GREGORIAN
METHOD:PUBLISH
X-WR-CALNAME:Visit Potter-Tioga Pennsylvania
X-ORIGINAL-URL:https://www.visitpottertioga.com
X-WR-CALDESC:Events for Visit Potter-Tioga Pennsylvania
REFRESH-INTERVAL;VALUE=DURATION:PT1H
X-Robots-Tag:noindex
X-PUBLISHED-TTL:PT1H
BEGIN:VTIMEZONE
TZID:America/New_York
BEGIN:DAYLIGHT
TZOFFSETFROM:-0500
TZOFFSETTO:-0400
TZNAME:EDT
DTSTART:20240310T070000
END:DAYLIGHT
BEGIN:STANDARD
TZOFFSETFROM:-0400
TZOFFSETTO:-0500
TZNAME:EST
DTSTART:20241103T060000
END:STANDARD
BEGIN:DAYLIGHT
TZOFFSETFROM:-0500
TZOFFSETTO:-0400
TZNAME:EDT
DTSTART:20250309T070000
END:DAYLIGHT
BEGIN:STANDARD
TZOFFSETFROM:-0400
TZOFFSETTO:-0500
TZNAME:EST
DTSTART:20251102T060000
END:STANDARD
BEGIN:DAYLIGHT
TZOFFSETFROM:-0500
TZOFFSETTO:-0400
TZNAME:EDT
DTSTART:20260308T070000
END:DAYLIGHT
BEGIN:STANDARD
TZOFFSETFROM:-0400
TZOFFSETTO:-0500
TZNAME:EST
DTSTART:20261101T060000
END:STANDARD
END:VTIMEZONE
BEGIN:VEVENT
DTSTART;TZID=America/New_York:20251207T170000
DTEND;TZID=America/New_York:20251207T190000
DTSTAMP:20260422T042243
CREATED:20251112T160343Z
LAST-MODIFIED:20251112T160343Z
UID:10003475-1765126800-1765134000@www.visitpottertioga.com
SUMMARY:Dinner with Santa
DESCRIPTION:Bring your family and friends to join you for a magical evening at Harland’s Family Style Restaurant for a Dinner with Santa on Sunday\, December 7\, 2025\, from 5:00 PM -7:00 PM.\n\n\n\nCelebrate the season on this festive night where you will enjoy great food and holiday cheer.\n\nRemember…Great food and service are always on the menu at Harland’s!
URL:https://www.visitpottertioga.com/event/dinner-with-santa
LOCATION:Harland’s Family Style Restaurant\, 17 Pearl Street\, Wellsboro\, 18323\, United States
CATEGORIES:General
ATTACH;FMTTYPE=image/jpeg:https://www.visitpottertioga.com/wp-content/uploads/2025/11/harlands-santa.jpg
ORGANIZER;CN="Harland's Family Style Restaurant":MAILTO:https://www.facebook.com/HarlandsRestaurant
END:VEVENT
END:VCALENDAR