BEGIN:VCALENDAR
VERSION:2.0
PRODID:-//Visit Potter-Tioga Pennsylvania - ECPv6.15.12.2//NONSGML v1.0//EN
CALSCALE:GREGORIAN
METHOD:PUBLISH
X-ORIGINAL-URL:https://www.visitpottertioga.com
X-WR-CALDESC:Events for Visit Potter-Tioga Pennsylvania
REFRESH-INTERVAL;VALUE=DURATION:PT1H
X-Robots-Tag:noindex
X-PUBLISHED-TTL:PT1H
BEGIN:VTIMEZONE
TZID:America/New_York
BEGIN:DAYLIGHT
TZOFFSETFROM:-0500
TZOFFSETTO:-0400
TZNAME:EDT
DTSTART:20250309T070000
END:DAYLIGHT
BEGIN:STANDARD
TZOFFSETFROM:-0400
TZOFFSETTO:-0500
TZNAME:EST
DTSTART:20251102T060000
END:STANDARD
BEGIN:DAYLIGHT
TZOFFSETFROM:-0500
TZOFFSETTO:-0400
TZNAME:EDT
DTSTART:20260308T070000
END:DAYLIGHT
BEGIN:STANDARD
TZOFFSETFROM:-0400
TZOFFSETTO:-0500
TZNAME:EST
DTSTART:20261101T060000
END:STANDARD
BEGIN:DAYLIGHT
TZOFFSETFROM:-0500
TZOFFSETTO:-0400
TZNAME:EDT
DTSTART:20270314T070000
END:DAYLIGHT
BEGIN:STANDARD
TZOFFSETFROM:-0400
TZOFFSETTO:-0500
TZNAME:EST
DTSTART:20271107T060000
END:STANDARD
END:VTIMEZONE
BEGIN:VEVENT
DTSTART;TZID=America/New_York:20260213T193000
DTEND;TZID=America/New_York:20260213T213000
DTSTAMP:20260422T105211
CREATED:20260116T150839Z
LAST-MODIFIED:20260116T150839Z
UID:10003526-1771011000-1771018200@www.visitpottertioga.com
SUMMARY:Comedy to the Rescue Benefit - Deane Center
DESCRIPTION:Mark your calendar and head to the Deane Center for the Performing Arts in Wellsboro on Friday\, Feb. 13th at 7:30 pm when the Tioga County Cat Project presents “Comedy to the Rescue” featuring comedian Clay Foley.\n\n\nClay Foley is a former Humane Officer who now does stand-up comedy. Come on out for a night of laughter when this nationally known comedian takes to the stage to benefit a great cause.\n\n\nThere will be a cash bar available as well as raffle baskets and a 50-50 drawing. Don’t miss great evening of fun!\n\nProceeds will benefit the Tioga County Cat Project. Click on the provided link to order your tickets today –\n\n\nhttps://www.zeffy.com/en-US/ticketing/comedy-to-the-rescue .
URL:https://www.visitpottertioga.com/event/comedy-to-the-rescue-benefit-deane-center
LOCATION:Deane Center for the Performing Arts\, 104 Main Street\, Wellsboro\, PA\, 16901\, United States
CATEGORIES:General
ATTACH;FMTTYPE=image/jpeg:https://www.visitpottertioga.com/wp-content/uploads/2026/01/cat.jpg
ORGANIZER;CN="Tioga County Cat Project":MAILTO:iogacountycatproject@gmail.com
END:VEVENT
END:VCALENDAR