BEGIN:VCALENDAR
VERSION:2.0
PRODID:-//Visit Potter-Tioga Pennsylvania - ECPv6.15.12.2//NONSGML v1.0//EN
CALSCALE:GREGORIAN
METHOD:PUBLISH
X-WR-CALNAME:Visit Potter-Tioga Pennsylvania
X-ORIGINAL-URL:https://www.visitpottertioga.com
X-WR-CALDESC:Events for Visit Potter-Tioga Pennsylvania
REFRESH-INTERVAL;VALUE=DURATION:PT1H
X-Robots-Tag:noindex
X-PUBLISHED-TTL:PT1H
BEGIN:VTIMEZONE
TZID:America/New_York
BEGIN:DAYLIGHT
TZOFFSETFROM:-0500
TZOFFSETTO:-0400
TZNAME:EDT
DTSTART:20220313T070000
END:DAYLIGHT
BEGIN:STANDARD
TZOFFSETFROM:-0400
TZOFFSETTO:-0500
TZNAME:EST
DTSTART:20221106T060000
END:STANDARD
BEGIN:DAYLIGHT
TZOFFSETFROM:-0500
TZOFFSETTO:-0400
TZNAME:EDT
DTSTART:20230312T070000
END:DAYLIGHT
BEGIN:STANDARD
TZOFFSETFROM:-0400
TZOFFSETTO:-0500
TZNAME:EST
DTSTART:20231105T060000
END:STANDARD
BEGIN:DAYLIGHT
TZOFFSETFROM:-0500
TZOFFSETTO:-0400
TZNAME:EDT
DTSTART:20240310T070000
END:DAYLIGHT
BEGIN:STANDARD
TZOFFSETFROM:-0400
TZOFFSETTO:-0500
TZNAME:EST
DTSTART:20241103T060000
END:STANDARD
END:VTIMEZONE
BEGIN:VEVENT
DTSTART;TZID=America/New_York:20230615T160000
DTEND;TZID=America/New_York:20230615T180000
DTSTAMP:20260424T120517
CREATED:20230607T154814Z
LAST-MODIFIED:20230607T154919Z
UID:10000241-1686844800-1686852000@www.visitpottertioga.com
SUMMARY:EXPLORE BARBOUR ROCK TRAIL
DESCRIPTION:Thursday\, June 15\, everyone is invited to go on an excursion from 4 p.m. to 6 p.m. along Barbour Rock Trail to learn about botany and especially wildflowers of the Tioga State Forest\, and to see the Barbour Rock vista that overlooks the Pine Creek Gorge. This outing is free and open to the public.\n\n\nMeet at the Barbour Rock Trail parking area at 4 p.m.\n\n\nTo get there\, take U.S. Route 6 from either Galeton or Wellsboro. At the Burnin Barrel/Ansonia Valley Inn at 5440 Route 6\, turn off onto Colton Road and drive to the Barbour Rock Trail parking area\, which is not far from Colton Point State Park.\n\n\nThe Barbour Rock Trail is a wide\, flat\, packed gravel path accessible for people walking or using a wheelchair. It is located on the western rim of the Pennsylvania Grand Canyon in the Tioga State Forest and offers one\, if not the best and most easily accessible spots from which to view the canyon.\n\n\nParticipants will make their way from the parking area down Barbour Rock Trail to the vista and return to the parking area by 6 p.m. The total distance is 1.3 miles to the vista and back.\n\n\nDCNR and Hometown Science\, a local organization\, are sponsoring this adventure.\n\n\nLeading the program are Chris Firestone\, a botanist with the Pennsylvania Department of Conservation and Natural Resources Bureau of Forestry office in Wellsboro\, and Susan Schenck\, environmental education specialist with DCNR’s Hills Creek State Park Complex\, which includes nine state parks in Tioga and Potter counties.\n\n\nFirestone has been studying plants in wild and natural areas for many years.\n\n\nOnce on the trail\, participants will learn about local wildflowers\, trees and plants of the Tioga State Forest\, including Mountain Laurel (Kalmia latifolia)\, the Commonwealth’s state flower.\n\n\n“We are striving to make this an inclusive event accessible to all\, including individuals with impaired or limited mobility\,” said Schenck. Those who would like more information\, can contact her at Lyman Run State Park at sschenck@pa.gov or by calling 814-435-3580 any time prior to the June 15 event. Individuals needing an ASL interpreter are asked to contact her by this Thursday\, June 8.
URL:https://www.visitpottertioga.com/event/explore-barbour-rock-trail
LOCATION:Barbour Rock Trailhead
ATTACH;FMTTYPE=image/jpeg:https://www.visitpottertioga.com/wp-content/uploads/2023/06/barbour-rock-trail.jpg
END:VEVENT
END:VCALENDAR