BEGIN:VCALENDAR
VERSION:2.0
PRODID:-//Visit Potter-Tioga Pennsylvania - ECPv6.15.12.2//NONSGML v1.0//EN
CALSCALE:GREGORIAN
METHOD:PUBLISH
X-ORIGINAL-URL:https://www.visitpottertioga.com
X-WR-CALDESC:Events for Visit Potter-Tioga Pennsylvania
REFRESH-INTERVAL;VALUE=DURATION:PT1H
X-Robots-Tag:noindex
X-PUBLISHED-TTL:PT1H
BEGIN:VTIMEZONE
TZID:America/New_York
BEGIN:DAYLIGHT
TZOFFSETFROM:-0500
TZOFFSETTO:-0400
TZNAME:EDT
DTSTART:20220313T070000
END:DAYLIGHT
BEGIN:STANDARD
TZOFFSETFROM:-0400
TZOFFSETTO:-0500
TZNAME:EST
DTSTART:20221106T060000
END:STANDARD
BEGIN:DAYLIGHT
TZOFFSETFROM:-0500
TZOFFSETTO:-0400
TZNAME:EDT
DTSTART:20230312T070000
END:DAYLIGHT
BEGIN:STANDARD
TZOFFSETFROM:-0400
TZOFFSETTO:-0500
TZNAME:EST
DTSTART:20231105T060000
END:STANDARD
BEGIN:DAYLIGHT
TZOFFSETFROM:-0500
TZOFFSETTO:-0400
TZNAME:EDT
DTSTART:20240310T070000
END:DAYLIGHT
BEGIN:STANDARD
TZOFFSETFROM:-0400
TZOFFSETTO:-0500
TZNAME:EST
DTSTART:20241103T060000
END:STANDARD
BEGIN:DAYLIGHT
TZOFFSETFROM:-0500
TZOFFSETTO:-0400
TZNAME:EDT
DTSTART:20250309T070000
END:DAYLIGHT
BEGIN:STANDARD
TZOFFSETFROM:-0400
TZOFFSETTO:-0500
TZNAME:EST
DTSTART:20251102T060000
END:STANDARD
BEGIN:DAYLIGHT
TZOFFSETFROM:-0500
TZOFFSETTO:-0400
TZNAME:EDT
DTSTART:20260308T070000
END:DAYLIGHT
BEGIN:STANDARD
TZOFFSETFROM:-0400
TZOFFSETTO:-0500
TZNAME:EST
DTSTART:20261101T060000
END:STANDARD
END:VTIMEZONE
BEGIN:VEVENT
DTSTART;VALUE=DATE:20251010
DTEND;VALUE=DATE:20251013
DTSTAMP:20260420T143609
CREATED:20250923T164119Z
LAST-MODIFIED:20250923T164304Z
UID:10003421-1760054400-1760313599@www.visitpottertioga.com
SUMMARY:Tioga County Early Days
DESCRIPTION:Step back in time and celebrate the season as the annual Tioga County Early Days festival celebrates rural heritage and agricultural achievement in our region! \nOffering events\, demonstrations\, and things to experience for the adults and kids alike\, this event is a chance for the generations to come together to celebrate the contributions of our farming heritage . \nGates open at 8:00 a.m. Enjoy tractor pulls\, a tractor parade\, a full meal served\, barn quilt painting\, working demonstrations operating 1889 sawmill\, wood carver\, Cider Press\, Chicken BBQ\, Cake Walk and live music by Cowanesque Valley Boys & Kelly.  Free admission and parking. Fun for the entire family.
URL:https://www.visitpottertioga.com/event/tioga-county-early-days-2
LOCATION:Tioga County Fairgrounds\, 2258 Charleston Rd\, Wellsboro\, PA\, 16901\, United States
CATEGORIES:General
ATTACH;FMTTYPE=image/jpeg:https://www.visitpottertioga.com/wp-content/uploads/2025/09/early-days.jpg
ORGANIZER;CN="Tioga County Early Days":MAILTO:tiogacountyearlydays@yahoo.com
END:VEVENT
BEGIN:VEVENT
DTSTART;VALUE=DATE:20250804
DTEND;VALUE=DATE:20250810
DTSTAMP:20260420T143609
CREATED:20250415T154814Z
LAST-MODIFIED:20250415T154814Z
UID:10003083-1754265600-1754783999@www.visitpottertioga.com
SUMMARY:59th Annual Pennsylvania Tioga County Fair
DESCRIPTION:Summer Fair season across our region kicks off when the Tioga County Fair opens on August 4th! \nThe Pennsylvania Tioga County Fair has provided a place for our community to come together to celebrate local agriculture and talent since 1967. \n“Flourishing With Opportunity – Rooted In Agriculture” is once again the theme for when the 59th annual fair opens to the public celebrating the rich agricultural heritage and industry in the region.  Head to the fairgrounds just off Route 60 for a fun filled week packed with live entertainment\, games\, exhibits\, food\, vendors\, rides\, agricultural education\, and MORE! \nVisit the website to get the full schedule at www.tiogacountyfair.com. (Featured photo by Linda Stager) \n  \n 
URL:https://www.visitpottertioga.com/event/59th-annual-pennsylvania-tioga-county-fair
LOCATION:Tioga County Fairgrounds\, 2258 Charleston Rd\, Wellsboro\, PA\, 16901\, United States
CATEGORIES:General
ATTACH;FMTTYPE=image/webp:https://www.visitpottertioga.com/wp-content/uploads/2025/04/tioga-fair.webp
ORGANIZER;CN="Tioga County Fair":MAILTO:tiogacountyfair@yahoo.com
END:VEVENT
BEGIN:VEVENT
DTSTART;TZID=America/New_York:20241011T080000
DTEND;TZID=America/New_York:20241013T120000
DTSTAMP:20260420T143609
CREATED:20230919T155202Z
LAST-MODIFIED:20240319T182802Z
UID:10001418-1728633600-1728820800@www.visitpottertioga.com
SUMMARY:Tioga County Early Days
DESCRIPTION:Come and Enjoy the Tioga County Early Days featuring “International Farmall.”  Events for the adults and kids alike.  There will be a flea market all day on both day.  Gates open at 8:00 a.m. Enjoy tractor pulls\, a tractor parade\, a full meal served\, barn quilt painting\, working demonstrations operating 1889 saw mill\, wood carver\, Cider Press\, Chicken BBQ\, Cake Walk and live music by Cowanesque Valley Boys & Kelly.  Free admission and parking. Fun for the entire family.
URL:https://www.visitpottertioga.com/event/tioga-county-early-days
LOCATION:Tioga County Fairgrounds\, 2258 Charleston Rd\, Wellsboro\, PA\, 16901\, United States
ATTACH;FMTTYPE=image/jpeg:https://www.visitpottertioga.com/wp-content/uploads/2023/09/tioga-county-early-days-1.jpg
ORGANIZER;CN="Tioga County Early Days":MAILTO:tiogacountyearlydays@yahoo.com
END:VEVENT
BEGIN:VEVENT
DTSTART;VALUE=DATE:20240927
DTEND;VALUE=DATE:20240929
DTSTAMP:20260420T143609
CREATED:20240117T202849Z
LAST-MODIFIED:20240927T134757Z
UID:10001715-1727395200-1727567999@www.visitpottertioga.com
SUMMARY:Honey Harvest Festival and Educational Expo!
DESCRIPTION:Mark your calendars for the first annual Honey Harvest Festival!\n\nDay 1\, September 27\, 2024  is reserved for school aged youth and educators.\nThis day promises many educational and interactive experiences tailored to foster a deeper connection between young minds and the environment.\n\nDay 2\, September 28\, 2024 is Community Day.\n Enjoy a fun-filled day at the Honey Harvest Festival! Enjoy local vendors\, live honey extractions\, an apple cider press\, and educational booths. Whether you are looking for handcrafted treasures\, delicious local products\, or educational experiences\, there is something for everyone.\nThis day will have Food Vendors\, Education booths\, Master Classes\, Mead (only available September 28th) pollinators in the form of both trees and flowers for sale and so much more.\nFor more information\, visit https://www.thisismyquest.org/honeyharvestfestival
URL:https://www.visitpottertioga.com/event/honey-harvest-festival
LOCATION:Tioga County Fairgrounds\, 2258 Charleston Rd\, Wellsboro\, PA\, 16901\, United States
ATTACH;FMTTYPE=image/jpeg:https://www.visitpottertioga.com/wp-content/uploads/2024/01/honey-harvest-festival.jpg
ORGANIZER;CN="This Is My Quest Inc":MAILTO:thisismyquestinc@gmail.com
END:VEVENT
BEGIN:VEVENT
DTSTART;TZID=America/New_York:20240825T130000
DTEND;TZID=America/New_York:20240825T130000
DTSTAMP:20260420T143609
CREATED:20230717T181834Z
LAST-MODIFIED:20240820T164101Z
UID:10001105-1724590800-1724590800@www.visitpottertioga.com
SUMMARY:Demolition Derby
DESCRIPTION:SMASH THAT! The Pennsylvania Tioga County Fair invites you back to the grounds for our ANNUAL DEMO DERBY! As many of you know\, our county saw catastrophic flooding due to the tropical storm\, Debby. Although there’s a long road of recovery ahead\, the show must go on! Show up. Show out!\n\n$10 Track Admission 36″ and up. Under 36″ FREE. For those who won Demo Tickets (Friday or Saturday) you can still use them for entry!\n$30 Pit Passes!
URL:https://www.visitpottertioga.com/event/demolition-derby
LOCATION:Tioga County Fairgrounds\, 2258 Charleston Rd\, Wellsboro\, PA\, 16901\, United States
ATTACH;FMTTYPE=image/jpeg:https://www.visitpottertioga.com/wp-content/uploads/2023/07/demo-derby.jpg
END:VEVENT
BEGIN:VEVENT
DTSTART;TZID=America/New_York:20240809T183000
DTEND;TZID=America/New_York:20240809T183000
DTSTAMP:20260420T143609
CREATED:20240508T153514Z
LAST-MODIFIED:20240508T153514Z
UID:10002082-1723228200-1723228200@www.visitpottertioga.com
SUMMARY:Love and Theft in Concert
DESCRIPTION:TICKETS ON SALE May 1st! The Pennsylvania Tioga County Fair is beyond excited to share the stage with Love And Theft. Their hit songs “Runaway”\, “Angel Eyes”\, and “Better Off” will have you tapping your toes.\n$25 Reserved Seating$20 General Admission – standing room only*Tickets do not include the $8.00 gate admission required to enter fairgrounds.\n\nFor tickets\, visit https://tioga-county-fair.ticketleap.com/love-and-theft
URL:https://www.visitpottertioga.com/event/love-and-theft-in-concert
LOCATION:Tioga County Fairgrounds\, 2258 Charleston Rd\, Wellsboro\, PA\, 16901\, United States
ATTACH;FMTTYPE=image/jpeg:https://www.visitpottertioga.com/wp-content/uploads/2024/05/love-and-theft.jpg
END:VEVENT
BEGIN:VEVENT
DTSTART;TZID=America/New_York:20240807T140000
DTEND;TZID=America/New_York:20240807T140000
DTSTAMP:20260420T143609
CREATED:20240701T162346Z
LAST-MODIFIED:20240701T162346Z
UID:10002327-1723039200-1723039200@www.visitpottertioga.com
SUMMARY:Archery Competition - Aim for Impact
DESCRIPTION:Join us in our quest to grow the sport of archery in Tioga County.  Meet us at the fairgrounds for a fun and amazing competition.  Show off your skills and become the ultimate winner.  You won’t to miss you\, fun for all.
URL:https://www.visitpottertioga.com/event/archery-competition-aim-for-impact
LOCATION:Tioga County Fairgrounds\, 2258 Charleston Rd\, Wellsboro\, PA\, 16901\, United States
ATTACH;FMTTYPE=image/webp:https://www.visitpottertioga.com/wp-content/uploads/2024/07/aim-for-impact.webp
ORGANIZER;CN="This Is My Quest Inc":MAILTO:thisismyquestinc@gmail.com
END:VEVENT
BEGIN:VEVENT
DTSTART;TZID=America/New_York:20240807T140000
DTEND;TZID=America/New_York:20240807T140000
DTSTAMP:20260420T143609
CREATED:20240625T152309Z
LAST-MODIFIED:20240625T152309Z
UID:10002231-1723039200-1723039200@www.visitpottertioga.com
SUMMARY:Aim for Impact Archery Competition
DESCRIPTION:Join us at the Tioga County Fair for “Aim for Impact” archery competition at the Tioga County Fair on August 7th!\n\n\n\nOur goal is to grow and support archery by partnering with local archery shops and businesses. This event is designed for archers of all ages and skill levels\, providing a platform for both beginners and experienced competitors to showcase their skills in a 40-yard known yardage 3D line shoot.\n\n\n\nDon’t miss this exciting opportunity to connect with the archery community\, enjoy a day of competition\, and support local businesses.\n\n\n\nWhether you’re shooting arrows or cheering on participants\, your presence will help strengthen the sport in our area. Let’s pull together to make this event a bullseye for community and sport growth!\n\n\n\nYou can register here https://form.jotform.com/241055191339050 or find out more details at https://www.thisismyquest.org\n\n\n\n\n\n\n\nMark your calendars and spread the word! We can’t wait to see you there!
URL:https://www.visitpottertioga.com/event/aim-for-impact-archery-competition
LOCATION:Tioga County Fairgrounds\, 2258 Charleston Rd\, Wellsboro\, PA\, 16901\, United States
ATTACH;FMTTYPE=image/jpeg:https://www.visitpottertioga.com/wp-content/uploads/2024/06/this-is-my-quest-archery-comp.jpg
ORGANIZER;CN="This Is My Quest Inc":MAILTO:thisismyquestinc@gmail.com
END:VEVENT
BEGIN:VEVENT
DTSTART;TZID=America/New_York:20240805T190000
DTEND;TZID=America/New_York:20240805T230000
DTSTAMP:20260420T143609
CREATED:20240117T200617Z
LAST-MODIFIED:20240117T200911Z
UID:10001714-1722884400-1722898800@www.visitpottertioga.com
SUMMARY:KOI Drag Racing at The Tioga County Fairgrounds
DESCRIPTION:KOI Drag Racing will be at The Tioga County Pennsylvania Fair on Monday\, August 5th\, 2024 for side by side\, heads up drag racing. We will have classes for everything at this race.\nPractice and registration will start at 5:00 pm and eliminations will start at 7:00 pm. All classes are 100 percent payback. Classes are $10.00 each except Diesels\, Hot Gas and the open truck class. \nFor more information please go to www.koidragracing.com or call Lewis at 859-576-7380
URL:https://www.visitpottertioga.com/event/koi-drag-racing-at-the-tioga-county-fairgrounds
LOCATION:Tioga County Fairgrounds\, 2258 Charleston Rd\, Wellsboro\, PA\, 16901\, United States
ATTACH;FMTTYPE=image/jpeg:https://www.visitpottertioga.com/wp-content/uploads/2024/01/KOI-drag-racing.jpg
END:VEVENT
BEGIN:VEVENT
DTSTART;VALUE=DATE:20240805
DTEND;VALUE=DATE:20240811
DTSTAMP:20260420T143609
CREATED:20230609T175459Z
LAST-MODIFIED:20240812T131457Z
UID:10000639-1722816000-1723334399@www.visitpottertioga.com
SUMMARY:57th Pennsylvania Tioga County Fair
DESCRIPTION:“Flourishing With Opportunity – Rooted In Agriculture” is the theme for the 58th Annual Tioga County Fair. Join us for a fun filled week packed with live entertainment\, food\, vendors\, rides\, agricultural education\, displays and MORE!
URL:https://www.visitpottertioga.com/event/57th-pennsylvania-tioga-county-fair
LOCATION:Tioga County Fairgrounds\, 2258 Charleston Rd\, Wellsboro\, PA\, 16901\, United States
ATTACH;FMTTYPE=image/jpeg:https://www.visitpottertioga.com/wp-content/uploads/2023/06/tioga-county-fair.jpg
END:VEVENT
BEGIN:VEVENT
DTSTART;TZID=America/New_York:20240602T150000
DTEND;TZID=America/New_York:20240602T180000
DTSTAMP:20260420T143610
CREATED:20240507T154123Z
LAST-MODIFIED:20240507T154123Z
UID:10002076-1717340400-1717351200@www.visitpottertioga.com
SUMMARY:Tribute to the Stars Concert
DESCRIPTION:TRIBUTE TO THE STARS – SUNDAY JUNE 2ND\, 2024\nTICKET LINK: https://www.eventbrite.com/…/tribute-to-the-stars…\nOn Sunday June 2nd\, 2024\, Anjoli Productions\, Chris Eckert Music\, KC 101.5 Hometown Country\, and The Tioga County Fair are joining forces to present “A Tribute to the Stars” featuring:\n—–Jeff Krick\, Jr.’s Tribute to Elvis Presley—–Heather Olson’s Tribute to Patsy Cline—–Chris Eckert’s Tribute to Country Stars\nShowtime 3:00 PM / Doors 2:00 PM\nINSIDE at The Tioga County Fairgrounds\, 2258 Charleston Road\, Wellsboro PA\nTickets are $20.00 ahead of time / $25.00 at the door\nA portion of the proceeds benefits The Tioga County Fair. Be sure to join us for this special event!!!!
URL:https://www.visitpottertioga.com/event/tribute-to-the-stars-concert-2
LOCATION:Tioga County Fairgrounds\, 2258 Charleston Rd\, Wellsboro\, PA\, 16901\, United States
ATTACH;FMTTYPE=image/jpeg:https://www.visitpottertioga.com/wp-content/uploads/2024/05/tribute-to-the-stars.jpg
END:VEVENT
BEGIN:VEVENT
DTSTART;TZID=America/New_York:20240602T150000
DTEND;TZID=America/New_York:20240602T180000
DTSTAMP:20260420T143610
CREATED:20240503T152047Z
LAST-MODIFIED:20240503T152047Z
UID:10002054-1717340400-1717351200@www.visitpottertioga.com
SUMMARY:Tribute to the Stars Concert
DESCRIPTION:Join us for Jeff Krick\, Jr’s Tribute to Elvis\, Heather Olson’s Tribute to Patsy Cline\, and Chris Eckert’s Salute to Country Stars!!! \nTo purchase tickets\, visit https://www.eventbrite.com/e/tribute-to-the-stars-concert-june-2nd-wellsboro-pa-tickets-870790747567 \n 
URL:https://www.visitpottertioga.com/event/tribute-to-the-stars-concert
LOCATION:Tioga County Fairgrounds\, 2258 Charleston Rd\, Wellsboro\, PA\, 16901\, United States
ATTACH;FMTTYPE=image/jpeg:https://www.visitpottertioga.com/wp-content/uploads/2024/05/tribute-to-the-stars-concert.jpg
END:VEVENT
BEGIN:VEVENT
DTSTART;TZID=America/New_York:20240516T183000
DTEND;TZID=America/New_York:20240516T183000
DTSTAMP:20260420T143610
CREATED:20240507T152936Z
LAST-MODIFIED:20240507T152936Z
UID:10002074-1715884200-1715884200@www.visitpottertioga.com
SUMMARY:Lewis and Clark Circus
DESCRIPTION:Showtime for Wellsboro:Wed\, May 15@5:00 and 7:30Thurs\, May 16th @ 6:30\n☆☆☆☆☆☆☆☆☆☆☆☆☆90 min of Great Entertainment! First come first serve folding chairs. Amazing acts\, circus souvenirs\, fluffy cotton candy\, real circus atmosphere with smell of popcorn will bring you back to childhood! Fun and laughter for the whole family!~~~~Discount tickets on sale now at www.lewisclarkcircus.com. Or get $10 off the adult or kid ticket purchased at the gate
URL:https://www.visitpottertioga.com/event/lewis-and-clark-circus/2024-05-16
LOCATION:Tioga County Fairgrounds\, 2258 Charleston Rd\, Wellsboro\, PA\, 16901\, United States
ATTACH;FMTTYPE=image/jpeg:https://www.visitpottertioga.com/wp-content/uploads/2024/05/circus.jpg
END:VEVENT
BEGIN:VEVENT
DTSTART;TZID=America/New_York:20240515T193000
DTEND;TZID=America/New_York:20240515T193000
DTSTAMP:20260420T143610
CREATED:20240507T152936Z
LAST-MODIFIED:20240507T152936Z
UID:10002073-1715801400-1715801400@www.visitpottertioga.com
SUMMARY:Lewis and Clark Circus
DESCRIPTION:Showtime for Wellsboro:Wed\, May 15@5:00 and 7:30Thurs\, May 16th @ 6:30\n☆☆☆☆☆☆☆☆☆☆☆☆☆90 min of Great Entertainment! First come first serve folding chairs. Amazing acts\, circus souvenirs\, fluffy cotton candy\, real circus atmosphere with smell of popcorn will bring you back to childhood! Fun and laughter for the whole family!~~~~Discount tickets on sale now at www.lewisclarkcircus.com. Or get $10 off the adult or kid ticket purchased at the gate
URL:https://www.visitpottertioga.com/event/lewis-and-clark-circus/2024-05-15/2
LOCATION:Tioga County Fairgrounds\, 2258 Charleston Rd\, Wellsboro\, PA\, 16901\, United States
ATTACH;FMTTYPE=image/jpeg:https://www.visitpottertioga.com/wp-content/uploads/2024/05/circus.jpg
END:VEVENT
BEGIN:VEVENT
DTSTART;TZID=America/New_York:20240515T170000
DTEND;TZID=America/New_York:20240515T170000
DTSTAMP:20260420T143610
CREATED:20240507T152936Z
LAST-MODIFIED:20240507T152936Z
UID:10002072-1715792400-1715792400@www.visitpottertioga.com
SUMMARY:Lewis and Clark Circus
DESCRIPTION:Showtime for Wellsboro:Wed\, May 15@5:00 and 7:30Thurs\, May 16th @ 6:30\n☆☆☆☆☆☆☆☆☆☆☆☆☆90 min of Great Entertainment! First come first serve folding chairs. Amazing acts\, circus souvenirs\, fluffy cotton candy\, real circus atmosphere with smell of popcorn will bring you back to childhood! Fun and laughter for the whole family!~~~~Discount tickets on sale now at www.lewisclarkcircus.com. Or get $10 off the adult or kid ticket purchased at the gate
URL:https://www.visitpottertioga.com/event/lewis-and-clark-circus/2024-05-15/1
LOCATION:Tioga County Fairgrounds\, 2258 Charleston Rd\, Wellsboro\, PA\, 16901\, United States
ATTACH;FMTTYPE=image/jpeg:https://www.visitpottertioga.com/wp-content/uploads/2024/05/circus.jpg
END:VEVENT
BEGIN:VEVENT
DTSTART;TZID=America/New_York:20240203T193000
DTEND;TZID=America/New_York:20240203T223000
DTSTAMP:20260420T143610
CREATED:20240111T154016Z
LAST-MODIFIED:20240202T195811Z
UID:10001695-1706988600-1706999400@www.visitpottertioga.com
SUMMARY:CANCELLED -Square Dance at Pennsylvania Tioga County Fairgrounds - CANCELLED
DESCRIPTION:Update:  CANCELLED\n\nGet out of your seat and move your feet! Join us for a boot stomping good time at the Fair Grounds. No dance experience necessary. We’ll be happy to teach you. Dances are called by The McNett Country Band.\nAT DOOR:\n$8/person\n$14/couple\nFood and beverages available for purchase. Family friendly fun for all ages! Be there\, or be SQUARE!
URL:https://www.visitpottertioga.com/event/square-dance-at-pennsylvania-tioga-county-fairgrounds
LOCATION:Tioga County Fairgrounds\, 2258 Charleston Rd\, Wellsboro\, PA\, 16901\, United States
ATTACH;FMTTYPE=image/jpeg:https://www.visitpottertioga.com/wp-content/uploads/2024/01/square-dance.jpg
END:VEVENT
BEGIN:VEVENT
DTSTART;TZID=America/New_York:20231028T090000
DTEND;TZID=America/New_York:20231028T150000
DTSTAMP:20260420T143610
CREATED:20230919T161916Z
LAST-MODIFIED:20230919T161916Z
UID:10001420-1698483600-1698505200@www.visitpottertioga.com
SUMMARY:Tioga County Homeless Initiative's Event
DESCRIPTION:Tioga County Homeless Initiative Craft / Vendor Show.  October 28\, 2023 at the Tioga County Fair Grounds.  Open 9:00 am to 3:00 pm. Admission $1.00.  Lunch will be available.  Also\, there will be a  Silent auction\, Bake Sale\, Handmade crafts\, Gift Cards\, Direct Sales Crochet Hats\, Jewelry\, LuLaRoe\, and much more.
URL:https://www.visitpottertioga.com/event/tioga-county-homeless-initiatives-event
LOCATION:Tioga County Fairgrounds\, 2258 Charleston Rd\, Wellsboro\, PA\, 16901\, United States
ATTACH;FMTTYPE=image/jpeg:https://www.visitpottertioga.com/wp-content/uploads/2023/09/tc-homeless-initiative.jpg
END:VEVENT
BEGIN:VEVENT
DTSTART;TZID=America/New_York:20230921T170000
DTEND;TZID=America/New_York:20230921T170000
DTSTAMP:20260420T143610
CREATED:20230824T154412Z
LAST-MODIFIED:20230824T155428Z
UID:10001293-1695315600-1695315600@www.visitpottertioga.com
SUMMARY:2023 Friends of the NRA Banquet
DESCRIPTION:Join other champions of the Second Amendment for dinner\, games\, auctions\, and fun with a chance to win exclusive NRA guns\, gear\, décor\, and collectibles! \nDoors open at 5:00 p.m. \nDinner at 7:00 p.m.
URL:https://www.visitpottertioga.com/event/2023-friends-of-the-nra-banquet
LOCATION:Tioga County Fairgrounds\, 2258 Charleston Rd\, Wellsboro\, PA\, 16901\, United States
ATTACH;FMTTYPE=image/jpeg:https://www.visitpottertioga.com/wp-content/uploads/2023/08/friends-of-nra.jpg
END:VEVENT
BEGIN:VEVENT
DTSTART;TZID=America/New_York:20230811T180000
DTEND;TZID=America/New_York:20230811T180000
DTSTAMP:20260420T143610
CREATED:20230717T182554Z
LAST-MODIFIED:20230717T182554Z
UID:10001106-1691776800-1691776800@www.visitpottertioga.com
SUMMARY:Whey Jennings
DESCRIPTION:Whey Jennings performs a tribute show to his grandfather\, Waylon Jennings. Whey Jennings grew up in a family full of country music royalty. His grandfather\, the legendary Waylon Jennings and grandmother Jessi Cloter both had major success in the major music charts for decades. Jennings is a “rough around the edges\, unpolished singer” with a voice as big as Texas. \n​Jennings is the oldest son of his mother Katherine and father Terry Jennings. Whey has always had a deep love for music since the first time he stepped foot on stage. Whey was just a boy when\, at one of his grandfathers show\, Jessi Cloter left a microphone on a chair backstage after the performing “Storms Never Last”. Young Whey picked up the microphone and pranced out onto the stage and began singing “Mamma Don’t Let Your Babies Grow Up To Be Cowboys”. Whey’s grandpa Waylon shouted out “Hey hold up there Hoss…wait for me!” Waylon went to pickin’ and when the song was finished\, the crowd went nuts. It was on that day that Whey fell in love with music and as they say…the rest is history. \nTicket Sales OpenMonday\, May 1\, 2023$35 Front Row$30 Priority seating$25 General Admission(you must pay an additional $8.00 admission fee to enter the fairgrounds in addition to your concert ticket)
URL:https://www.visitpottertioga.com/event/whey-jennings
LOCATION:Tioga County Fairgrounds\, 2258 Charleston Rd\, Wellsboro\, PA\, 16901\, United States
ATTACH;FMTTYPE=image/webp:https://www.visitpottertioga.com/wp-content/uploads/2023/07/whey-jennings.webp
END:VEVENT
BEGIN:VEVENT
DTSTART;TZID=America/New_York:20230809T190000
DTEND;TZID=America/New_York:20230809T190000
DTSTAMP:20260420T143610
CREATED:20230717T175624Z
LAST-MODIFIED:20230717T175624Z
UID:10001104-1691607600-1691607600@www.visitpottertioga.com
SUMMARY:Talent Contest
DESCRIPTION:Do you have a talent to show off? $900 IN CASH PRIZES for the Pennsylvania Tioga County Fair Talent Contest. Register by Sunday\, August 6\, 2023 at tiogacountyfair.com\, or call 570-404-4529.
URL:https://www.visitpottertioga.com/event/talent-contest
LOCATION:Tioga County Fairgrounds\, 2258 Charleston Rd\, Wellsboro\, PA\, 16901\, United States
ATTACH;FMTTYPE=image/jpeg:https://www.visitpottertioga.com/wp-content/uploads/2023/07/Talent-Contest-at-Tioga-County-Fair.jpg
END:VEVENT
BEGIN:VEVENT
DTSTART;TZID=America/New_York:20230807T170000
DTEND;TZID=America/New_York:20230807T170000
DTSTAMP:20260420T143610
CREATED:20230609T180337Z
LAST-MODIFIED:20230807T192544Z
UID:10000642-1691427600-1691427600@www.visitpottertioga.com
SUMMARY:KOI Drag Racing at The Tioga County\, PA Fair - CANCELLED
DESCRIPTION:CANCELLED – KOI Drag Racing will be at The Tioga County Pennsylvania Fair on Monday\, August 7\, 2023 for side by side heads up drag racing.\nWe will have classes for everything at this race.\nPractice and registration will start at 5:00 pm and eliminations will start at 7:00 pm.\nClasses are $10.00 each except for diesels\, hot gas and open which are $20.00 each\, all classes are 100% payback.\nFor more information please go to www.koidragracing.com or call Lewis at 859-576-7380.\nThank you\, please share and we will see you at the races!!!!\nPARTICIPANTS PLEASE ENTER IN OFF WHITNEYVILLE ROAD
URL:https://www.visitpottertioga.com/event/koi-drag-racing-at-the-tioga-county-pa-fair
LOCATION:Tioga County Fairgrounds\, 2258 Charleston Rd\, Wellsboro\, PA\, 16901\, United States
ATTACH;FMTTYPE=image/jpeg:https://www.visitpottertioga.com/wp-content/uploads/2023/06/koi-drag-racing-600x400-1.jpg
END:VEVENT
BEGIN:VEVENT
DTSTART;TZID=America/New_York:20230627T090000
DTEND;TZID=America/New_York:20230630T150000
DTSTAMP:20260420T143610
CREATED:20230602T184006Z
LAST-MODIFIED:20230602T184006Z
UID:10000224-1687856400-1688137200@www.visitpottertioga.com
SUMMARY:HAMILTON-GIBSON’S FREE SUMMER THEATRE ARTS CAMP – REGISTER BY JUNE 9TH
DESCRIPTION:Youth completing the fourth through ninth grades in June can register now for Hamilton-Gibson’s Summer Theatre Arts Camp being held at the Tioga County Fairgrounds in Whitneyville. “We need to know how many youth are going to participate by Friday\, June 9 so we can order enough camp T-shirts and prepare scripts and other materials to give to each camper on Monday\, June 26\, the first day of camp\,” said Thomas Putnam\, Hamilton-Gibson’s artistic director. The HG camp is free and open to those that want to participate no matter where they live and no matter whether they are homeschooled or attend public or private school. The five-day camp at Whitneyville will be from 9am to 3pm Monday through Friday\, June 26\, 27\, 28\, 29 and 30. The last day of camp on June 30 will be a regular day with the addition of two public performances at 3pm and 6:30pm in the Tioga County Youth Center building at the fairgrounds. The jam-packed week will offer campers opportunities to hone their skills in acting\, singing and dance through a variety of workshops provided by the staff and guest artists. Bus transportation is provided free. “Routes and times will be determined after we have received the registrations\,” Putnam said. Campers will be picked up and taken to Whitneyville and then returned to their pickup sites each day after camp. The only exception will be on Friday\, June 30. That day\, the campers will be picked up but parents will be responsible for taking their campers home after the 6:30pm performance. “With the success of ‘Tales of Tioga’ in 2021 and ‘Shakin’ Up Shakespeare’ in 2022\, we were able to create something wonderful\, including friendships\,” Putnam said. “That’s why we are doing a similar production this summer.” To register for the camp\, download the 2023 Summer Theatre Arts Camp flyer and application by visiting the Hamilton-Gibson website at www.hamiltongibson.org and clicking on “Enrichment”\, then on “For Kids” then “Camps” and then scroll down to the button tagged “Click Here for Application.” Complete and send the application to: Attention: Theatre Arts Camp\, Hamilton-Gibson Productions\, 29 Water Street\, Wellsboro\, PA 16901. For more information about the camp\, transportation or for answers to any other questions\, call 570-724-2079 or email hamgib@gmail.com.
URL:https://www.visitpottertioga.com/event/hamilton-gibsons-free-summer-theatre-arts-camp-register-by-june-9th
LOCATION:Tioga County Fairgrounds\, 2258 Charleston Rd\, Wellsboro\, PA\, 16901\, United States
ATTACH;FMTTYPE=image/png:https://www.visitpottertioga.com/wp-content/uploads/2023/06/camp-logo-01.png
END:VEVENT
END:VCALENDAR