BEGIN:VCALENDAR
VERSION:2.0
PRODID:-//Visit Potter-Tioga Pennsylvania - ECPv6.15.12.2//NONSGML v1.0//EN
CALSCALE:GREGORIAN
METHOD:PUBLISH
X-ORIGINAL-URL:https://www.visitpottertioga.com
X-WR-CALDESC:Events for Visit Potter-Tioga Pennsylvania
REFRESH-INTERVAL;VALUE=DURATION:PT1H
X-Robots-Tag:noindex
X-PUBLISHED-TTL:PT1H
BEGIN:VTIMEZONE
TZID:America/New_York
BEGIN:DAYLIGHT
TZOFFSETFROM:-0500
TZOFFSETTO:-0400
TZNAME:EDT
DTSTART:20220313T070000
END:DAYLIGHT
BEGIN:STANDARD
TZOFFSETFROM:-0400
TZOFFSETTO:-0500
TZNAME:EST
DTSTART:20221106T060000
END:STANDARD
BEGIN:DAYLIGHT
TZOFFSETFROM:-0500
TZOFFSETTO:-0400
TZNAME:EDT
DTSTART:20230312T070000
END:DAYLIGHT
BEGIN:STANDARD
TZOFFSETFROM:-0400
TZOFFSETTO:-0500
TZNAME:EST
DTSTART:20231105T060000
END:STANDARD
BEGIN:DAYLIGHT
TZOFFSETFROM:-0500
TZOFFSETTO:-0400
TZNAME:EDT
DTSTART:20240310T070000
END:DAYLIGHT
BEGIN:STANDARD
TZOFFSETFROM:-0400
TZOFFSETTO:-0500
TZNAME:EST
DTSTART:20241103T060000
END:STANDARD
BEGIN:DAYLIGHT
TZOFFSETFROM:-0500
TZOFFSETTO:-0400
TZNAME:EDT
DTSTART:20250309T070000
END:DAYLIGHT
BEGIN:STANDARD
TZOFFSETFROM:-0400
TZOFFSETTO:-0500
TZNAME:EST
DTSTART:20251102T060000
END:STANDARD
END:VTIMEZONE
BEGIN:VEVENT
DTSTART;TZID=America/New_York:20240130T180000
DTEND;TZID=America/New_York:20240130T184500
DTSTAMP:20260415T061832
CREATED:20240112T165407Z
LAST-MODIFIED:20240112T165407Z
UID:10001703-1706637600-1706640300@www.visitpottertioga.com
SUMMARY:Virtual Program:  Night Skies Through the Seasons - Winter and Early Spring
DESCRIPTION:What’s in the night sky this time of year? Let’s find out! We’ll go over prominent planets\, stars\, constellations and more. \nThe presentation focuses on the night sky objects visible for the month during February/March 2024 and is designed for first-time or novice stargazers. \nAfter registering\, you will receive an email with the link to join the program. This presentation is best viewed on a desktop or larger tablet. \n*Note: This program does NOT take place at the park
URL:https://www.visitpottertioga.com/event/virtual-program-night-skies-through-the-seasons-winter-and-early-spring/2024-01-30/2
LOCATION:Virtual
ATTACH;FMTTYPE=image/jpeg:https://www.visitpottertioga.com/wp-content/uploads/2024/01/night-skies-through-the-seasons.jpg
END:VEVENT
BEGIN:VEVENT
DTSTART;TZID=America/New_York:20240130T120000
DTEND;TZID=America/New_York:20240130T124500
DTSTAMP:20260415T061832
CREATED:20240112T165407Z
LAST-MODIFIED:20240112T165407Z
UID:10001702-1706616000-1706618700@www.visitpottertioga.com
SUMMARY:Virtual Program:  Night Skies Through the Seasons - Winter and Early Spring
DESCRIPTION:What’s in the night sky this time of year? Let’s find out! We’ll go over prominent planets\, stars\, constellations and more. \nThe presentation focuses on the night sky objects visible for the month during February/March 2024 and is designed for first-time or novice stargazers. \nAfter registering\, you will receive an email with the link to join the program. This presentation is best viewed on a desktop or larger tablet. \n*Note: This program does NOT take place at the park
URL:https://www.visitpottertioga.com/event/virtual-program-night-skies-through-the-seasons-winter-and-early-spring/2024-01-30/1
LOCATION:Virtual
ATTACH;FMTTYPE=image/jpeg:https://www.visitpottertioga.com/wp-content/uploads/2024/01/night-skies-through-the-seasons.jpg
END:VEVENT
BEGIN:VEVENT
DTSTART;TZID=America/New_York:20240111T180000
DTEND;TZID=America/New_York:20240111T184500
DTSTAMP:20260415T061832
CREATED:20240108T203613Z
LAST-MODIFIED:20240108T203613Z
UID:10001685-1704996000-1704998700@www.visitpottertioga.com
SUMMARY:Virtual:  Know Before You Go - Stargazing
DESCRIPTION:Learn what you need to know before you visit Cherry Springs State Park in Winter! This program will cover how to plan an evening stargazing\, what parts of the park to visit\, places to stay\, and what to expect when you get here. \nThis program is designed for first-time or novice stargazers\, looking to visit the park from November – April. \nAfter registering\, you will receive an email with the link to join the program. This presentation is best viewed on a desktop or larger tablet. \n*Note: This program does NOT take place at the park.
URL:https://www.visitpottertioga.com/event/virtual-know-before-you-go-stargazing/2024-01-11/2
LOCATION:Virtual
ATTACH;FMTTYPE=image/jpeg:https://www.visitpottertioga.com/wp-content/uploads/2023/06/dark-sky-telescope-Cherry-Springs-State-Park-Coudersport-PA.jpg
END:VEVENT
BEGIN:VEVENT
DTSTART;TZID=America/New_York:20240111T120000
DTEND;TZID=America/New_York:20240111T124500
DTSTAMP:20260415T061832
CREATED:20240108T203613Z
LAST-MODIFIED:20240108T203613Z
UID:10001684-1704974400-1704977100@www.visitpottertioga.com
SUMMARY:Virtual:  Know Before You Go - Stargazing
DESCRIPTION:Learn what you need to know before you visit Cherry Springs State Park in Winter! This program will cover how to plan an evening stargazing\, what parts of the park to visit\, places to stay\, and what to expect when you get here. \nThis program is designed for first-time or novice stargazers\, looking to visit the park from November – April. \nAfter registering\, you will receive an email with the link to join the program. This presentation is best viewed on a desktop or larger tablet. \n*Note: This program does NOT take place at the park.
URL:https://www.visitpottertioga.com/event/virtual-know-before-you-go-stargazing/2024-01-11/1
LOCATION:Virtual
ATTACH;FMTTYPE=image/jpeg:https://www.visitpottertioga.com/wp-content/uploads/2023/06/dark-sky-telescope-Cherry-Springs-State-Park-Coudersport-PA.jpg
END:VEVENT
BEGIN:VEVENT
DTSTART;TZID=America/New_York:20231025T120000
DTEND;TZID=America/New_York:20231025T123000
DTSTAMP:20260415T061832
CREATED:20230912T160355Z
LAST-MODIFIED:20230912T160355Z
UID:10001332-1698235200-1698237000@www.visitpottertioga.com
SUMMARY:Virtual: Canyon Fall Foliage Update
DESCRIPTION:NOTICE: This is an online virtual program and does not take place at the park. \nPlanning a visit to the Pennsylvania Grand Canyon this fall? Not sure when the best fall colors may occur? Join Leonard Harrison State Park Naturalist Bob Edkin weekly from September 28th until October 25th for a brief update on the fall colors of the PA Grand Canyon. This virtual program will last approximately 30 minutes and will inform prospective visitors on the current status of the fall foliage at Leonard Harrison and Colton Point State Parks. \nTo register for this program\, please click the green register button to the right. After registering\, you will receive an email with the link to join the program. This program will be presented using microsoft teams. This presentation is best viewed on a desktop or larger tablet. \nProgram subject to change\, further restrictions\, or cancellation at any time without warning.
URL:https://www.visitpottertioga.com/event/virtual-canyon-fall-foliage-update/2023-10-25
LOCATION:Virtual
ATTACH;FMTTYPE=image/jpeg:https://www.visitpottertioga.com/wp-content/uploads/2023/09/leonard-harrison-state-park.jpg
END:VEVENT
BEGIN:VEVENT
DTSTART;TZID=America/New_York:20231018T120000
DTEND;TZID=America/New_York:20231018T123000
DTSTAMP:20260415T061832
CREATED:20230912T160355Z
LAST-MODIFIED:20230912T160355Z
UID:10001331-1697630400-1697632200@www.visitpottertioga.com
SUMMARY:Virtual: Canyon Fall Foliage Update
DESCRIPTION:NOTICE: This is an online virtual program and does not take place at the park. \nPlanning a visit to the Pennsylvania Grand Canyon this fall? Not sure when the best fall colors may occur? Join Leonard Harrison State Park Naturalist Bob Edkin weekly from September 28th until October 25th for a brief update on the fall colors of the PA Grand Canyon. This virtual program will last approximately 30 minutes and will inform prospective visitors on the current status of the fall foliage at Leonard Harrison and Colton Point State Parks. \nTo register for this program\, please click the green register button to the right. After registering\, you will receive an email with the link to join the program. This program will be presented using microsoft teams. This presentation is best viewed on a desktop or larger tablet. \nProgram subject to change\, further restrictions\, or cancellation at any time without warning.
URL:https://www.visitpottertioga.com/event/virtual-canyon-fall-foliage-update/2023-10-18
LOCATION:Virtual
ATTACH;FMTTYPE=image/jpeg:https://www.visitpottertioga.com/wp-content/uploads/2023/09/leonard-harrison-state-park.jpg
END:VEVENT
BEGIN:VEVENT
DTSTART;TZID=America/New_York:20231012T120000
DTEND;TZID=America/New_York:20231012T123000
DTSTAMP:20260415T061832
CREATED:20230912T160355Z
LAST-MODIFIED:20230912T160355Z
UID:10001330-1697112000-1697113800@www.visitpottertioga.com
SUMMARY:Virtual: Canyon Fall Foliage Update
DESCRIPTION:NOTICE: This is an online virtual program and does not take place at the park. \nPlanning a visit to the Pennsylvania Grand Canyon this fall? Not sure when the best fall colors may occur? Join Leonard Harrison State Park Naturalist Bob Edkin weekly from September 28th until October 25th for a brief update on the fall colors of the PA Grand Canyon. This virtual program will last approximately 30 minutes and will inform prospective visitors on the current status of the fall foliage at Leonard Harrison and Colton Point State Parks. \nTo register for this program\, please click the green register button to the right. After registering\, you will receive an email with the link to join the program. This program will be presented using microsoft teams. This presentation is best viewed on a desktop or larger tablet. \nProgram subject to change\, further restrictions\, or cancellation at any time without warning.
URL:https://www.visitpottertioga.com/event/virtual-canyon-fall-foliage-update/2023-10-12
LOCATION:Virtual
ATTACH;FMTTYPE=image/jpeg:https://www.visitpottertioga.com/wp-content/uploads/2023/09/leonard-harrison-state-park.jpg
END:VEVENT
BEGIN:VEVENT
DTSTART;TZID=America/New_York:20231004T120000
DTEND;TZID=America/New_York:20231004T123000
DTSTAMP:20260415T061832
CREATED:20230912T160355Z
LAST-MODIFIED:20230912T160355Z
UID:10001329-1696420800-1696422600@www.visitpottertioga.com
SUMMARY:Virtual: Canyon Fall Foliage Update
DESCRIPTION:NOTICE: This is an online virtual program and does not take place at the park. \nPlanning a visit to the Pennsylvania Grand Canyon this fall? Not sure when the best fall colors may occur? Join Leonard Harrison State Park Naturalist Bob Edkin weekly from September 28th until October 25th for a brief update on the fall colors of the PA Grand Canyon. This virtual program will last approximately 30 minutes and will inform prospective visitors on the current status of the fall foliage at Leonard Harrison and Colton Point State Parks. \nTo register for this program\, please click the green register button to the right. After registering\, you will receive an email with the link to join the program. This program will be presented using microsoft teams. This presentation is best viewed on a desktop or larger tablet. \nProgram subject to change\, further restrictions\, or cancellation at any time without warning.
URL:https://www.visitpottertioga.com/event/virtual-canyon-fall-foliage-update/2023-10-04
LOCATION:Virtual
ATTACH;FMTTYPE=image/jpeg:https://www.visitpottertioga.com/wp-content/uploads/2023/09/leonard-harrison-state-park.jpg
END:VEVENT
BEGIN:VEVENT
DTSTART;TZID=America/New_York:20230928T120000
DTEND;TZID=America/New_York:20230928T123000
DTSTAMP:20260415T061832
CREATED:20230912T160355Z
LAST-MODIFIED:20230912T160355Z
UID:10001328-1695902400-1695904200@www.visitpottertioga.com
SUMMARY:Virtual: Canyon Fall Foliage Update
DESCRIPTION:NOTICE: This is an online virtual program and does not take place at the park. \nPlanning a visit to the Pennsylvania Grand Canyon this fall? Not sure when the best fall colors may occur? Join Leonard Harrison State Park Naturalist Bob Edkin weekly from September 28th until October 25th for a brief update on the fall colors of the PA Grand Canyon. This virtual program will last approximately 30 minutes and will inform prospective visitors on the current status of the fall foliage at Leonard Harrison and Colton Point State Parks. \nTo register for this program\, please click the green register button to the right. After registering\, you will receive an email with the link to join the program. This program will be presented using microsoft teams. This presentation is best viewed on a desktop or larger tablet. \nProgram subject to change\, further restrictions\, or cancellation at any time without warning.
URL:https://www.visitpottertioga.com/event/virtual-canyon-fall-foliage-update/2023-09-28
LOCATION:Virtual
ATTACH;FMTTYPE=image/jpeg:https://www.visitpottertioga.com/wp-content/uploads/2023/09/leonard-harrison-state-park.jpg
END:VEVENT
END:VCALENDAR